BEGIN:VCALENDAR
VERSION:2.0
PRODID:-//Association cantonale genevoise de tchoukball - ECPv6.15.20//NONSGML v1.0//EN
CALSCALE:GREGORIAN
METHOD:PUBLISH
X-WR-CALNAME:Association cantonale genevoise de tchoukball
X-ORIGINAL-URL:https://tchoukballgeneve.ch
X-WR-CALDESC:Évènements pour Association cantonale genevoise de tchoukball
REFRESH-INTERVAL;VALUE=DURATION:PT1H
X-Robots-Tag:noindex
X-PUBLISHED-TTL:PT1H
BEGIN:VTIMEZONE
TZID:Europe/Zurich
BEGIN:DAYLIGHT
TZOFFSETFROM:+0100
TZOFFSETTO:+0200
TZNAME:CEST
DTSTART:20220327T010000
END:DAYLIGHT
BEGIN:STANDARD
TZOFFSETFROM:+0200
TZOFFSETTO:+0100
TZNAME:CET
DTSTART:20221030T010000
END:STANDARD
BEGIN:DAYLIGHT
TZOFFSETFROM:+0100
TZOFFSETTO:+0200
TZNAME:CEST
DTSTART:20230326T010000
END:DAYLIGHT
BEGIN:STANDARD
TZOFFSETFROM:+0200
TZOFFSETTO:+0100
TZNAME:CET
DTSTART:20231029T010000
END:STANDARD
BEGIN:DAYLIGHT
TZOFFSETFROM:+0100
TZOFFSETTO:+0200
TZNAME:CEST
DTSTART:20240331T010000
END:DAYLIGHT
BEGIN:STANDARD
TZOFFSETFROM:+0200
TZOFFSETTO:+0100
TZNAME:CET
DTSTART:20241027T010000
END:STANDARD
END:VTIMEZONE
BEGIN:VEVENT
DTSTART;VALUE=DATE:20230907
DTEND;VALUE=DATE:20230911
DTSTAMP:20260423T061628
CREATED:20230503T170315Z
LAST-MODIFIED:20250610T081400Z
UID:12968-1694044800-1694390399@tchoukballgeneve.ch
SUMMARY:Sahara Beach Tchoukball Festival - Tunisie
DESCRIPTION:Sahara Beach Tchoukball Festival  – 3e edition du 8 au 9 septembre 2023 – délai d’inscription: 31 mai 2023\nL’ACGT a le plaisir de vous proposer la participation au Sahara Beach Tchoukball Festival\, qui se déroule le vendredi 8 et le samedi 9 septembre 2023. Le voyage de notre délégation se fera du 7 au 10 septembre 2023. \nNous prévoyons d’inscrire des équipes dans les catégories suivantes: – M16 – M18 – Open – Elite \nLe tournoi se joue sur la plage de l’hôtel Sahara Beach Resort\, à Monastir (Tunisie)\, hotel all-inclusive\, dans lequel nous serons hérbergés. \nToutes les informations sur le voyage et sur le processus d’inscription sont disponibles dans le document d’information. Voici le lien oxiform pour l’inscription. Merci de bien lire le document avec tous les détails avant de remplire le formulaire d’inscription. \nLe délai d’inscription est fixé au 31 mai 2023.
URL:https://tchoukballgeneve.ch/event/sahara-beach-tchoukball-festival-tunisie/
LOCATION:Monastir – Tunisie\, Monastir\, Tunisie
CATEGORIES:Clubs,Tournois
ATTACH;FMTTYPE=image/webp:https://tchoukballgeneve.ch/wp-content/uploads/2023/05/sahara-event-1-scaled-1.webp
END:VEVENT
BEGIN:VEVENT
DTSTART;VALUE=DATE:20230915
DTEND;VALUE=DATE:20230918
DTSTAMP:20260423T061628
CREATED:20220718T124606Z
LAST-MODIFIED:20250610T080931Z
UID:10501-1694736000-1694995199@tchoukballgeneve.ch
SUMMARY:Formation J+S COURS MONITEUR 2023 - 1ER WEEK-END
DESCRIPTION:Le cours moniteur J+S forme les participants à devenir moniteur J+S. \nPlus de détails et informations sur le site web de Jeunesse & Sport. \nPour l’inscirption\, merci de prendre contacte avec vos responsables de clubs et coach J+S.
URL:https://tchoukballgeneve.ch/event/js-cours-moniteur-2023-1er-week-end/
CATEGORIES:Clubs,Formation
ATTACH;FMTTYPE=image/webp:https://tchoukballgeneve.ch/wp-content/uploads/2023/01/camp-image-1.webp
END:VEVENT
BEGIN:VEVENT
DTSTART;VALUE=DATE:20230916
DTEND;VALUE=DATE:20230918
DTSTAMP:20260423T061628
CREATED:20230508T134614Z
LAST-MODIFIED:20250610T081404Z
UID:13036-1694822400-1694995199@tchoukballgeneve.ch
SUMMARY:Formation J+S Formation d’aide moniteur/monitrice  – Coach 14-18 de Jeunesse et Sport
DESCRIPTION:Formation officielle de « Jeunesse et Sport » qui se déroule sur un weekend\, le 16-17 septembre 2023 à Genève. \n– Pendant ses 2 jours tu recevras de tas de conseils et d’idées sur la manière de transmettre tes compétences et connaissances à la future génération de tchoukeurs et tchoukeuses. \n– A la fin de cette formation\, tu recevras une attestation officielle de participation et tu auras en main tout plein d’info pour mieux arriver assumer si tu le souhaites un rôle « d’aide moniteur/monitrice » de tchoukball. \n– Tu trouveras sur ce lien des informations complémentaire au sujet de cette formation : https://www.ge.ch/dossier/geneve-soutient-sport-athletes/acces-formation/formation-1418-coach \n  \n-> Le club prend en charge les frais d’inscriptions\, tu n’as rien à payer pour y participer.
URL:https://tchoukballgeneve.ch/event/formation-js-formation-daide-moniteur-monitrice-coach-14-18-de-jeunesse-et-sport/
LOCATION:Genève\, Suisse
CATEGORIES:Activités,Formation
ATTACH;FMTTYPE=image/webp:https://tchoukballgeneve.ch/wp-content/uploads/2023/05/mono-1.webp
END:VEVENT
BEGIN:VEVENT
DTSTART;VALUE=DATE:20230918
DTEND;VALUE=DATE:20230919
DTSTAMP:20260423T061628
CREATED:20230822T151443Z
LAST-MODIFIED:20250610T081416Z
UID:13658-1694995200-1695081599@tchoukballgeneve.ch
SUMMARY:Formation d’arbitre III
DESCRIPTION:Nouvelle formation d’arbitre\, pour les personnes\, dès la catégorie M14\, qui souhaitent arbitrer les matchs de la ligue régionale genevoise de tchoukball. \nLa formation est composée de 2 parties : \n\nCours théorique du 18 septembre\nVisionnement pratique sur un match du championnat régionale genevois.\n\nPlus d’information et inscription via ce document.
URL:https://tchoukballgeneve.ch/event/formation-darbitre-iii/
LOCATION:Centre sportif du Bois-des-Frères\, Chem. de l'Ecu 22\, Vernier\, 1219\, Suisse
CATEGORIES:Activités,Formation
ATTACH;FMTTYPE=image/webp:https://tchoukballgeneve.ch/wp-content/uploads/2023/05/arbitres-2048x1365-1.webp
END:VEVENT
BEGIN:VEVENT
DTSTART;TZID=Europe/Zurich:20230923T090000
DTEND;TZID=Europe/Zurich:20230923T120000
DTSTAMP:20260423T061628
CREATED:20230830T104937Z
LAST-MODIFIED:20250610T081424Z
UID:13813-1695459600-1695470400@tchoukballgeneve.ch
SUMMARY:Tournoi de préparation au CHAMPIONNAT GENEVOIS JUNIOR M8\,M10
DESCRIPTION:HORAIRES JUNIOR M8\, M10 \nMatinée (~9h-12h) \nLien vers l’inscription\nINSCRIPTIONS CONFIRMÉES\nCatégorie M8 \n\n\n    \n        \n\n    \n        \n        \n        \n\n\n                            wdt_ID                Entraînement                Entraîneur                Participant/e                Participant/e                Participant/e                Participant/e                Participant/e                Participant/e                Participant/e                Participan/t                Participant/e    \n\n        \n\n        \n        \n\n\n\n    \n        \n            \n            \n            \n        \n                    \n                \n                \n                \n            \n                    \n                \n                \n                \n            \n                    \n                \n                \n                \n            \n                    \n                \n                \n                \n            \n                    \n                \n                \n                \n            \n                    \n                \n                \n                \n            \n                    \n                \n                \n                \n            \n                    \n                \n                \n                \n            \n                    \n                \n                \n                \n            \n            \n\n                    \n                            50\n                            Trembley\n                            Amin \n                            Lucca B.\n                            Edward H.\n                            \n                            \n                            \n                            \n                            \n                            \n                            \n                    \n                            \n                            51\n                            Mail\n                            William \n                            Noam F.\n                            Cesar C.\n                            Thayé Jorden K.\n                            Alberto R.\n                            Jules V.\n                            Ayhan H.\n                            Ada H.\n                            \n                            \n                    \n                            \n                            52\n                            C.O Budé\n                            Romane \n                            Jules R.\n                            \n                            \n                            \n                            \n                            \n                            \n                            \n                            \n                    \n                            \n                            53\n                            Cayla\n                            Basma\n                            Adrien G.\n                            Raphaël M.\n                            Mathis F.\n                            Nolan N.\n                            Mattia C.\n                            \n                            \n                            \n                            \n                    \n                            \n                            54\n                            Vollandes\n                            Erika \n                            Nicolò D.\n                            \n                            \n                            \n                            \n                            \n                            \n                            \n                            \n                    \n                            \n                            56\n                            Emilie de Morsier\n                            Cédric\n                            Dylan M\n                            Camille U.\n                            \n                            \n                            \n                            \n                            \n                            \n                            \n                    \n                            \n                            58\n                            Etang\n                            Erika\n                            Matei\n                            \n                            \n                            \n                            \n                            \n                            \n                            \n                            \n                    \n                            \n                            57\n                            Vernier\n                            Unai\n                            Patricia M.\n                            Mayline D.\n                            \n                            \n                            \n                            \n                            \n                            \n                            \n                    \n                    \n\n        \n        \n        \n    \n\n\n\n\n\n\nCatégorie M10 \n\n\n    \n        \n\n    \n        \n        \n        \n\n\n                            wdt_ID                Entraînement                Entraîneur                Participant/e                Participant/e                Participant/e                Participant/e                Participant/e                Participant/e                Participant/e    \n\n        \n\n        \n        \n\n\n\n    \n        \n            \n            \n            \n        \n                    \n                \n                \n                \n            \n                    \n                \n                \n                \n            \n                    \n                \n                \n                \n            \n                    \n                \n                \n                \n            \n                    \n                \n                \n                \n            \n                    \n                \n                \n                \n            \n                    \n                \n                \n                \n            \n                    \n                \n                \n                \n            \n                    \n                \n                \n                \n            \n                    \n                \n                \n                \n            \n                    \n                \n                \n                \n            \n                    \n                \n                \n                \n            \n                    \n                \n                \n                \n            \n                    \n                \n                \n                \n            \n                    \n                \n                \n                \n            \n            \n\n                    \n                            40\n                            Trembley\n                            Amin\n                            Layla M.\n                            Tiago C.\n                            \n                            \n                            \n                            \n                            \n                    \n                            \n                            41\n                            Aïre\n                            Cédric \n                            Thibaud C.\n                            Timothé M.\n                            Maël M.\n                            William B.\n                            \n                            \n                            \n                    \n                            \n                            42\n                            Puplinge\n                            Deyan \n                            James K.\n                            Aurèle M.\n                            Santiago S.\n                            Jackson K.\n                            Jack\n                            \n                            \n                    \n                            \n                            44\n                            Allières\n                            William \n                            Blanche O.\n                            Léon T.\n                            Hugo M.\n                            \n                            \n                            \n                            \n                    \n                            \n                            45\n                            Chancy\n                            Deyan \n                            Alessia A.\n                            \n                            \n                            \n                            \n                            \n                            \n                    \n                            \n                            46\n                            Liotard\n                            Syméon \n                            Théophile L.\n                            \n                            \n                            \n                            \n                            \n                            \n                    \n                            \n                            47\n                            Mail\n                            William \n                            Kunga K.\n                            Lourenço C.\n                            Edward E.\n                            \n                            \n                            \n                            \n                    \n                            \n                            49\n                            C.O Budé\n                            Romane \n                            Henry R.\n                            \n                            \n                            \n                            \n                            \n                            \n                    \n                            \n                            50\n                            St Jean\n                            David\n                            Paul B.\n                            Jonas K.\n                            \n                            \n                            \n                            \n                            \n                    \n                            \n                            52\n                            Emilie de Morsier\n                            Cédric\n                            Lexy H.\n                            Manon E.\n                            Mathis R.\n                            Shaima\n                            \n                            \n                            \n                    \n                            \n                            56\n                            Etang\n                            Erika\n                            Bereket\n                            \n                            \n                            \n                            \n                            \n                            \n                    \n                            \n                            53\n                            Roseraie\n                            Erika\n                            Maxine D.\n                            \n                            \n                            \n                            \n                            \n                            \n                    \n                            \n                            54\n                            Collex-Bossy\n                            Unai\n                            Adriel G.\n                            \n                            \n                            \n                            \n                            \n                            \n                    \n                            \n                            55\n                            Carouge\n                            Amin\n                            Anaïs\n                            Julian\n                            \n                            \n                            \n                            \n                            \n                    \n                    \n\n        \n        \n        \n    \n\n\n\n\n\n \nDélai d’inscription\nMercredi 20 Septembre
URL:https://tchoukballgeneve.ch/event/championnat-genevois-junior-m8m10-1ere-journee/
LOCATION:Cycle de Cayla\, Chemin William Lescaze 8\, Genève\, 1203
CATEGORIES:Activités,Clubs,Tournois
ATTACH;FMTTYPE=image/webp:https://tchoukballgeneve.ch/wp-content/uploads/2023/05/1ere-journee.webp
END:VEVENT
BEGIN:VEVENT
DTSTART;TZID=Europe/Zurich:20230923T120000
DTEND;TZID=Europe/Zurich:20230923T180000
DTSTAMP:20260423T061628
CREATED:20230830T105813Z
LAST-MODIFIED:20250610T081432Z
UID:13820-1695470400-1695492000@tchoukballgeneve.ch
SUMMARY:Tournoi de PRÉPARATION AU CHAMPIONNAT GENEVOIS JUNIOR M12
DESCRIPTION:HORAIRES JUNIOR M12\nAprès-midi (~12h-18h) \nLIEN VERS L’INSCRIPTION\nINSCRIPTIONS CONFIRMÉES\n\n\n    \n        \n\n    \n        \n        \n        \n\n\n                            wdt_ID                Entraînement                Entraîneur                Participant/e                Participant/e                Participant/e                Participant/e                Participant/e                Participant/e                Participant/e    \n\n        \n\n        \n        \n\n\n\n    \n        \n            \n            \n            \n        \n                    \n                \n                \n                \n            \n                    \n                \n                \n                \n            \n                    \n                \n                \n                \n            \n                    \n                \n                \n                \n            \n                    \n                \n                \n                \n            \n                    \n                \n                \n                \n            \n                    \n                \n                \n                \n            \n                    \n                \n                \n                \n            \n                    \n                \n                \n                \n            \n                    \n                \n                \n                \n            \n                    \n                \n                \n                \n            \n                    \n                \n                \n                \n            \n                    \n                \n                \n                \n            \n                    \n                \n                \n                \n            \n                    \n                \n                \n                \n            \n            \n\n                    \n                            65\n                            Trembley\n                            Amin\n                            Jhon A.\n                            Isaac P.\n                            Lorenzo\n                            \n                            \n                            \n                            \n                    \n                            \n                            64\n                            Tivoli\n                            Cédric \n                            Abel J.\n                            Sara T.\n                            \n                            \n                            \n                            \n                            \n                    \n                            \n                            66\n                            Micheli du Crest\n                            Unai \n                            Camille L.\n                            Adrien H.\n                            Evan H.\n                            Lucas C.\n                            Nadège\n                            \n                            \n                    \n                            \n                            67\n                            St Jean\n                            David\n                            Léo H\n                            Lucas J.\n                            \n                            \n                            \n                            \n                            \n                    \n                            \n                            68\n                            Aïre\n                            Cédric\n                            Thibaud C.\n                            Timothé M.\n                            Antoine B.\n                            Maël M.\n                            \n                            \n                            \n                    \n                            \n                            69\n                            Chancy\n                            Deyan \n                            Eve R.\n                            Enzo A.\n                            Mael P.\n                            Eliott M.\n                            Jessy P.\n                            Stan L.\n                            Aron A.\n                    \n                            \n                            76\n                            Onex Tattes\n                            Rafaela\n                            Zeri S.\n                            Ethan D.\n                            Anae S.\n                            \n                            \n                            \n                            \n                    \n                            \n                            71\n                            Etang\n                            Daniel \n                            Ivano P.\n                            Mussye\n                            \n                            \n                            \n                            \n                            \n                    \n                            \n                            72\n                            Europe\n                            Cédric \n                            Emil Z.\n                            Joakim B.\n                            Duncan T.\n                            \n                            \n                            \n                            \n                    \n                            \n                            73\n                            Liotard\n                            Syméon \n                            Omar B.\n                            Elias C.\n                            Carolina R.\n                            Lubin D.\n                            \n                            \n                            \n                    \n                            \n                            74\n                            Puplinge\n                            Deyan\n                            Eliot A.\n                            Thibault D.\n                            Robin C.\n                            Alouan V.\n                            \n                            \n                            \n                    \n                            \n                            75\n                            Roches\n                            Unai \n                            Elliot T.\n                            Matthieu M.\n                            Leo O.\n                            Karel D.\n                            Miro\n                            Rafael\n                            \n                    \n                            \n                            77\n                            Allières\n                            William\n                            Casimir F.\n                            Minna R.\n                            Raphaël D.\n                            Theissen M.\n                            \n                            \n                            \n                    \n                            \n                            78\n                            Mail\n                            William\n                            Julien N.\n                            \n                            \n                            \n                            \n                            \n                            \n                    \n                    \n\n        \n        \n        \n    \n\n\n\n\n\n \nDÉLAI D’INSCRIPTION\nMercredi 20 Septembre \n 
URL:https://tchoukballgeneve.ch/event/championnat-genevois-junior-m12-1ere-journee/
LOCATION:Cycle de Cayla\, Chemin William Lescaze 8\, Genève\, 1203
CATEGORIES:Activités,Clubs,Tournois
ATTACH;FMTTYPE=image/webp:https://tchoukballgeneve.ch/wp-content/uploads/2023/05/1ere.webp
END:VEVENT
BEGIN:VEVENT
DTSTART;VALUE=DATE:20230929
DTEND;VALUE=DATE:20231002
DTSTAMP:20260423T061628
CREATED:20220718T124841Z
LAST-MODIFIED:20250610T081031Z
UID:10503-1695945600-1696204799@tchoukballgeneve.ch
SUMMARY:Formation J+S COURS MONITEUR 2023 – 2E WEEK-END
DESCRIPTION:Le cours moniteur J+S forme les participants à devenir moniteur J+S. \nPlus de détails et informations sur le site web de Jeunesse & Sport. \nPour l’inscirption\, merci de prendre contacte avec vos responsables de clubs et coach J+S.
URL:https://tchoukballgeneve.ch/event/js-cours-moniteur-2023-2e-week-end/
LOCATION:Genève\, Suisse
CATEGORIES:Clubs,Formation
ATTACH;FMTTYPE=image/webp:https://tchoukballgeneve.ch/wp-content/uploads/2023/01/camp-image-1.webp
END:VEVENT
BEGIN:VEVENT
DTSTART;VALUE=DATE:20230929
DTEND;VALUE=DATE:20230930
DTSTAMP:20260423T061628
CREATED:20230721T122100Z
LAST-MODIFIED:20250610T081440Z
UID:13485-1695945600-1696031999@tchoukballgeneve.ch
SUMMARY:Super Coupe de tchoukball\, le match choc de la rentrée !!
DESCRIPTION:Val-de-Ruz Flyers – Champion Suisse 2023 / Vainqueur de la Coupe Suisse face aux Geneva Dragons – finaliste du championnat suisse 2023 aux centre sportif du Bois des Frères\, buvette à disposition\, entrée libre le Vendredi 29 Septembre 2023. \n – 19h40 : Accueil – 20h05 : Présentation des équipes – 20h15 : Début du match \nSuivez également ce match en live sur notre chaîne Youtube «Tchoukball Promotion»
URL:https://tchoukballgeneve.ch/event/super-coupe-2023-geneva-dragons-vs-val-de-ruz-flyers/
LOCATION:Centre sportif du Bois-des-Frères\, Chem. de l'Ecu 22\, Vernier\, 1219\, Suisse
ATTACH;FMTTYPE=image/webp:https://tchoukballgeneve.ch/wp-content/uploads/2023/05/Copie-de-Gameday-Dragons-vs-Nyon-7-1.webp
END:VEVENT
END:VCALENDAR