BEGIN:VCALENDAR
VERSION:2.0
PRODID:-//Association cantonale genevoise de tchoukball - ECPv6.15.20//NONSGML v1.0//EN
CALSCALE:GREGORIAN
METHOD:PUBLISH
X-WR-CALNAME:Association cantonale genevoise de tchoukball
X-ORIGINAL-URL:https://tchoukballgeneve.ch
X-WR-CALDESC:Évènements pour Association cantonale genevoise de tchoukball
REFRESH-INTERVAL;VALUE=DURATION:PT1H
X-Robots-Tag:noindex
X-PUBLISHED-TTL:PT1H
BEGIN:VTIMEZONE
TZID:Europe/Zurich
BEGIN:DAYLIGHT
TZOFFSETFROM:+0100
TZOFFSETTO:+0200
TZNAME:CEST
DTSTART:20220327T010000
END:DAYLIGHT
BEGIN:STANDARD
TZOFFSETFROM:+0200
TZOFFSETTO:+0100
TZNAME:CET
DTSTART:20221030T010000
END:STANDARD
BEGIN:DAYLIGHT
TZOFFSETFROM:+0100
TZOFFSETTO:+0200
TZNAME:CEST
DTSTART:20230326T010000
END:DAYLIGHT
BEGIN:STANDARD
TZOFFSETFROM:+0200
TZOFFSETTO:+0100
TZNAME:CET
DTSTART:20231029T010000
END:STANDARD
BEGIN:DAYLIGHT
TZOFFSETFROM:+0100
TZOFFSETTO:+0200
TZNAME:CEST
DTSTART:20240331T010000
END:DAYLIGHT
BEGIN:STANDARD
TZOFFSETFROM:+0200
TZOFFSETTO:+0100
TZNAME:CET
DTSTART:20241027T010000
END:STANDARD
END:VTIMEZONE
BEGIN:VEVENT
DTSTART;VALUE=DATE:20230731
DTEND;VALUE=DATE:20230802
DTSTAMP:20260423T074157
CREATED:20230602T085251Z
LAST-MODIFIED:20250610T080607Z
UID:13263-1690761600-1690934399@tchoukballgeneve.ch
SUMMARY:Championnats du monde de tchoukball – Catégorie P40
DESCRIPTION:
URL:https://tchoukballgeneve.ch/event/championnats-du-monde-de-tchoukball-categorie-p40/
LOCATION:Prague (République Tchèque)\, République Tchèque
CATEGORIES:Activités,Tournois
ATTACH;FMTTYPE=image/webp:https://tchoukballgeneve.ch/wp-content/uploads/2023/04/P40.webp
END:VEVENT
BEGIN:VEVENT
DTSTART;TZID=Europe/Zurich:20230731T080000
DTEND;TZID=Europe/Zurich:20230804T120000
DTSTAMP:20260423T074157
CREATED:20230515T150032Z
LAST-MODIFIED:20250610T080318Z
UID:13129-1690790400-1691150400@tchoukballgeneve.ch
SUMMARY:ECOLES DE SPORT ÉTÉ 2023
DESCRIPTION:Découverte et initiation au tchoukball tous les matins de 8h00 à 12h00 du 31 au 04 août 2023 pour enfants de 8 à 13 ans au Centre sportif du Bois des Frères\, chemin de l’Ecu 22\, 1219 Vernier \n– Acceuil de 8h à 8h30  \n– Départ de 11h30 à 12h \nAucune exigence particulière n’est requise pour la pratique de cette activité. \nTenue: t-shirt\, short/training\, baskets d’intérieur\, gourde\, \nPour vous inscrire cliquer sur le lien de la ville de Genève \nPrix: 65 CHF
URL:https://tchoukballgeneve.ch/event/ecoles-de-sport-ete-2023-2/
LOCATION:Centre sportif du Bois-des-Frères\, Chem. de l'Ecu 22\, Vernier\, 1219\, Suisse
CATEGORIES:Activités
ATTACH;FMTTYPE=image/webp:https://tchoukballgeneve.ch/wp-content/uploads/2023/05/ecole-dete-2-1.webp
END:VEVENT
BEGIN:VEVENT
DTSTART;VALUE=DATE:20230802
DTEND;VALUE=DATE:20230806
DTSTAMP:20260423T074157
CREATED:20230602T085446Z
LAST-MODIFIED:20250610T080633Z
UID:13267-1690934400-1691279999@tchoukballgeneve.ch
SUMMARY:Championnats du monde de tchoukball – catégorie Femme et Homme
DESCRIPTION:
URL:https://tchoukballgeneve.ch/event/championnats-du-monde-de-tchoukball-categorie-femme-et-homme/
LOCATION:Prague (République Tchèque)\, République Tchèque
CATEGORIES:Activités,Clubs,Tournois
ATTACH;FMTTYPE=image/webp:https://tchoukballgeneve.ch/wp-content/uploads/2023/04/Homme-et-femme-1.webp
END:VEVENT
BEGIN:VEVENT
DTSTART;VALUE=DATE:20230807
DTEND;VALUE=DATE:20230812
DTSTAMP:20260423T074157
CREATED:20230130T105242Z
LAST-MODIFIED:20250610T080857Z
UID:11828-1691366400-1691798399@tchoukballgeneve.ch
SUMMARY:7 À 15 ANS: CAMP D'août 2023 DE TCHOUKBALL - Complet
DESCRIPTION:Le camp de août 2023 va se tenir au Centre sportif de la Queue-d’Arve\, Rue François-Dussaud 12\, 1227 Genève du 07 au 11 août 2023 \nActivités\n\n    Camp du 07 au 11 août 2023\n\n        \n\n                            \n                                \n                                                            \n                                                \n                                        Lundi                    \n                                                \n                                        Mardi                    \n                                                \n                                        Mercredi                    \n                                                \n                                        Jeudi                    \n                                                \n                                        Vendredi                    \n                                        \n                            \n                                \n                                        Activité Matin                    \n                                                \n                                        Tchoukball                    \n                                                \n                                        Tchoukball                    \n                                                \n                                        Olympiades                    \n                                                \n                                        Tchoukball                    \n                                                \n                                        Tchoukball                    \n                                        \n                            \n                                \n                                        Activité Après midi                    \n                                                \n                                        Piscine des \nVernets                    \n                                                \n                                        Airloop                    \n                                                \n                                        Olympiades                    \n                                                \n                                        Piscine des \nVernets                    \n                                                \n                                        Accrobranche parc \ndes Evaux                    \n                                        \n                    \n\n\n \nAGE\nUne journée type démarre avec l’accueil entre 8h et 9h\, suivie de l’activité du matin\, le repas entre 12h et 13h\, l’activité de l’après-midi jusqu’à 16h\, puis le goûter et la fin des activités à 17h\, possibilité de chercher l’enfant dès 16h. \nHORAIRES\n8h – 17h \nPRIX\n350.- la semaine tout compris avec le transport\,  repas de midi et collations\, rabais pour les familles \n– 15% pour le 2ème enfant\, \n– 20% pour le 3ème enfant. \nINSCRIPTIONS\nL’inscription se fait via ce formulaire d’inscription \nPour s’assurer que l’inscription se fasse de manière correcte\, au bas de formulaire d’inscription il faut cliquer sur le bouton “valider” pour valider votre inscription\, puis reconfirmer une 2ème fois pour que l’inscription nous parvienne. \nVous pouvez savoir que nous avons correctement reçu votre inscription si vous recevez bien une-mail de confirmation quelques minutes après avoir confirmé votre inscription. \nSi ce n’est pas le cas\, écrivez à sandrine.pfister@tchoukballgeneve.ch et nous restons toujours à votre disposition par e-mail ou téléphone au 022 796 67 66 en cas de questions. \nConditions d’annulations : \n(Les conditions d’annulation sont les suivantes: pas de retenue sur le prix jusqu’au  22 juillet 2023\,\, si l’annulation intervient après le  22 juillet 2023\,\, un montant sera retenu en fonction des activités\, hébergement ou repas que nous n’aurons pas pu annuler) \nJean-Loup RemolifDirecteur de Tchouk Loisir
URL:https://tchoukballgeneve.ch/event/camp-dete-2023-de-tchoukball-pour-les-7-a-12-ans-2/
LOCATION:Centre sportif de la Queue d’Arve\, Rue François-Dussaud 12\, Les Acacias\, 1227\, Suisse
CATEGORIES:Activités,Camp
ATTACH;FMTTYPE=image/webp:https://tchoukballgeneve.ch/wp-content/uploads/2023/01/aout-2023.webp
END:VEVENT
BEGIN:VEVENT
DTSTART;VALUE=DATE:20230814
DTEND;VALUE=DATE:20230819
DTSTAMP:20260423T074157
CREATED:20230130T105706Z
LAST-MODIFIED:20250610T080834Z
UID:11833-1691971200-1692403199@tchoukballgeneve.ch
SUMMARY:14 À 18 ANS: CAMP TECHNIQUE d'août 2023
DESCRIPTION:Flyer du camp\n			 \n				\n				\n				\n			\n			 \n				\n				\n			 \n				\n				\n				\n				\n				\n				\n				Le camp technique d’août 2023 va se tenir au CO Sècheron Av. Blanc 1/3\, 1202 Genève du 14 au 18 août 2023 \nActivités\nCamp spécifique pour améliorer sa technique du tchoukball\, agrémenté d’autres activités qui seront détaillées prochainement. \nAGE\n14 – 18 ans \nHORAIRES\nUne journée type démarre avec l’accueil entre 8h et 9h\, suivie de l’activité du matin\, le repas entre 12h et 13h\, l’activité de l’après-midi jusqu’à 16h\, puis le goûter et la fin des activités à 17h\, possibilité de chercher l’enfant dès 16h. \nPRIX\n350.- la semaine tout compris avec le repas de midi et collations\, rabais pour les familles \n– 15% pour le 2ème enfant\, \n– 20% pour le 3ème enfant. \nINSCRIPTIONS\nL’inscription se fait via ce formulaire d’inscription \nPour s’assurer que l’inscription se fasse de manière correcte\, au bas de formulaire d’inscription il faut cliquer sur le bouton “valider” pour valider votre inscription\, puis reconfirmer une 2ème fois pour que l’inscription nous parvienne. \nVous pouvez savoir que nous avons correctement reçu votre inscription si vous recevez bien un e-mail de confirmation quelques minutes après avoir confirmé votre inscription. \nSi ce n’est pas le cas\, écrivez à sandrine.pfister@tchoukballgeneve.ch et nous restons toujours à votre disposition par e-mail ou téléphone au 022 796 67 66 en cas de questions. \nConditions d’annulations : \n(Les conditions d’annulation sont les suivantes: pas de retenue sur le prix jusqu’au 31 juillet 2023\, si l’annulation intervient après le 31 juillet 2023\, un montant sera retenu en fonction des activités\, hébergement ou repas que nous n’aurons pas pu annuler) \nYanis Bruhin
URL:https://tchoukballgeneve.ch/event/camp-technique-2023-pour-les-14-a-18-ans-2/
LOCATION:CO Sècheron\, Av. Blanc 1/3\, Genève\, 1202
CATEGORIES:Activités,Camp
ATTACH;FMTTYPE=image/webp:https://tchoukballgeneve.ch/wp-content/uploads/2023/01/canava-new-3.webp
END:VEVENT
BEGIN:VEVENT
DTSTART;VALUE=DATE:20230814
DTEND;VALUE=DATE:20230819
DTSTAMP:20260423T074158
CREATED:20230130T115901Z
LAST-MODIFIED:20250610T080847Z
UID:11838-1691971200-1692403199@tchoukballgeneve.ch
SUMMARY:8 À 14 ANS: CAMP d'août 2023 DE TCHOUKBALL – COMPLET
DESCRIPTION:Le 2ème camp d’août 2023 va se tenir au Collège sismondi Chem. Eugène-Rigot 3\, 1202 Genève du 14 au 18 août 2023 \nActivités\n\n    Camp du 14 au 18 août 2023\n\n        \n\n                            \n                                \n                                                            \n                                                \n                                        Lundi                    \n                                                \n                                        Mardi                    \n                                                \n                                        Mercredi                    \n                                                \n                                        Jeudi                    \n                                                \n                                        Vendredi                    \n                                        \n                            \n                                \n                                        Activité Matin                    \n                                                \n                                        Tchoukball                    \n                                                \n                                        Tchoukball                    \n                                                \n                                        Tchoukball                    \n                                                \n                                        Tchoukball                    \n                                                \n                                        Tchoukball                    \n                                        \n                            \n                                \n                                        Activité Après midi                    \n                                                \n                                        Skate park \ninitiation au \nskate                    \n                                                \n                                        Découverte de \nla réserve\nnaturelle \nBarrage de \nVerbois                    \n                                                \n                                        Activités nature \nà la ferme du \nFonds de \nl’Etang Plan les \nOuates                    \n                                                \n                                        Escape game \nen ville de \nGenève « Le \nchaudron \nmagique »                    \n                                                \n                                        Parcours nature sur \nl’Allondon                    \n                                        \n                    \n\n\n \nAGE\nUne journée type démarre avec l’accueil entre 8h et 9h\, suivie de l’activité du matin\, le repas entre 12h et 13h\, l’activité de l’après-midi jusqu’à 16h\, puis le goûter et la fin des activités à 17h\, possibilité de chercher l’enfant dès 16h. \nHORAIRES\n8h – 17h \nPRIX\n350.- la semaine tout compris avec le transport\,  repas de midi et collations\, rabais pour les familles \n– 15% pour le 2ème enfant\, \n– 20% pour le 3ème enfant. \nINSCRIPTIONS\nL’inscription se fait via ce formulaire d’inscription \nPour s’assurer que l’inscription se fasse de manière correcte\, au bas de formulaire d’inscription il faut cliquer sur le bouton “valider” pour valider votre inscription\, puis reconfirmer une 2ème fois pour que l’inscription nous parvienne. \nVous pouvez savoir que nous avons correctement reçu votre inscription si vous recevez bien un e-mail de confirmation quelques minutes après avoir confirmé votre inscription. \nSi ce n’est pas le cas\, écrivez à sandrine.pfister@tchoukballgeneve.ch et nous restons toujours à votre disposition par e-mail ou téléphone au 022 796 67 66 en cas de questions. \nConditions d’annulations : \n(Les conditions d’annulation sont les suivantes: pas de retenue sur le prix jusqu’au 31 juillet 2023\, si l’annulation intervient après le 31 juillet 2023\, un montant sera retenu en fonction des activités\, hébergement ou repas que nous n’aurons pas pu annuler) \nJean-Loup Remolif Directeur de Tchouk Loisir
URL:https://tchoukballgeneve.ch/event/camp-dete-2023-de-tchoukball-pour-les-8-a-14-ans/
LOCATION:Collège Sismondi\, Chemin Eugène-Rigot 3\, Genève\, 1202\, France
CATEGORIES:Activités,Camp
ATTACH;FMTTYPE=image/webp:https://tchoukballgeneve.ch/wp-content/uploads/2023/01/vert-clair-1.webp
END:VEVENT
END:VCALENDAR