BEGIN:VCALENDAR
VERSION:2.0
PRODID:-//Association cantonale genevoise de tchoukball - ECPv6.15.20//NONSGML v1.0//EN
CALSCALE:GREGORIAN
METHOD:PUBLISH
X-WR-CALNAME:Association cantonale genevoise de tchoukball
X-ORIGINAL-URL:https://tchoukballgeneve.ch
X-WR-CALDESC:Évènements pour Association cantonale genevoise de tchoukball
REFRESH-INTERVAL;VALUE=DURATION:PT1H
X-Robots-Tag:noindex
X-PUBLISHED-TTL:PT1H
BEGIN:VTIMEZONE
TZID:Europe/Zurich
BEGIN:DAYLIGHT
TZOFFSETFROM:+0100
TZOFFSETTO:+0200
TZNAME:CEST
DTSTART:20220327T010000
END:DAYLIGHT
BEGIN:STANDARD
TZOFFSETFROM:+0200
TZOFFSETTO:+0100
TZNAME:CET
DTSTART:20221030T010000
END:STANDARD
BEGIN:DAYLIGHT
TZOFFSETFROM:+0100
TZOFFSETTO:+0200
TZNAME:CEST
DTSTART:20230326T010000
END:DAYLIGHT
BEGIN:STANDARD
TZOFFSETFROM:+0200
TZOFFSETTO:+0100
TZNAME:CET
DTSTART:20231029T010000
END:STANDARD
BEGIN:DAYLIGHT
TZOFFSETFROM:+0100
TZOFFSETTO:+0200
TZNAME:CEST
DTSTART:20240331T010000
END:DAYLIGHT
BEGIN:STANDARD
TZOFFSETFROM:+0200
TZOFFSETTO:+0100
TZNAME:CET
DTSTART:20241027T010000
END:STANDARD
END:VTIMEZONE
BEGIN:VEVENT
DTSTART;VALUE=DATE:20230703
DTEND;VALUE=DATE:20230708
DTSTAMP:20260423T085905
CREATED:20230130T104155Z
LAST-MODIFIED:20250610T080205Z
UID:11818-1688342400-1688774399@tchoukballgeneve.ch
SUMMARY:7 à 15 ans: CAMP de juillet 2023 DE TCHOUKBALL - Complet
DESCRIPTION:Le camp de juillet 2023 va se tenir au Centre sportif du Bois de Frères\, Chemin de l’Ecu 22\, 1219 Vernier du 03 au 07 juillet 2023 \nActivités\n\n    Camp du 03 au 07 juillet 2023\n\n        \n\n                            \n                                \n                                                            \n                                                \n                                        Lundi                    \n                                                \n                                        Mardi                    \n                                                \n                                        Mercredi                    \n                                                \n                                        Jeudi                    \n                                                \n                                        Vendredi                    \n                                        \n                            \n                                \n                                        Activité Matin                    \n                                                \n                                        Tchoukball                    \n                                                \n                                        Tchoukball                    \n                                                \n                                        Multisports                    \n                                                \n                                        Tchoukball                    \n                                                \n                                        Tchoukball                    \n                                        \n                            \n                                \n                                        Activité Après midi                    \n                                                \n                                        Piscine du \nLignon                    \n                                                \n                                        Rafting                    \n                                                \n                                        Air Loop                    \n                                                \n                                        Musée \nd’histoire \nnaturelle                    \n                                                \n                                        Piscine du \nLignon                    \n                                        \n                    \n\n\n \nAGE\n7 – 15 ans \nHORAIRES\n8h – 17h \nPRIX\n350.- la semaine tout compris avec le transport\,  repas de midi et collations\, rabais pour les familles \n– 15% pour le 2ème enfant\, \n– 20% pour le 3ème enfant. \nINSCRIPTIONS\nL’inscription se fait via ce formulaire d’inscription \nPour s’assurer que l’inscription se fasse de manière correcte\, au bas de formulaire d’inscription il faut cliquer sur le bouton “valider” pour valider votre inscription\, puis reconfirmer une 2ème fois pour que l’inscription nous parvienne. \nVous pouvez savoir que nous avons correctement reçu votre inscription si vous recevez bien un e-mail de confirmation quelques minutes après avoir confirmé votre inscription. \nSi ce n’est pas le cas\, écrivez à sandrine.pfister@tchoukballgeneve.ch et nous restons toujours à votre disposition par e-mail ou téléphone au 022 796 67 66 en cas de questions. \nConditions d’annulations : \n(Les conditions d’annulation sont les suivantes: pas de retenue sur le prix jusqu’au 24 juin 2023\, si l’annulation intervient après le 24 juin 2023\, un montant sera retenu en fonction des activités\, hébergement ou repas que nous n’aurons pas pu annuler) \nUnai Correa
URL:https://tchoukballgeneve.ch/event/camp-dete-2023-de-tchoukball-pour-les-7-a-12-ans/
LOCATION:Centre sportif du Bois-des-Frères\, Chem. de l'Ecu 22\, Vernier\, 1219\, Suisse
CATEGORIES:Activités,Camp
ATTACH;FMTTYPE=image/webp:https://tchoukballgeneve.ch/wp-content/uploads/2023/01/news-1-1.webp
END:VEVENT
BEGIN:VEVENT
DTSTART;TZID=Europe/Zurich:20230703T080000
DTEND;TZID=Europe/Zurich:20230707T170000
DTSTAMP:20260423T085905
CREATED:20230428T124317Z
LAST-MODIFIED:20250610T080200Z
UID:12801-1688371200-1688749200@tchoukballgeneve.ch
SUMMARY:7 À 15 ANS:  2ème camp de juillet 2023 DE TCHOUKBALL - Complet
DESCRIPTION:Un 2ème camp loisir va se tenir au Centre sportif du Bois des Frères\, chemin de l’Ecu 22\, 1219 Vernier\, ou au CO Sècheron\, Av. Blanc 1/3\, 1202 Genève\, du 03 au 07 juillet 2023 \nACTIVITÉS\n\n    Camp du 03 au 07 juillet 2023\n\n        \n\n                            \n                                \n                                                            \n                                                \n                                        Lundi                    \n                                                \n                                        Mardi                    \n                                                \n                                        Mercredi                    \n                                                \n                                        Jeudi                    \n                                                \n                                        Vendredi                    \n                                        \n                            \n                                \n                                        Activité Matin                    \n                                                \n                                        Tchoukball                    \n                                                \n                                        Tchoukball                    \n                                                \n                                        Multisports                    \n                                                \n                                        Tchoukball                    \n                                                \n                                        Tchoukball                    \n                                        \n                            \n                                \n                                        Activité Après midi                    \n                                                \n                                        Piscine du \nLignon                    \n                                                \n                                        Rafting                    \n                                                \n                                        Air Loop                    \n                                                \n                                        Musée \nd’histoire \nnaturelle                    \n                                                \n                                        Piscine du \nLignon                    \n                                        \n                    \n\n\n \nAGE\n7 – 15 ans \nHORAIRES\nUne journée type démarre avec l’accueil entre 8h et 9h\, suivie de l’activité du matin\, le repas entre 12h et 13h\, l’activité de l’après-midi jusqu’à 16h\, puis le goûter et la fin des activités à 17h\, possibilité de chercher l’enfant dès 16h. \nPRIX\n350.- la semaine tout compris avec le transport\,  repas de midi et collations\, rabais pour les familles \n– 15% pour le 2ème enfant\, \n– 20% pour le 3ème enfant. \nINSCRIPTIONS\nL’inscription se fait via ce formulaire d’inscription \nPour s’assurer que l’inscription se fasse de manière correcte\, au bas de formulaire d’inscription il faut cliquer sur le bouton “valider” pour valider votre inscription\, puis reconfirmer une 2ème fois pour que l’inscription nous parvienne. \nVous pouvez savoir que nous avons correctement reçu votre inscription si vous recevez bien un\ne-mail de confirmation quelques minutes après avoir confirmé votre inscription. \nSi ce n’est pas le cas\, écrivez à sandrine.pfister@tchoukballgeneve.ch et nous restons toujours à votre disposition par e-mail ou téléphone au 022 796 67 66 en cas de questions. \nConditions d’annulations : \n(Les conditions d’annulation sont les suivantes: pas de retenue sur le prix jusqu’au 24 juin 2023\, si l’annulation intervient après le 24 juin 2023\, un montant sera retenu en fonction des activités\, hébergement ou repas que nous n’aurons pas pu annuler) \nCédric Vuagnat
URL:https://tchoukballgeneve.ch/event/7-a-15-ans-2-camp-de-juillet-2023-de-tchoukball/
CATEGORIES:Activités,Camp
ATTACH;FMTTYPE=image/webp:https://tchoukballgeneve.ch/wp-content/uploads/2023/01/news-1-1.webp
END:VEVENT
BEGIN:VEVENT
DTSTART;TZID=Europe/Zurich:20230710T080000
DTEND;TZID=Europe/Zurich:20230714T120000
DTSTAMP:20260423T085905
CREATED:20230515T145146Z
LAST-MODIFIED:20250610T080325Z
UID:13119-1688976000-1689336000@tchoukballgeneve.ch
SUMMARY:ECOLES DE SPORT ÉTÉ 2023
DESCRIPTION:Découverte et initiation au tchoukball tous les matins de 8h00 à 12h00 du 10 au 14 juillet 2023 pour enfants de 8 à 13 ans au Centre sportif du Bois des Frères\, chemin de l’Ecu 22\, 1219 Vernier \n– Acceuil de 8h à 8h30  \n– Départ de 11h30 à 12h \nAucune exigence particulière n’est requise pour la pratique de cette activité. \nTenue: t-shirt\, short/training\, baskets d’intérieur\, gourde\, \nPour vous inscrire cliquer sur le lien de la ville de Genève \nPrix: 65 CHF
URL:https://tchoukballgeneve.ch/event/ecoles-de-sport-ete-2023/
LOCATION:Centre sportif du Bois-des-Frères\, Chem. de l'Ecu 22\, Vernier\, 1219\, Suisse
CATEGORIES:Activités
ATTACH;FMTTYPE=image/webp:https://tchoukballgeneve.ch/wp-content/uploads/2023/05/ecole-dete-2-1.webp
END:VEVENT
BEGIN:VEVENT
DTSTART;TZID=Europe/Zurich:20230710T080000
DTEND;TZID=Europe/Zurich:20230714T170000
DTSTAMP:20260423T085905
CREATED:20230428T130651Z
LAST-MODIFIED:20250610T080545Z
UID:12817-1688976000-1689354000@tchoukballgeneve.ch
SUMMARY:7 À 15 ANS: CAMP DE JUILLET 2023 DE TCHOUKBALL
DESCRIPTION:Le camp loisir du 10 au 14 juillet 2023 va se tenir au Centre sportif du Bois des Frères\, chemin de l’Ecu 22\, 1219 Vernier. \nACTIVITÉS\n\n    Camp du 10 au 14 juillet 2023\n\n        \n\n                            \n                                \n                                                            \n                                                \n                                        Lundi                    \n                                                \n                                        Mardi                    \n                                                \n                                        Mercredi                    \n                                                \n                                        Jeudi                    \n                                                \n                                        Vendredi                    \n                                        \n                            \n                                \n                                        Activité Matin                    \n                                                \n                                        Tchoukball                    \n                                                \n                                        Tchoukball                    \n                                                \n                                        Multisports                    \n                                                \n                                        Tchoukball                    \n                                                \n                                        Tchoukball                    \n                                        \n                            \n                                \n                                        Activité Après midi                    \n                                                \n                                        Piscine du \nLignon                    \n                                                \n                                        Rafting                    \n                                                \n                                        Air Loop                    \n                                                \n                                        Accrobranche \nparc des Evaux                    \n                                                \n                                        Piscine du \nLignon                    \n                                        \n                    \n\n\n \nAGE\n7 – 15 ans \nHORAIRES\nUne journée type démarre avec l’accueil entre 8h et 9h\, suivie de l’activité du matin\, le repas entre 12h et 13h\, l’activité de l’après-midi jusqu’à 16h\, puis le goûter et la fin des activités à 17h\, possibilité de chercher l’enfant dès 16h. \nPRIX\n350.- la semaine tout compris avec le transport\,  repas de midi et collations\, rabais pour les familles \n– 15% pour le 2ème enfant\, \n– 20% pour le 3ème enfant. \nINSCRIPTIONS\nL’inscription se fait via ce formulaire d’inscription \nPour s’assurer que l’inscription se fasse de manière correcte\, au bas de formulaire d’inscription il faut cliquer sur le bouton “valider” pour valider votre inscription\, puis reconfirmer une 2ème fois pour que l’inscription nous parvienne. \nVous pouvez savoir que nous avons correctement reçu votre inscription si vous recevez bien un e-mail de confirmation quelques minutes après avoir confirmé votre inscription. \nSi ce n’est pas le cas\, écrivez à sandrine.pfister@tchoukballgeneve.ch et nous restons toujours à votre disposition par e-mail ou téléphone au 022 796 67 66 en cas de questions. \nConditions d’annulations : \n(Les conditions d’annulation sont les suivantes: pas de retenue sur le prix jusqu’au 1er juillet \, si l’annulation intervient après le 1er juillet\, un montant sera retenu en fonction des activités\, hébergement ou repas que nous n’aurons pas pu annuler) \nCédric Vuagnat
URL:https://tchoukballgeneve.ch/event/7-a-15-ans-camp-de-juillet-2023-de-tchoukball/
CATEGORIES:Activités,Camp
ATTACH;FMTTYPE=image/webp:https://tchoukballgeneve.ch/wp-content/uploads/2023/04/news-2.webp
END:VEVENT
BEGIN:VEVENT
DTSTART;VALUE=DATE:20230714
DTEND;VALUE=DATE:20230717
DTSTAMP:20260423T085905
CREATED:20230602T081404Z
LAST-MODIFIED:20250610T080550Z
UID:13259-1689292800-1689551999@tchoukballgeneve.ch
SUMMARY:Championnats du monde de tchoukball – Catégorie junior
DESCRIPTION:
URL:https://tchoukballgeneve.ch/event/championnats-du-monde-de-tchoukball-categorie-junior/
LOCATION:Singapour
CATEGORIES:Activités,Tournois
ATTACH;FMTTYPE=image/webp:https://tchoukballgeneve.ch/wp-content/uploads/2023/04/M18-scaled-1.webp
END:VEVENT
BEGIN:VEVENT
DTSTART;VALUE=DATE:20230717
DTEND;VALUE=DATE:20230722
DTSTAMP:20260423T085905
CREATED:20230227T141132Z
LAST-MODIFIED:20250610T080602Z
UID:12335-1689552000-1689983999@tchoukballgeneve.ch
SUMMARY:7 À 15 ANS: CAMP De juillet 2023 DE TCHOUKBALL
DESCRIPTION:Un camp loisir va se tenir au Centre sportif du Bois de Frères\, Chemin de l’Ecu 22\, 1219 Vernier du 17 au 21 juillet 2023 \nACTIVITÉS\n\n    Camp du 17 au 21 juillet 2023\n\n        \n\n                            \n                                \n                                                            \n                                                \n                                        Lundi                    \n                                                \n                                        Mardi                    \n                                                \n                                        Mercredi                    \n                                                \n                                        Jeudi                    \n                                                \n                                        Vendredi                    \n                                        \n                            \n                                \n                                        Activité Matin                    \n                                                \n                                        Tchoukball                    \n                                                \n                                        Tchoukball                    \n                                                \n                                        Multisports                    \n                                                \n                                        Tchoukball                    \n                                                \n                                        Tchoukball                    \n                                        \n                            \n                                \n                                        Activité Après midi                    \n                                                \n                                        Piscine du \nLignon                    \n                                                \n                                        Tir à l’Arc                    \n                                                \n                                        Air Loop                    \n                                                \n                                        Accrobranche \nparc des Evaux                    \n                                                \n                                        Piscine du \nLignon                    \n                                        \n                    \n\n\n \nAGE\nUne journée type démarre avec l’accueil entre 8h et 9h\, suivie de l’activité du matin\, le repas entre 12h et 13h\, l’activité de l’après-midi jusqu’à 16h\, puis le goûter et la fin des activités à 17h\, possibilité de chercher l’enfant dès 16h. \nHORAIRES\n8h – 17h \nPRIX\n350.- la semaine tout compris avec le transport\,  repas de midi et collations\, rabais pour les familles \n– 15% pour le 2ème enfant\, \n– 20% pour le 3ème enfant. \nINSCRIPTIONS\nL’inscription se fait via ce formulaire d’inscription \nPour s’assurer que l’inscription se fasse de manière correcte\, au bas de formulaire d’inscription il faut cliquer sur le bouton “valider” pour valider votre inscription\, puis reconfirmer une 2ème fois pour que l’inscription nous parvienne. \nVous pouvez savoir que nous avons correctement reçu votre inscription si vous recevez bien un e-mail de confirmation quelques minutes après avoir confirmé votre inscription. \nSi ce n’est pas le cas\, écrivez à sandrine.pfister@tchoukballgeneve.ch et nous restons toujours à votre disposition par e-mail ou téléphone au 022 796 67 66 en cas de questions. \nConditions d’annulations : \n(Les conditions d’annulation sont les suivantes: pas de retenue sur le prix jusqu’au 1er juillet \, si l’annulation intervient après le 1er juillet\, un montant sera retenu en fonction des activités\, hébergement ou repas que nous n’aurons pas pu annuler)
URL:https://tchoukballgeneve.ch/event/camp-dete-2023-de-tchoukball-pour-les-7-a-12-ans-3/
LOCATION:Centre sportif du Bois-des-Frères\, Chem. de l'Ecu 22\, Vernier\, 1219\, Suisse
CATEGORIES:Activités,Camp
ATTACH;FMTTYPE=image/webp:https://tchoukballgeneve.ch/wp-content/uploads/2023/04/news-1-2.webp
END:VEVENT
BEGIN:VEVENT
DTSTART;VALUE=DATE:20230731
DTEND;VALUE=DATE:20230802
DTSTAMP:20260423T085905
CREATED:20230602T085251Z
LAST-MODIFIED:20250610T080607Z
UID:13263-1690761600-1690934399@tchoukballgeneve.ch
SUMMARY:Championnats du monde de tchoukball – Catégorie P40
DESCRIPTION:
URL:https://tchoukballgeneve.ch/event/championnats-du-monde-de-tchoukball-categorie-p40/
LOCATION:Prague (République Tchèque)\, République Tchèque
CATEGORIES:Activités,Tournois
ATTACH;FMTTYPE=image/webp:https://tchoukballgeneve.ch/wp-content/uploads/2023/04/P40.webp
END:VEVENT
BEGIN:VEVENT
DTSTART;TZID=Europe/Zurich:20230731T080000
DTEND;TZID=Europe/Zurich:20230804T120000
DTSTAMP:20260423T085905
CREATED:20230515T150032Z
LAST-MODIFIED:20250610T080318Z
UID:13129-1690790400-1691150400@tchoukballgeneve.ch
SUMMARY:ECOLES DE SPORT ÉTÉ 2023
DESCRIPTION:Découverte et initiation au tchoukball tous les matins de 8h00 à 12h00 du 31 au 04 août 2023 pour enfants de 8 à 13 ans au Centre sportif du Bois des Frères\, chemin de l’Ecu 22\, 1219 Vernier \n– Acceuil de 8h à 8h30  \n– Départ de 11h30 à 12h \nAucune exigence particulière n’est requise pour la pratique de cette activité. \nTenue: t-shirt\, short/training\, baskets d’intérieur\, gourde\, \nPour vous inscrire cliquer sur le lien de la ville de Genève \nPrix: 65 CHF
URL:https://tchoukballgeneve.ch/event/ecoles-de-sport-ete-2023-2/
LOCATION:Centre sportif du Bois-des-Frères\, Chem. de l'Ecu 22\, Vernier\, 1219\, Suisse
CATEGORIES:Activités
ATTACH;FMTTYPE=image/webp:https://tchoukballgeneve.ch/wp-content/uploads/2023/05/ecole-dete-2-1.webp
END:VEVENT
END:VCALENDAR