BEGIN:VCALENDAR
VERSION:2.0
PRODID:-//Association cantonale genevoise de tchoukball - ECPv6.15.20//NONSGML v1.0//EN
CALSCALE:GREGORIAN
METHOD:PUBLISH
X-ORIGINAL-URL:https://tchoukballgeneve.ch
X-WR-CALDESC:Évènements pour Association cantonale genevoise de tchoukball
REFRESH-INTERVAL;VALUE=DURATION:PT1H
X-Robots-Tag:noindex
X-PUBLISHED-TTL:PT1H
BEGIN:VTIMEZONE
TZID:Europe/Zurich
BEGIN:DAYLIGHT
TZOFFSETFROM:+0100
TZOFFSETTO:+0200
TZNAME:CEST
DTSTART:20220327T010000
END:DAYLIGHT
BEGIN:STANDARD
TZOFFSETFROM:+0200
TZOFFSETTO:+0100
TZNAME:CET
DTSTART:20221030T010000
END:STANDARD
BEGIN:DAYLIGHT
TZOFFSETFROM:+0100
TZOFFSETTO:+0200
TZNAME:CEST
DTSTART:20230326T010000
END:DAYLIGHT
BEGIN:STANDARD
TZOFFSETFROM:+0200
TZOFFSETTO:+0100
TZNAME:CET
DTSTART:20231029T010000
END:STANDARD
BEGIN:DAYLIGHT
TZOFFSETFROM:+0100
TZOFFSETTO:+0200
TZNAME:CEST
DTSTART:20240331T010000
END:DAYLIGHT
BEGIN:STANDARD
TZOFFSETFROM:+0200
TZOFFSETTO:+0100
TZNAME:CET
DTSTART:20241027T010000
END:STANDARD
END:VTIMEZONE
BEGIN:VEVENT
DTSTART;TZID=Europe/Zurich:20230204T090000
DTEND;TZID=Europe/Zurich:20230204T180000
DTSTAMP:20260423T164417
CREATED:20230113T143710Z
LAST-MODIFIED:20250610T074002Z
UID:11590-1675501200-1675533600@tchoukballgeneve.ch
SUMMARY:CHAMPIONNAT GENEVOIS JUNIOR M8\,M10\,M12 – 2ÈME JOURNÉE
DESCRIPTION:FORMULAIRE D’INSCRIPTION\nVoici le liens vers l’inscription pour les M8\, M10 et M12 \nHoraires junior M8\, M10 \nMatinée (~9h-12h) \nHoraires junior M12\nAprès-midi (~12h-18h) \nINSCRIPTIONS CONFIRMÉES\nCatégorie M8 \n\n\n    \n        \n\n    \n        \n        \n        \n\n\n                            wdt_ID                Entraînement                Entraîneur                Participant/e                Participant/e                Participant/e                Participant/e                Participant/e                Participant/e                Participant/e                Participant/e    \n\n        \n\n        \n        \n\n\n\n    \n        \n            \n            \n            \n        \n                    \n                \n                \n                \n            \n                    \n                \n                \n                \n            \n                    \n                \n                \n                \n            \n                    \n                \n                \n                \n            \n                    \n                \n                \n                \n            \n                    \n                \n                \n                \n            \n                    \n                \n                \n                \n            \n            \n\n                    \n                            70\n                            Emilie de Morsier\n                            Cédric\n                            Lexy H.\n                            \n                            \n                            \n                            \n                            \n                            \n                            \n                    \n                            \n                            79\n                            Mail\n                            Unai\n                            Edward E.\n                            Ayhan A.\n                            Ada H.\n                            \n                            \n                            \n                            \n                            \n                    \n                            \n                            80\n                            Etang\n                            Erika\n                            Matei G.\n                            Petar V.\n                            Luna A.\n                            Nourah L.\n                            \n                            \n                            \n                            \n                    \n                            \n                            81\n                            Chancy\n                            Ulysse\n                            Massimiliano G.\n                            \n                            \n                            \n                            \n                            \n                            \n                            \n                    \n                            \n                            82\n                            Tivoli\n                            Meghna\n                            Cristian D.\n                            \n                            \n                            \n                            \n                            \n                            \n                            \n                    \n                            \n                            83\n                            Marignier\n                            Cédric\n                            Théo C.\n                            Andréa R.\n                            \n                            \n                            \n                            \n                            \n                            \n                    \n                    \n\n        \n        \n        \n    \n\n\n\n\n\n \nCatégorie M10 \n\n\n    \n        \n\n    \n        \n        \n        \n\n\n                            wdt_ID                Entraînement                Entraîneur                Participant/e                Participant/e                Participant/e                Participant/e                Participant/e                Participant/e                Participant/e                Participant/e    \n\n        \n\n        \n        \n\n\n\n    \n        \n            \n            \n            \n        \n                    \n                \n                \n                \n            \n                    \n                \n                \n                \n            \n                    \n                \n                \n                \n            \n                    \n                \n                \n                \n            \n                    \n                \n                \n                \n            \n                    \n                \n                \n                \n            \n                    \n                \n                \n                \n            \n                    \n                \n                \n                \n            \n                    \n                \n                \n                \n            \n                    \n                \n                \n                \n            \n                    \n                \n                \n                \n            \n                    \n                \n                \n                \n            \n            \n\n                    \n                            70\n                            Roseraie\n                            Erika\n                            Nadège M.\n                            Maxine D.\n                            \n                            \n                            \n                            \n                            \n                            \n                    \n                            \n                            71\n                            Trembley\n                            Amin\n                            Lorenzo G.\n                            Mikael G.\n                            Gustavo C.\n                            \n                            \n                            \n                            \n                            \n                    \n                            \n                            72\n                            Aïre\n                            Cédric\n                            Thibaud C.\n                            Maël M.\n                            William B.\n                            Damien M.\n                            Noé L.\n                            Maxime N.\n                            \n                            \n                    \n                            \n                            73\n                            Onex Tattes \n                            Jean-Loup\n                            Lucas F.\n                            \n                            \n                            \n                            \n                            \n                            \n                            \n                    \n                            \n                            74\n                            Etang\n                            Erika\n                            Real J.\n                            Nolan S.\n                            Dimitrije V.\n                            \n                            \n                            \n                            \n                            \n                    \n                            \n                            75\n                            Liotard\n                            Yanis\n                            Ghuilem A.\n                            Adriano V.\n                            Théophile L.\n                            Pedro L.\n                            \n                            \n                            \n                            \n                    \n                            \n                            77\n                            Tivoli\n                            Meghna\n                            Marco P.\n                            \n                            \n                            \n                            \n                            \n                            \n                            \n                    \n                            \n                            78\n                            Chancy\n                            Ulysse\n                            Aron A.\n                            May-Lee E.\n                            Stan L.\n                            Léo A.\n                            Aydan A.\n                            Esteban\n                            \n                            \n                    \n                            \n                            79\n                            Mail\n                            Unai\n                            Kunga K.\n                            Zakaria E.\n                            Diogo G.\n                            Aedan\n                            \n                            \n                            \n                            \n                    \n                            \n                            80\n                            Franchises\n                            Unai\n                            Mattias F.\n                            \n                            \n                            \n                            \n                            \n                            \n                            \n                    \n                            \n                            81\n                            Emilie de Morsier\n                            Cédric\n                            Kévin\n                            \n                            \n                            \n                            \n                            \n                            \n                            \n                    \n                    \n\n        \n        \n        \n    \n\n\n\n\n\n \nCatégorie M12 \n\n\n    \n        \n\n    \n        \n        \n        \n\n\n                            wdt_ID                Entraînement                Entraîneur                Participant/e                Participant/e                Participant/e                Participant/e                Participant/e                Participant/e                Participant/e                Participant/e    \n\n        \n\n        \n        \n\n\n\n    \n        \n            \n            \n            \n        \n                    \n                \n                \n                \n            \n                    \n                \n                \n                \n            \n                    \n                \n                \n                \n            \n                    \n                \n                \n                \n            \n                    \n                \n                \n                \n            \n                    \n                \n                \n                \n            \n                    \n                \n                \n                \n            \n                    \n                \n                \n                \n            \n                    \n                \n                \n                \n            \n                    \n                \n                \n                \n            \n                    \n                \n                \n                \n            \n                    \n                \n                \n                \n            \n                    \n                \n                \n                \n            \n                    \n                \n                \n                \n            \n                    \n                \n                \n                \n            \n                    \n                \n                \n                \n            \n            \n\n                    \n                            72\n                            Roseraie\n                            Erika\n                            Clément D.\n                            Joachim M.\n                            \n                            \n                            \n                            \n                            \n                            \n                    \n                            \n                            71\n                            Europe\n                            Cédric\n                            Eliot J.\n                            Matteo V.\n                            Léo H.\n                            Lucie A.\n                            Amélie C.\n                            Duncan T.\n                            Emil Z.\n                            \n                    \n                            \n                            73\n                            Trembley\n                            Amin\n                            John Alexis N.\n                            Isaac P.\n                            Irina D.\n                            Aedan G.\n                            Eva G.\n                            Christophe I.\n                            Jhon A.\n                            \n                    \n                            \n                            74\n                            Puplinge\n                            Ulysse\n                            Léandre S.\n                            Nelly R.\n                            Gabriel T.\n                            \n                            \n                            \n                            \n                            \n                    \n                            \n                            75\n                            Chancy\n                            Ulysse\n                            Eve R.\n                            Ella R.\n                            Johane L.\n                            Eliott M.\n                            \n                            \n                            \n                            \n                    \n                            \n                            76\n                            Liotard\n                            Rafaela\n                            Omar B.\n                            Robin B.\n                            Lydie B.\n                            Simão B.\n                            \n                            \n                            \n                            \n                    \n                            \n                            77\n                            Tivoli\n                            Cédric\n                            Abel J.\n                            Sara T.\n                            \n                            \n                            \n                            \n                            \n                            \n                    \n                            \n                            78\n                            Meyrin\n                            Anthony\n                            Timéo F.\n                            Mark B.\n                            Kevin G.\n                            Léo R.\n                            \n                            \n                            \n                            \n                    \n                            \n                            79\n                            Collex-Bossy\n                            William\n                            Oscar J.\n                            Léo\n                            \n                            \n                            \n                            \n                            \n                            \n                    \n                            \n                            81\n                            Roches\n                            Unai\n                            Liam H.\n                            Mathias S.\n                            Léo O.\n                            Andreï B.\n                            \n                            \n                            \n                            \n                    \n                            \n                            82\n                            Chancy\n                            Ulysse\n                            Emile W.\n                            Aslan B.\n                            Maxence F.\n                            \n                            \n                            \n                            \n                            \n                    \n                            \n                            83\n                            Micheli-du-Crest\n                            Deyan\n                            Lilian H.\n                            Camille L.\n                            \n                            \n                            \n                            \n                            \n                            \n                    \n                            \n                            84\n                            Aïre\n                            Cédric\n                            Ygor C.\n                            Adrian C.\n                            Matthieu P.\n                            Erblin D.\n                            \n                            \n                            \n                            \n                    \n                            \n                            85\n                            Mail\n                            Unai\n                            Marcel B.\n                            Abigail O.\n                            \n                            \n                            \n                            \n                            \n                            \n                    \n                            \n                            86\n                            Onex Bosson\n                            Cédric\n                            Erind H.
URL:https://tchoukballgeneve.ch/event/championnat-genevois-junior-m8m10m12-2eme-journee/
LOCATION:Cycle de Cayla\, Chemin William Lescaze 8\, Genève\, 1203
CATEGORIES:Activités,Clubs,Tournois
ATTACH;FMTTYPE=image/webp:https://tchoukballgeneve.ch/wp-content/uploads/2022/09/Sans-titre-1.webp
END:VEVENT
BEGIN:VEVENT
DTSTART;TZID=Europe/Zurich:20230205T120000
DTEND;TZID=Europe/Zurich:20230205T160000
DTSTAMP:20260423T164417
CREATED:20230113T144259Z
LAST-MODIFIED:20250610T074014Z
UID:11594-1675598400-1675612800@tchoukballgeneve.ch
SUMMARY:CHAMPIONNAT Régional 2ème journée
DESCRIPTION:Nous invitons les 9 équipes en lice à se retrouver pour la 2ème journée du championnat régional \nHORAIRES \n11h00 – Ouverture de la salle 12h00 – Début des matchs 16h00 – Fin des matchs \nMerci de vous inscrire auprès de votre coach \nPlus d’information sur ce lien \nINSCRIPTIONS\n\n    _copier_copier\n\n        \n\n                            \n                                \n                                        Equipe                    \n                                                \n                                        Coach                    \n                                                \n                                        Numéro de téléphone                    \n                                        \n                            \n                                \n                                        Meyrin M14                    \n                                                \n                                        Thijs Kos                    \n                                                \n                                        078 860 27 93                    \n                                        \n                            \n                                \n                                        Chancy/Puplinge M14                    \n                                                \n                                        Deyan Alojevic                    \n                                                \n                                        078 908 08 73                    \n                                        \n                            \n                                \n                                        Pâquis M14                    \n                                                \n                                        Yanis Bruhin                    \n                                                \n                                        077 400 17 79                    \n                                        \n                            \n                                \n                                        Cayla M14                    \n                                                \n                                        Amin Ladimi                    \n                                                \n                                        079 457 38 49                    \n                                        \n                            \n                                \n                                        Liotard M14                    \n                                                \n                                        William Fink                    \n                                                \n                                        078 600 42 55                    \n                                        \n                            \n                                \n                                        Carouge Lions Clubs                    \n                                                \n                                        Guillaume Charpentier                    \n                                                \n                                        078 936 78 95                    \n                                        \n                            \n                                \n                                        Rush Mountain M14                    \n                                                \n                                        Deyan Alojevic                    \n                                                \n                                        078 908 08 73                    \n                                        \n                            \n                                \n                                        Onex M14                    \n                                                \n                                        Cédric Vuagnat                    \n                                                \n                                        +33 6 32 90 86 47                    \n                                        \n                            \n                                \n                                        Lancy M14                    \n                                                \n                                        Daniel Buschbeck                    \n                                                \n                                        076 680 15 14
URL:https://tchoukballgeneve.ch/event/championnat-genevois-junior-m14-m16-1ere-journee-2/
LOCATION:Cycle de Cayla\, Chemin William Lescaze 8\, Genève\, 1203
CATEGORIES:Activités,Clubs,Tournois
ATTACH;FMTTYPE=image/webp:https://tchoukballgeneve.ch/wp-content/uploads/2022/09/a.webp
END:VEVENT
BEGIN:VEVENT
DTSTART;TZID=Europe/Zurich:20230211T080000
DTEND;TZID=Europe/Zurich:20230211T170000
DTSTAMP:20260423T164417
CREATED:20230116T104349Z
LAST-MODIFIED:20250610T074615Z
UID:11624-1676102400-1676134800@tchoukballgeneve.ch
SUMMARY:J+S Sport des enfants - Se soucier de l'entourage
DESCRIPTION:
URL:https://tchoukballgeneve.ch/event/js-sport-des-enfants/
LOCATION:Lausanne\, Av. du Vieux-Moulin\, Lausanne\, 1018\, Suisse
CATEGORIES:Formation
ATTACH;FMTTYPE=image/webp:https://tchoukballgeneve.ch/wp-content/uploads/2023/01/camp-image-1.webp
END:VEVENT
BEGIN:VEVENT
DTSTART;VALUE=DATE:20230218
DTEND;VALUE=DATE:20230220
DTSTAMP:20260423T164417
CREATED:20230116T105831Z
LAST-MODIFIED:20250610T074550Z
UID:11628-1676678400-1676851199@tchoukballgeneve.ch
SUMMARY:Week-end du CRTG
DESCRIPTION:
URL:https://tchoukballgeneve.ch/event/week-end-du-crtg/
LOCATION:Centre sportif de la Queue d’Arve\, Rue François-Dussaud 12\, Les Acacias\, 1227\, Suisse
CATEGORIES:Activités,Clubs,CRTG
ATTACH;FMTTYPE=image/webp:https://tchoukballgeneve.ch/wp-content/uploads/2023/01/week-crtg.webp
END:VEVENT
BEGIN:VEVENT
DTSTART;VALUE=DATE:20230220
DTEND;VALUE=DATE:20230225
DTSTAMP:20260423T164417
CREATED:20221104T133535Z
LAST-MODIFIED:20250610T074606Z
UID:11243-1676851200-1677283199@tchoukballgeneve.ch
SUMMARY:CAMP D’HIVER 2023 POUR LES 7 À 15 ANS !
DESCRIPTION:Le camp de février va se tenir au cycle de Cayla\, Chem. William-Lescaze 8\, 1203 Genève du 20 au 24 février 2023 \nAge\n7 – 15 ans \nHoraires\n8h – 17h \nPRIX\n350.- la semaine tout compris avec le transport\,  repas de midi et collations\, rabais pour les familles \n– 15% pour le 2ème enfant\, \n– 20% pour le 3ème enfant. \nINSCRIPTIONS\nL’inscription se fait via ce formulaire d’inscription \nPour s’assurer que l’inscription se fasse de manière correcte\, au bas de formulaire d’inscription il faut cliquer sur le bouton “valider” pour valider votre inscription\, puis reconfirmer une 2ème fois pour que l’inscription nous parvienne. \nVous pouvez savoir que nous avons correctement reçu votre inscription si vous recevez bien un e-mail de confirmation quelques minutes après avoir confirmé votre inscription. \nSi ce n’est pas le cas\, écrivez à sandrine.pfister@tchoukballgeneve.ch et nous restons toujours à votre disposition par e-mail ou téléphone au 022 796 67 66 en cas de questions. \nConditions d’annulations : \nLes conditions d’annulation sont les suivantes: pas de retenue sur le prix jusqu’au 06 février 2023\, si l’annulation intervient après le 06 février 2023\, un montant sera retenu en fonction des activités\, hébergement ou repas que nous n’aurons pas pu annuler) \nFlyer du camp \nJean-Loup Remolif Directeur de Tchouk Loisir
URL:https://tchoukballgeneve.ch/event/camp-dhiver-2023-de-tchoukball-pour-les-8-a-15-ans/
LOCATION:Cycle de Cayla\, Chemin William Lescaze 8\, Genève\, 1203
CATEGORIES:Camp
ATTACH;FMTTYPE=image/webp:https://tchoukballgeneve.ch/wp-content/uploads/2023/01/bon-canava-news-3.webp
END:VEVENT
BEGIN:VEVENT
DTSTART;TZID=Europe/Zurich:20230225T080000
DTEND;TZID=Europe/Zurich:20230225T170000
DTSTAMP:20260423T164417
CREATED:20230116T110206Z
LAST-MODIFIED:20250610T074233Z
UID:11631-1677312000-1677344400@tchoukballgeneve.ch
SUMMARY:3ème Journée de Championnat Suisse M16\,M21
DESCRIPTION:Se renseigner auprès de son coach.
URL:https://tchoukballgeneve.ch/event/3eme-journee-de-championnat-suisse-m16m21/
LOCATION:Lausanne\, Av. du Vieux-Moulin\, Lausanne\, 1018\, Suisse
CATEGORIES:Activités,Tournois
ATTACH;FMTTYPE=image/webp:https://tchoukballgeneve.ch/wp-content/uploads/2022/09/siss-tchoukball.webp
END:VEVENT
BEGIN:VEVENT
DTSTART;TZID=Europe/Zurich:20230226T090000
DTEND;TZID=Europe/Zurich:20230226T160000
DTSTAMP:20260423T164417
CREATED:20220930T101417Z
LAST-MODIFIED:20250610T074632Z
UID:10989-1677402000-1677427200@tchoukballgeneve.ch
SUMMARY:2ÈME JOURNÉE 1/8 + 1/4 de final de la coupe suisse
DESCRIPTION:Plus d’information sur la coupe suisse.
URL:https://tchoukballgeneve.ch/event/2eme-journee-1-8-1-4-de-final-de-la-coupe-suisse/
LOCATION:Lausanne\, Av. du Vieux-Moulin\, Lausanne\, 1018\, Suisse
CATEGORIES:Clubs,Tournois
ATTACH;FMTTYPE=image/webp:https://tchoukballgeneve.ch/wp-content/uploads/2023/01/Canva-eveemenent.webp
END:VEVENT
END:VCALENDAR