BEGIN:VCALENDAR
VERSION:2.0
PRODID:-//Association cantonale genevoise de tchoukball - ECPv6.15.20//NONSGML v1.0//EN
CALSCALE:GREGORIAN
METHOD:PUBLISH
X-WR-CALNAME:Association cantonale genevoise de tchoukball
X-ORIGINAL-URL:https://tchoukballgeneve.ch
X-WR-CALDESC:Évènements pour Association cantonale genevoise de tchoukball
REFRESH-INTERVAL;VALUE=DURATION:PT1H
X-Robots-Tag:noindex
X-PUBLISHED-TTL:PT1H
BEGIN:VTIMEZONE
TZID:Europe/Zurich
BEGIN:DAYLIGHT
TZOFFSETFROM:+0100
TZOFFSETTO:+0200
TZNAME:CEST
DTSTART:20210328T010000
END:DAYLIGHT
BEGIN:STANDARD
TZOFFSETFROM:+0200
TZOFFSETTO:+0100
TZNAME:CET
DTSTART:20211031T010000
END:STANDARD
BEGIN:DAYLIGHT
TZOFFSETFROM:+0100
TZOFFSETTO:+0200
TZNAME:CEST
DTSTART:20220327T010000
END:DAYLIGHT
BEGIN:STANDARD
TZOFFSETFROM:+0200
TZOFFSETTO:+0100
TZNAME:CET
DTSTART:20221030T010000
END:STANDARD
BEGIN:DAYLIGHT
TZOFFSETFROM:+0100
TZOFFSETTO:+0200
TZNAME:CEST
DTSTART:20230326T010000
END:DAYLIGHT
BEGIN:STANDARD
TZOFFSETFROM:+0200
TZOFFSETTO:+0100
TZNAME:CET
DTSTART:20231029T010000
END:STANDARD
END:VTIMEZONE
BEGIN:VEVENT
DTSTART;TZID=Europe/Zurich:20221106T090000
DTEND;TZID=Europe/Zurich:20221106T180000
DTSTAMP:20260423T212830
CREATED:20220912T124535Z
LAST-MODIFIED:20250606T132607Z
UID:10773-1667725200-1667757600@tchoukballgeneve.ch
SUMMARY:1ère Journée de Championnat Suisse M16\,M21
DESCRIPTION:
URL:https://tchoukballgeneve.ch/event/1ere-journee-de-championnat-suisse-m16m21/
LOCATION:Cycle de Cayla\, Chemin William Lescaze 8\, Genève\, 1203
CATEGORIES:Clubs,Tournois
ATTACH;FMTTYPE=image/webp:https://tchoukballgeneve.ch/wp-content/uploads/2022/09/news-1ere-journee-chapionnat-suisse.webp
END:VEVENT
BEGIN:VEVENT
DTSTART;TZID=Europe/Zurich:20221117T180000
DTEND;TZID=Europe/Zurich:20221117T200000
DTSTAMP:20260423T212830
CREATED:20221024T125301Z
LAST-MODIFIED:20250606T132816Z
UID:11198-1668708000-1668715200@tchoukballgeneve.ch
SUMMARY:Cours d'arbitre junior I
DESCRIPTION:Objectifs techniques du cours \n\nClarifier les règles principales et la technique d’arbitrage (position\, gestes\, sifflet)\nNommer des arbitres junior pour leur permettre d’arbitrer dans de bonnes conditions les juniors M10 et M12 lors des tournois.\n\nContenu \n\nRègles : règles du jeu\, démonstration pratique de gestes justes/faux.\nGestes : revue des bons/mauvais gestes.\nSifflet : apprendre à adapter la force du coup de sifflet à l’environnement sonore.\nPosition : théorie de base sur le positionnement de l’arbitre.\n\n  \nInformations détaillées et inscriptions
URL:https://tchoukballgeneve.ch/event/cours-darbitre-junior-i/
LOCATION:Cycle de Cayla\, Chemin William Lescaze 8\, Genève\, 1203
CATEGORIES:Clubs,Formation
ATTACH;FMTTYPE=image/webp:https://tchoukballgeneve.ch/wp-content/uploads/2022/10/1-arbitre.webp
END:VEVENT
BEGIN:VEVENT
DTSTART;VALUE=DATE:20221119
DTEND;VALUE=DATE:20221120
DTSTAMP:20260423T212830
CREATED:20220912T125208Z
LAST-MODIFIED:20250606T132828Z
UID:10776-1668816000-1668902399@tchoukballgeneve.ch
SUMMARY:1ère journée du Championnat Junior Genevois M8\,M10\,M12
DESCRIPTION:  \nINSCRIPTIONS CONFIRMÉES\nCatégorie M8 \n\n\n    \n        \n\n    \n        \n        \n        \n\n\n                            wdt_ID                Entraînement                Entraîneur                Participant/e                Participant/e                Participant/e                Participant/e                Participant/e                Participant/e                Participant/e                Participant/e    \n\n        \n\n        \n        \n\n\n\n    \n        \n            \n            \n            \n        \n                    \n                \n                \n                \n            \n                    \n                \n                \n                \n            \n                    \n                \n                \n                \n            \n                    \n                \n                \n                \n            \n                    \n                \n                \n                \n            \n                    \n                \n                \n                \n            \n                    \n                \n                \n                \n            \n                    \n                \n                \n                \n            \n            \n\n                    \n                            70\n                            Tivoli\n                            Meghna\n                            Idriss Scott N.\n                            Cristian D.\n                            \n                            \n                            \n                            \n                            \n                            \n                    \n                            \n                            72\n                            Trembley\n                            Amin\n                            Tiago C.\n                            Emma J.\n                            \n                            \n                            \n                            \n                            \n                            \n                    \n                            \n                            73\n                            Mail\n                            Unai\n                            Edward E.\n                            Ayhan H.\n                            Ada H.\n                            Jules V.\n                            \n                            \n                            \n                            \n                    \n                            \n                            78\n                            Emilie de Morsier\n                            Cédric\n                            Samuel B.\n                            Maéva B.\n                            \n                            \n                            \n                            \n                            \n                            \n                    \n                            \n                            75\n                            Chancy\n                            Ulysse\n                            Massimiliano G.\n                            Léo A.\n                            \n                            \n                            \n                            \n                            \n                            \n                    \n                            \n                            76\n                            Liotard\n                            Yanis\n                            Théophile L.\n                            \n                            \n                            \n                            \n                            \n                            \n                            \n                    \n                            \n                            77\n                            Etang\n                            Arnaud\n                            Petar V.\n                            \n                            \n                            \n                            \n                            \n                            \n                            \n                    \n                    \n\n        \n        \n        \n    \n\n\n\n\n\n \nCatégorie M10 \n\n\n    \n        \n\n    \n        \n        \n        \n\n\n                            wdt_ID                Entraînement                Entraîneur                Participant/e                Participant/e                Participant/e                Participant/e                Participant/e                Participant/e                Participant/e                Participant/e    \n\n        \n\n        \n        \n\n\n\n    \n        \n            \n            \n            \n        \n                    \n                \n                \n                \n            \n                    \n                \n                \n                \n            \n                    \n                \n                \n                \n            \n                    \n                \n                \n                \n            \n                    \n                \n                \n                \n            \n                    \n                \n                \n                \n            \n                    \n                \n                \n                \n            \n                    \n                \n                \n                \n            \n                    \n                \n                \n                \n            \n                    \n                \n                \n                \n            \n                    \n                \n                \n                \n            \n                    \n                \n                \n                \n            \n                    \n                \n                \n                \n            \n                    \n                \n                \n                \n            \n                    \n                \n                \n                \n            \n                    \n                \n                \n                \n            \n                    \n                \n                \n                \n            \n                    \n                \n                \n                \n            \n                    \n                \n                \n                \n            \n                    \n                \n                \n                \n            \n            \n\n                    \n                            40\n                            Franchises\n                            Unai\n                            Antonin E.\n                            Manon E.\n                            \n                            \n                            \n                            \n                            \n                            \n                    \n                            \n                            41\n                            Sécheron\n                            Unai\n                            James S.\n                            Noémie C.\n                            Isaac C.\n                            \n                            \n                            \n                            \n                            \n                    \n                            \n                            42\n                            Trembley\n                            Amin\n                            Lorenzo G.\n                            Gustavo C.\n                            Gabriel J.\n                            Mikael G.\n                            Nadji R.\n                            Arthur R.\n                            Yanis A.\n                            \n                    \n                            \n                            43\n                            Tivoli\n                            Meghna\n                            Ibrahim N.\n                            \n                            \n                            \n                            \n                            \n                            \n                            \n                    \n                            \n                            45\n                            Puplinge\n                            Deyan\n                            Anthony E.\n                            Ilyes E.\n                            Léo A.\n                            Léon T.\n                            Hugo M.\n                            \n                            \n                            \n                    \n                            \n                            46\n                            Mail\n                            Unai\n                            Pedro F.\n                            Kunga K.\n                            Merlin B.\n                            Rafael A.\n                            Zakaria E.\n                            Diogo G.\n                            \n                            \n                    \n                            \n                            47\n                            Chancy dark\n                            Ulysse\n                            Aydan A.\n                            Stan L.\n                            Aron A.\n                            Alessia A.\n                            Nolan M.\n                            \n                            \n                            \n                    \n                            \n                            48\n                            Europe\n                            Cédric\n                            Joakim B.\n                            \n                            \n                            \n                            \n                            \n                            \n                            \n                    \n                            \n                            49\n                            Allières\n                            Erika\n                            Elena B.\n                            Elliot T.\n                            Matthieu M.\n                            Marie L.\n                            Blanche O.\n                            \n                            \n                            \n                    \n                            \n                            50\n                            Aïre\n                            Cédric\n                            Maël M.\n                            William B.\n                            Damien M.\n                            Noé L.\n                            Antoine B.\n                            \n                            \n                            \n                    \n                            \n                            51\n                            Liotard\n                            Yanis\n                            Dimitrije V.\n                            Pedro L.\n                            Hajdar A.\n                            \n                            \n                            \n                            \n                            \n                    \n                            \n                            52\n                            Vollandes\n                            Erika \n                            Isaac G.\n                            \n                            \n                            \n                            \n                            \n                            \n                            \n                    \n                            \n                            53\n                            Meyrin\n                            Thijs\n                            Anuar B.\n                            Fiorenza F.\n                            \n                            \n                            \n                            \n                            \n                            \n                    \n                            \n                            55\n                            Roseraie\n                            Erika\n                            Delphine W.\n                            Nadège M.\n                            \n                            \n                            \n                            \n                            \n                            \n                    \n                            \n                            57\n                            Pré-Picot\n                            Deyan\n                            Francisca M.\n                            \n                            \n                            \n                            \n                            \n                            \n                            \n                    \n                            \n                            58\n                            Onex Tattes\n                            Jean-Loup\n                            Lorenzo R.\n                            \n                            \n                            \n                            \n                            \n                            \n                            \n                    \n                            \n                            59\n                            Cropettes\n                            Unai\n                            Shadrack S.\n                            \n                            \n                            \n                            \n                            \n                            \n                            \n                    \n                            \n                            60\n                            Carouge\n                            William\n                            Samuele D.\n                            \n                            \n                            \n                            \n                            \n                            \n                            \n                    \n                            \n                            61\n                            Etang\n                            Arnaud\n                            Matilde L.\n                            \n                            \n                            \n                            \n                            \n                            \n                            \n                    \n                    \n\n        \n        \n        \n    \n\n\n\n\n\n \nCatégorie M12 \n\n\n    \n        \n\n    \n        \n        \n        \n\n\n                            wdt_ID                Entraînement                Entraîneur                Participant/e                Participant/e                Participant/e                Participant/e                Participant/e                Participant/e                Participant/e                Participant/e    \n\n        \n\n        \n        \n\n\n\n    \n        \n            \n            \n            \n        \n                    \n                \n                \n                \n            \n                    \n                \n                \n                \n            \n                    \n                \n                \n                \n            \n                    \n                \n                \n                \n            \n                    \n                \n                \n                \n            \n                    \n                \n                \n                \n            \n                    \n                \n                \n                \n            \n                    \n                \n                \n                \n            \n                    \n                \n                \n                \n            \n                    \n                \n                \n                \n            \n                    \n                \n                \n                \n            \n                    \n                \n                \n                \n            \n                    \n                \n                \n                \n            \n                    \n                \n                \n                \n            \n                    \n                \n                \n                \n            \n                    \n                \n                \n                \n            \n                    \n                \n                \n                \n            \n            \n\n                    \n                            40\n                            Europe\n                            Cédric\n                            Emil Z.\n                            Matteo V.\n                            Lucie A.\n                            Amélie C.\n                            Duncan T.\n                            \n                            \n                            \n                    \n                            \n                            41\n                            Roseraie\n                            Erika\n                            Joachim M.\n                            Thibault D.\n                            Clément D.\n                            Félix W.\n                            \n                            \n                            \n                            \n                    \n                            \n                            42\n                            Trembley\n                            Amin\n                            Olyvia T.\n                            Isaac P.\n                            Eva G.\n                            John Alexis N.\n                            Olyvia T.\n                            Ilana M.\n                            Christophe I.\n                            \n                    \n                            \n                            43\n                            Puplinge\n                            Ulysse\n                            Eliot A.\n                            Nelly R.\n                            Gabriel T.\n                            Elise A.\n                            Léandre S.\n                            Thibault D.\n                            Laurane C.\n                            \n                    \n                            \n                            50\n                            Meyrin\n                            Thijs\n                            Eliott V.\n                            Mark B.\n                            Kevin G.\n                            Fralen F.\n                            \n                            \n                            \n                            \n                    \n                            \n                            45\n                            Tivoli\n                            Cédric\n                            Abel J.\n                            Lena Laurenne N.\n                            Raymi F.\n                            \n                            \n                            \n                            \n                            \n                    \n                            \n                            46\n                            Mail\n                            Unai\n                            Dorian P.\n                            Abigail O.\n                            Marcel\n                            \n                            \n                            \n                            \n                            \n                    \n                            \n                            47\n                            Chancy\n                            Ulysse\n                            Johane L.\n                            Jiwan M.\n                            Enzo A.\n                            Eve R.\n                            Ella R.\n                            Emile W.\n                            Bastien C.\n                            \n                    \n                            \n                            48\n                            Cropettes\n                            Unai\n                            David F.\n                            Theo S.\n                            \n                            \n                            \n                            \n                            \n                            \n                    \n                            \n                            49\n                            Liotard\n                            Rafaela\n                            Nicolas N.\n                            Simao B.\n                            Omar B.\n                            Lydie B.\n                            Robin B.\n                            \n                            \n                            \n                    \n                            \n                            51\n                            Sécheron\n                            Unai\n                            Diego J.\n                            Aimar J.\n                            \n                            \n                            \n                            \n                            \n                            \n                    \n                            \n                            52\n                            Aïre\n                            Cédric\n                            Léonard B.\n                            Adrian C.\n                            Lucien C.\n                            Samuel D.\n                            Mathieu P.\n                            Erblin D.\n                            \n                            \n                    \n                            \n                            53\n                            Roches\n                            Unai\n                            Léo O.\n                            James H.\n                            Andreï B.\n                            \n                            \n                            \n                            \n                            \n                    \n                            \n                            56\n                            Pré-Picot\n                            Deyan\n                            Cosmo S.\n                            Tomas M.\n                            \n                            \n                            \n                            \n                            \n                            \n                    \n                            \n                            54\n                            Micheli\n                            Deyan\n                            Jake H.\n                            Camille L.\n                            Adrien H.\n                            Lilian H.\n                            \n                            \n                            \n                            \n                    \n                            \n                            55\n                            Chancy\n                            Ulysse\n                            Aslan B.\n                            Maxence F.\n                            Mael P.\n                            Theo P.\n                            Nathan H.\n                            Maxime S.
URL:https://tchoukballgeneve.ch/event/1ere-journee-du-championnat-junior-genevois-m8m10m12/
LOCATION:Cycle de Cayla\, Chemin William Lescaze 8\, Genève\, 1203
CATEGORIES:Clubs,Tournois
ATTACH;FMTTYPE=image/webp:https://tchoukballgeneve.ch/wp-content/uploads/2022/10/1-montage-1.webp
END:VEVENT
BEGIN:VEVENT
DTSTART;TZID=Europe/Zurich:20221120T090000
DTEND;TZID=Europe/Zurich:20221120T180000
DTSTAMP:20260423T212830
CREATED:20220912T125546Z
LAST-MODIFIED:20250606T132832Z
UID:10779-1668934800-1668967200@tchoukballgeneve.ch
SUMMARY:Journée d'ouverture du Championnat Régional M14
DESCRIPTION:
URL:https://tchoukballgeneve.ch/event/journee-douverture-du-championnat-regional-m14/
CATEGORIES:Clubs,Tournois
ATTACH;FMTTYPE=image/webp:https://tchoukballgeneve.ch/wp-content/uploads/2022/10/News-CR-m14.webp
END:VEVENT
END:VCALENDAR