BEGIN:VCALENDAR
VERSION:2.0
PRODID:-//Association cantonale genevoise de tchoukball - ECPv6.15.20//NONSGML v1.0//EN
CALSCALE:GREGORIAN
METHOD:PUBLISH
X-WR-CALNAME:Association cantonale genevoise de tchoukball
X-ORIGINAL-URL:https://tchoukballgeneve.ch
X-WR-CALDESC:Évènements pour Association cantonale genevoise de tchoukball
REFRESH-INTERVAL;VALUE=DURATION:PT1H
X-Robots-Tag:noindex
X-PUBLISHED-TTL:PT1H
BEGIN:VTIMEZONE
TZID:Europe/Zurich
BEGIN:DAYLIGHT
TZOFFSETFROM:+0100
TZOFFSETTO:+0200
TZNAME:CEST
DTSTART:20210328T010000
END:DAYLIGHT
BEGIN:STANDARD
TZOFFSETFROM:+0200
TZOFFSETTO:+0100
TZNAME:CET
DTSTART:20211031T010000
END:STANDARD
BEGIN:DAYLIGHT
TZOFFSETFROM:+0100
TZOFFSETTO:+0200
TZNAME:CEST
DTSTART:20220327T010000
END:DAYLIGHT
BEGIN:STANDARD
TZOFFSETFROM:+0200
TZOFFSETTO:+0100
TZNAME:CET
DTSTART:20221030T010000
END:STANDARD
BEGIN:DAYLIGHT
TZOFFSETFROM:+0100
TZOFFSETTO:+0200
TZNAME:CEST
DTSTART:20230326T010000
END:DAYLIGHT
BEGIN:STANDARD
TZOFFSETFROM:+0200
TZOFFSETTO:+0100
TZNAME:CET
DTSTART:20231029T010000
END:STANDARD
END:VTIMEZONE
BEGIN:VEVENT
DTSTART;TZID=Europe/Zurich:20220401T203000
DTEND;TZID=Europe/Zurich:20220401T220000
DTSTAMP:20260424T064249
CREATED:20220329T090933Z
LAST-MODIFIED:20250606T125825Z
UID:9351-1648845000-1648850400@tchoukballgeneve.ch
SUMMARY:Ligue A - Geneva Dragons vs Lausanne Olympic
DESCRIPTION:Venez soutenir les Dragons de Genève – spectactle\, repas et belle ambiance le vendredi 1er avril 2022 aux Bois des Frères\nCe vendredi 1er avril 2022\, à 20h30\, les Geneva Dragons jouent leur dernier match de la saison de qualification\, avant d’entamer les playoff. Venez soutenir la première équipe du canton\, lors de son match face à Lausanne Olympic. C’est l’occasion de voir du tchoukball au plus haut niveau suisse !\nLieu : Centre sportif du Bois des Frères\nEntrée gratuite\nBuvette disponible \nRepas sur inscription\nL’équipe buvette nous prépare un repas pour la soirée ! 😊\nMenu : Linguine aux morilles + salade à CHF 15.- – sur inscription\nInscription : avant jeudi 31 mars 2022 à midi auprès de sandrine.pfister@tbcg.ch  \nLe repas est servi dès 20h \nLe match diffusé en direct sur YouTube :\nPour les personnes qui ne peuvent nous rejoindre au Bois-des-Frères\, nous diffusons le match en direct sur notre chaîne YouTube : https://www.youtube.com/user/TchoukballPromotion/videos \nNous espérons vous retrouver nombreux vendredi soir au centre sportif des Bois-des-Frères.
URL:https://tchoukballgeneve.ch/event/ligue-a-geneva-dragons-vs-lausanne-olympic/
LOCATION:Collège de la Fontenelle / Cernier\, Rue de Chasseral 3\, Cernier\, 2053\, Suisse
CATEGORIES:Clubs
ATTACH;FMTTYPE=image/webp:https://tchoukballgeneve.ch/wp-content/uploads/2021/08/Copie-de-Gameday-Dragons-vs-Nyon-1.webp
END:VEVENT
BEGIN:VEVENT
DTSTART;TZID=Europe/Zurich:20220402T080000
DTEND;TZID=Europe/Zurich:20220402T170000
DTSTAMP:20260424T064249
CREATED:20210826T102654Z
LAST-MODIFIED:20250606T125852Z
UID:6640-1648886400-1648918800@tchoukballgeneve.ch
SUMMARY:Tournoi de Sion
DESCRIPTION:FORMULAIRE D’INSCRIPTION M8\,M10\,M12\nVoici le liens vers le formulaire d’inscription M8\, M10\, M12 \nParticipation aux frais de transport (tournois hors de Genève) : 25.- \nINSCRIPTIONS CONFIRMÉES\nCatégorie M10 \n\n\n    \n        \n\n    \n        \n        \n        \n\n\n                            wdt_ID                Entraînement                Entraîneur                Participant/e                Participant/e                Participant/e                Participant/e                Participant/e                Participant/e                Participant/e                Participant/e    \n\n        \n\n        \n        \n\n\n\n    \n        \n            \n            \n            \n        \n                    \n                \n                \n                \n            \n                    \n                \n                \n                \n            \n                    \n                \n                \n                \n            \n                    \n                \n                \n                \n            \n                    \n                \n                \n                \n            \n                    \n                \n                \n                \n            \n                    \n                \n                \n                \n            \n                    \n                \n                \n                \n            \n                    \n                \n                \n                \n            \n                    \n                \n                \n                \n            \n            \n\n                    \n                            43\n                            Allières\n                            Erika\n                            Estrella J.\n                            \n                            \n                            \n                            \n                            \n                            \n                            \n                    \n                            \n                            44\n                            Aïre\n                            Cédric\n                            Maël M.\n                            \n                            \n                            \n                            \n                            \n                            \n                            \n                    \n                            \n                            45\n                            Liotard\n                            Yanis\n                            Pedro L.\n                            Simao B.\n                            Robin B.\n                            \n                            \n                            \n                            \n                            \n                    \n                            \n                            46\n                            Chancy\n                            Cédric / Ulysse\n                            Mael P.\n                            \n                            \n                            \n                            \n                            \n                            \n                            \n                    \n                            \n                            47\n                            Tivoli\n                            Romane / Meghna\n                            Leina N.\n                            Abel J.\n                            \n                            \n                            \n                            \n                            \n                            \n                    \n                            \n                            48\n                            Tattes\n                            Stefania\n                            Rommy S.\n                            Yoan M.\n                            Inti\n                            \n                            \n                            \n                            \n                            \n                    \n                            \n                            49\n                            Sècheron\n                            Unai\n                            James S.\n                            Gabriel M.\n                            \n                            \n                            \n                            \n                            \n                            \n                    \n                            \n                            50\n                            Trembley\n                            Amin / Deyan\n                            Irina D.\n                            Issac P.\n                            Yanis A.\n                            \n                            \n                            \n                            \n                            \n                    \n                            \n                            51\n                            Meyrin\n                            Thijs\n                            Fiorenza F.\n                            \n                            \n                            \n                            \n                            \n                            \n                            \n                    \n                    \n\n        \n        \n        \n    \n\n\n\n\n\n \nCatégorie M12 \n\n\n    \n        \n\n    \n        \n        \n        \n\n\n                            wdt_ID                Entraînement                Entraîneur                Participant/e                Participant/e                Participant/e                Participant/e                Participant/e                Participant/e                Participant/e                Participant/e    \n\n        \n\n        \n        \n\n\n\n    \n        \n            \n            \n            \n        \n                    \n                \n                \n                \n            \n                    \n                \n                \n                \n            \n                    \n                \n                \n                \n            \n                    \n                \n                \n                \n            \n                    \n                \n                \n                \n            \n                    \n                \n                \n                \n            \n                    \n                \n                \n                \n            \n                    \n                \n                \n                \n            \n                    \n                \n                \n                \n            \n                    \n                \n                \n                \n            \n                    \n                \n                \n                \n            \n                    \n                \n                \n                \n            \n            \n\n                    \n                            40\n                            Puplinge\n                            Ulysse / Deyan\n                            Nelly R.\n                            Léandre S.\n                            Nolhan T.\n                            Galaad T.\n                            \n                            \n                            \n                            \n                    \n                            \n                            41\n                            Aïre\n                            Cédric / Meredith\n                            Duncan T.\n                            Adrian C.\n                            Lucien C.\n                            Erblin D.\n                            \n                            \n                            \n                            \n                    \n                            \n                            42\n                            Liotard\n                            Rafaela\n                            Martim S.\n                            Liam O.\n                            Leyah V.\n                            Maëlys J.\n                            Aïman M.\n                            Lydie B.\n                            Maël A.\n                            \n                    \n                            \n                            43\n                            Roches\n                            Unai\n                            Rafael B.\n                            Alexandre B.\n                            Thibault V.\n                            \n                            \n                            \n                            \n                            \n                    \n                            \n                            44\n                            Meyrin\n                            Thijs\n                            Timéo F.\n                            Kevin G.\n                            Tiago B.\n                            Fralen F.\n                            \n                            \n                            \n                            \n                    \n                            \n                            45\n                            Paquis\n                            Dilan\n                            Liam B.\n                            Alexandre Z.\n                            Lucio L.\n                            Ruben A.\n                            Milo N.\n                            Kassian T.\n                            Baptiste D.\n                            \n                    \n                            \n                            46\n                            Trembley\n                            Amin / Deyan\n                            Francesco M.\n                            Jeoakim C.\n                            John Alexis N.\n                            Eva G.\n                            Aedan G.\n                            \n                            \n                            \n                    \n                            \n                            47\n                            Franchises\n                            Unai\n                            Othmane H.\n                            \n                            \n                            \n                            \n                            \n                            \n                            \n                    \n                            \n                            48\n                            Vollandes\n                            Cédric\n                            Andreï B.\n                            \n                            \n                            \n                            \n                            \n                            \n                            \n                    \n                            \n                            49\n                            Mail\n                            Unai\n                            Marcel B.\n                            \n                            \n                            \n                            \n                            \n                            \n                            \n                    \n                            \n                            50\n                            Cropettes\n                            Unai\n                            Mélanie G.\n                            Daniel L.\n                            \n                            \n                            \n                            \n                            \n                            \n                    \n                    \n\n        \n        \n        \n    \n\n\n\n\n\n \nFORMULAIRE D’INSCRIPTION M14\,M16\nVoici le liens vers le formulaire d’inscription M14\, M16 \nParticipation aux frais de transport (tournois hors de Genève) : 25.- \nINSCRIPTIONS CONFIRMÉES\nCatégorie M14 \n\n\n    \n        \n\n    \n        \n        \n        \n\n\n                            wdt_ID                Entraînement                Entraîneur                Participant/e                Participant/e                Participant/e                Participant/e                Participant/e                Participant/e                Participant/e    \n\n        \n\n        \n        \n\n\n\n    \n        \n            \n            \n            \n        \n                    \n                \n                \n                \n            \n                    \n                \n                \n                \n            \n                    \n                \n                \n                \n            \n                    \n                \n                \n                \n            \n                    \n                \n                \n                \n            \n                    \n                \n                \n                \n            \n            \n\n                    \n                            13\n                            Cayla\n                            Syméon\n                            Brian A.\n                            Eloan D.\n                            Wouter D.\n                            \n                            \n                            \n                            \n                    \n                            \n                            14\n                            Carouge\n                            Guillaume\n                            Esteban L.\n                            Maxime P.\n                            Rafael G.\n                            \n                            \n                            \n                            \n                    \n                            \n                            15\n                            Aïre\n                            Cédric / Meredith\n                            Kilyan Di Y.\n                            Alexandra M.\n                            Enzo U.\n                            Ulysse T.\n                            Enya P.\n                            Sara X.\n                            \n                    \n                            \n                            16\n                            Roches\n                            Deyan\n                            Florian Z.\n                            Lénane M.\n                            Mirko C.\n                            Lluvia R.\n                            Evan W.\n                            Clarence O.\n                            Aimée O.\n                    \n                            \n                            17\n                            Plateau\n                            Syméon\n                            Kéana N.\n                            Adrien R.\n                            Nathalia I.\n                            \n                            \n                            \n                            \n                    \n                    \n\n        \n        \n        \n    \n\n\n\n\n\n \nCatégorie M16 \n\n\n    \n        \n\n    \n        \n        \n        \n\n\n                            wdt_ID                Entraînement                Entraîneur                Participant/e                Participant/e                Participant/e                Participant/e                Participant/e                Participant/e                Participant/e                Participant/e    \n\n        \n\n        \n        \n\n\n\n    \n        \n            \n            \n            \n        \n                    \n                \n                \n                \n            \n                    \n                \n                \n                \n            \n            \n\n                    \n                            43
URL:https://tchoukballgeneve.ch/event/tournoi-de-sion-m10-m12-m15-2/
LOCATION:Chemin de saint-hubert 2\, 1950 Sion\, Chemin de Saint-Hubert\, 2\, Sion\, 1950\, France
ATTACH;FMTTYPE=image/webp:https://tchoukballgeneve.ch/wp-content/uploads/2021/08/Tournoi-de-Sion.webp
END:VEVENT
BEGIN:VEVENT
DTSTART;TZID=Europe/Zurich:20220402T080000
DTEND;TZID=Europe/Zurich:20220402T173000
DTSTAMP:20260424T064249
CREATED:20220202T101243Z
LAST-MODIFIED:20250606T125838Z
UID:7720-1648886400-1648920600@tchoukballgeneve.ch
SUMMARY:Tournoi junior de Marignier
DESCRIPTION:Formulaire D’inscription M12\,M16\nVoici le liens vers le formulaire d’inscription M12\, M16 \nParticipation aux frais de transport (tournois hors de Genève) : 25.- \nCe tournoi concerne : Tivoli M12\, Roseraie M12\, Saint Jean M12\, Chancy M12\, Chancy M16 et Cayla M16 \nINSCRIPTIONS CONFIRMÉES \n\n\n    \n        \n\n    \n        \n        \n        \n\n\n                            wdt_ID                Entraînement                Entraîneur                Participant/e                Participant/e                Participant/e                Participant/e                Participant/e                Participant/e                Participant/e                Participant/e    \n\n        \n\n        \n        \n\n\n\n    \n        \n            \n            \n            \n        \n                    \n                \n                \n                \n            \n                    \n                \n                \n                \n            \n                    \n                \n                \n                \n            \n                    \n                \n                \n                \n            \n                    \n                \n                \n                \n            \n                    \n                \n                \n                \n            \n                    \n                \n                \n                \n            \n            \n\n                    \n                            40\n                            Chancy M16\n                            Cédric / Ulysse\n                            Antoine H.\n                            Caelan O.\n                            Louis Z.\n                            Icare V.\n                            Robin M.\n                            \n                            \n                            \n                    \n                            \n                            41\n                            Chancy M12\n                            Cédric / Ulysse\n                            Loren S.\n                            Emile W.\n                            Théo M.\n                            Malcolm M.\n                            Timothé B.\n                            \n                            \n                            \n                    \n                            \n                            42\n                            Cayla M16\n                            Ulysse\n                            Mattéo S.\n                            Loïc D.\n                            Victor G.\n                            Diana M.\n                            Nazim S.\n                            \n                            \n                            \n                    \n                            \n                            43\n                            Tivoli M12\n                            Ulysse\n                            David P.\n                            Diogo V.\n                            Ana Sofìa P.\n                            Romane P.\n                            Louis P.\n                            Meyson V.\n                            \n                            \n                    \n                            \n                            44\n                            Roseraie M12\n                            William\n                            \n                            \n                            \n                            \n                            \n                            \n                            \n                            \n                    \n                            \n                            45\n                            Saint Jean M12\n                            William\n                            Bonelange\n                            \n                            \n                            \n                            \n                            \n                            \n                            \n                    \n                    \n\n        \n        \n        \n    \n\n\n\n\n\n \n 
URL:https://tchoukballgeneve.ch/event/tournoi-junior-de-marignier/
LOCATION:gymnase du collège\, 720 avenue d’Anterne\, Marignier\, 74970\, France
CATEGORIES:Clubs,Tournois
ATTACH;FMTTYPE=image/webp:https://tchoukballgeneve.ch/wp-content/uploads/2021/08/mari-scaled-1.webp
END:VEVENT
BEGIN:VEVENT
DTSTART;TZID=Europe/Zurich:20220403T080000
DTEND;TZID=Europe/Zurich:20220403T170000
DTSTAMP:20260424T064249
CREATED:20210826T102843Z
LAST-MODIFIED:20220307T100558Z
UID:6643-1648972800-1649005200@tchoukballgeneve.ch
SUMMARY:Tournoi de Sion - M18 Et adultes
DESCRIPTION:
URL:https://tchoukballgeneve.ch/event/tournoi-de-sion-m18-et-adultes/
LOCATION:Chemin de saint-hubert 2\, 1950 Sion\, Chemin de Saint-Hubert\, 2\, Sion\, 1950\, France
END:VEVENT
BEGIN:VEVENT
DTSTART;VALUE=DATE:20220409
DTEND;VALUE=DATE:20220411
DTSTAMP:20260424T064249
CREATED:20220307T095152Z
LAST-MODIFIED:20220307T095155Z
UID:9068-1649462400-1649635199@tchoukballgeneve.ch
SUMMARY:CHAMPIONNAT RÉGIONAL M16 – 8ÈME JOURNÉE
DESCRIPTION:Veuillez trouver toutes les informations et plan des matches détaillés sur la page du championnat régional M16.
URL:https://tchoukballgeneve.ch/event/championnat-regional-m16-8eme-journee/
LOCATION:Cycle de Cayla\, Chemin William Lescaze 8\, Genève\, 1203
CATEGORIES:Tournois
ATTACH;FMTTYPE=image/png:https://tchoukballgeneve.ch/wp-content/uploads/2022/02/Championnat-Regional-M16-Saison-2021-2022.png
END:VEVENT
BEGIN:VEVENT
DTSTART;TZID=Europe/Zurich:20220419T080000
DTEND;TZID=Europe/Zurich:20220422T170000
DTSTAMP:20260424T064249
CREATED:20220208T144140Z
LAST-MODIFIED:20250606T130124Z
UID:8074-1650355200-1650646800@tchoukballgeneve.ch
SUMMARY:CAMP de pâques 2022 DE TCHOUKBALL POUR LES 12 À 18 ANS
DESCRIPTION:Cette année notre camp de Pâques aura lieu du 19 au 22 avril 2022 et sera tout spécialement destiné aux juniors de de 12 à 18 ans qui souhaitent progresser dans leur technique de pratique du tchoukball. \nAge: 12-14 ans et 15-18 ans – Lieu Centre sportif de la Queue d’Arve 12 rue Francois Dussaud à Genève \nCamp sans nuitée\, repas de midi et collation comprises. \nPRIX\n300.- Rabais pour les membres d’une même famille: -15% pour les 2ème membre (255.-)\, -20% pour le 3ème (240.-) \nINSCRIPTIONS\nL’inscription se fait via ce formulaire d’inscription \nPour s’assurer que l’inscription se fasse de manière correcte\, au bas de formulaire d’inscription il faut cliquer sur le bouton “valider” pour valider votre inscription\, puis reconfirmer une 2ème fois pour que l’inscription nous parvienne. Vous pouvez savoir que nous avons correctement reçu votre inscription si vous recevez bien un e-mail de confirmation quelques minutes après avoir confirmé votre inscription. \nSi ce n’est pas le cas\, écrivez à sandrine.pfister@tchoukballgeneve.ch et nous restons toujours à votre disposition par e-mail ou téléphone au 022 796 67 66 en cas de questions. \nFlyer et information du camp.
URL:https://tchoukballgeneve.ch/event/camp-de-paques-2022-de-tchoukball-pour-les-12-a-18-ans/
LOCATION:Collège Sismondi\, Chemin Eugène-Rigot 3\, Genève\, 1202\, France
CATEGORIES:Activités,Camp
ATTACH;FMTTYPE=image/webp:https://tchoukballgeneve.ch/wp-content/uploads/2022/02/canava-new-ok-1.webp
END:VEVENT
BEGIN:VEVENT
DTSTART;VALUE=DATE:20220430
DTEND;VALUE=DATE:20220502
DTSTAMP:20260424T064249
CREATED:20211110T150419Z
LAST-MODIFIED:20250606T130132Z
UID:7313-1651276800-1651449599@tchoukballgeneve.ch
SUMMARY:Formation J+S - Animation d'un entraînement de qualité
DESCRIPTION:Un cours très pratique pour vous permettre d’avoir plus de succès avec vos participants/participantes grâce à la mise en place d’entraînement de grande qualité ! \nDélai d’inscription : 28.02.2022 \nN° du cours : STBV 179281
URL:https://tchoukballgeneve.ch/event/animation-dun-entrainement-de-qualite/
LOCATION:Lausanne\, Av. du Vieux-Moulin\, Lausanne\, 1018\, Suisse
CATEGORIES:Formation
ATTACH;FMTTYPE=image/webp:https://tchoukballgeneve.ch/wp-content/uploads/2022/02/Animation-dun-entrainement-de-qualite.webp
END:VEVENT
END:VCALENDAR