BEGIN:VCALENDAR
VERSION:2.0
PRODID:-//Association cantonale genevoise de tchoukball - ECPv6.15.20//NONSGML v1.0//EN
CALSCALE:GREGORIAN
METHOD:PUBLISH
X-WR-CALNAME:Association cantonale genevoise de tchoukball
X-ORIGINAL-URL:https://tchoukballgeneve.ch
X-WR-CALDESC:Évènements pour Association cantonale genevoise de tchoukball
REFRESH-INTERVAL;VALUE=DURATION:PT1H
X-Robots-Tag:noindex
X-PUBLISHED-TTL:PT1H
BEGIN:VTIMEZONE
TZID:Europe/Zurich
BEGIN:DAYLIGHT
TZOFFSETFROM:+0100
TZOFFSETTO:+0200
TZNAME:CEST
DTSTART:20210328T010000
END:DAYLIGHT
BEGIN:STANDARD
TZOFFSETFROM:+0200
TZOFFSETTO:+0100
TZNAME:CET
DTSTART:20211031T010000
END:STANDARD
BEGIN:DAYLIGHT
TZOFFSETFROM:+0100
TZOFFSETTO:+0200
TZNAME:CEST
DTSTART:20220327T010000
END:DAYLIGHT
BEGIN:STANDARD
TZOFFSETFROM:+0200
TZOFFSETTO:+0100
TZNAME:CET
DTSTART:20221030T010000
END:STANDARD
BEGIN:DAYLIGHT
TZOFFSETFROM:+0100
TZOFFSETTO:+0200
TZNAME:CEST
DTSTART:20230326T010000
END:DAYLIGHT
BEGIN:STANDARD
TZOFFSETFROM:+0200
TZOFFSETTO:+0100
TZNAME:CET
DTSTART:20231029T010000
END:STANDARD
END:VTIMEZONE
BEGIN:VEVENT
DTSTART;TZID=Europe/Zurich:20220214T080000
DTEND;TZID=Europe/Zurich:20220218T170000
DTSTAMP:20260424T104309
CREATED:20211216T171343Z
LAST-MODIFIED:20250606T125124Z
UID:7446-1644825600-1645203600@tchoukballgeneve.ch
SUMMARY:CAMP D’HIVER 2022 DE TCHOUKBALL POUR LES 6 À 15 ANS !
DESCRIPTION:Cette année le 1er Camp d’hiver va se tenir au centre sportif de la Vallée de Joux du 14 au 18 février 2022 \nNous nous réjouissons d’être en février et de partir au centre sportif de la Vallée de Joux avec vos enfants pour le deuxième camp de cette saison 2021-2022\, cette fois-ci à la neige ! \nPRIX\n 650.- la semaine tout compris avec le transport\, rabais pour les familles – 15% pour le 2ème enfant\, – 20% pour le 3ème enfant. \nINSCRIPTIONS\nL’inscription se fait via ce formulaire d’inscription \nPour s’assurer que l’inscription se fasse de manière correcte\, au bas de formulaire d’inscription il faut cliquer sur le bouton « valider » pour valider votre inscription\, puis reconfirmer une 2ème fois pour que l’inscription nous parvienne.Vous pouvez savoir que nous avons correctement reçu votre inscription si vous recevez bien un e-mail de confirmation quelques minutes après avoir confirmé votre inscription. \nSi ce n’est pas le cas\, écrivez à sandrine.pfister@tchoukballgeneve.ch et nous restons toujours à votre disposition par e-mail ou téléphone au 022 796 67 66 en cas de questions. \nFlyer et information du camp. \nUlysse Sanchez ReinosoDirecteur de Tchouk Loisir
URL:https://tchoukballgeneve.ch/event/inscription-pour-le-camp-dhiver-2022-de-tchoukball-pour-les-6-a-15-ans/
LOCATION:centre sportif de la Vallé de Joux\, Suisse
CATEGORIES:Camp
END:VEVENT
BEGIN:VEVENT
DTSTART;TZID=Europe/Zurich:20220227T080000
DTEND;TZID=Europe/Zurich:20220227T170000
DTSTAMP:20260424T104309
CREATED:20220221T144730Z
LAST-MODIFIED:20250606T125254Z
UID:8444-1645948800-1645981200@tchoukballgeneve.ch
SUMMARY:Championnat suisse junior – 1ère journée
DESCRIPTION:Equipes genevoise participant au championnat suisse\nM16 \n– Geneva Dragons Girls \n– Geneva Rush Mountain \n– Geneva Snackers \nM21 \n– Geneva Dragons
URL:https://tchoukballgeneve.ch/event/championnat-suisse-junior-1ere/
LOCATION:CFPT à Bienne\, Rue du Wasen 5\, Bienne\, 2502\, Suisse
CATEGORIES:Clubs,Tournois
ATTACH;FMTTYPE=image/webp:https://tchoukballgeneve.ch/wp-content/uploads/2022/02/Lucie-Courtois-TGI2021-12.12-20-scaled-1.webp
END:VEVENT
END:VCALENDAR