BEGIN:VCALENDAR
VERSION:2.0
PRODID:-//Association cantonale genevoise de tchoukball - ECPv6.15.20//NONSGML v1.0//EN
CALSCALE:GREGORIAN
METHOD:PUBLISH
X-WR-CALNAME:Association cantonale genevoise de tchoukball
X-ORIGINAL-URL:https://tchoukballgeneve.ch
X-WR-CALDESC:Évènements pour Association cantonale genevoise de tchoukball
REFRESH-INTERVAL;VALUE=DURATION:PT1H
X-Robots-Tag:noindex
X-PUBLISHED-TTL:PT1H
BEGIN:VTIMEZONE
TZID:Europe/Zurich
BEGIN:DAYLIGHT
TZOFFSETFROM:+0100
TZOFFSETTO:+0200
TZNAME:CEST
DTSTART:20200329T010000
END:DAYLIGHT
BEGIN:STANDARD
TZOFFSETFROM:+0200
TZOFFSETTO:+0100
TZNAME:CET
DTSTART:20201025T010000
END:STANDARD
BEGIN:DAYLIGHT
TZOFFSETFROM:+0100
TZOFFSETTO:+0200
TZNAME:CEST
DTSTART:20210328T010000
END:DAYLIGHT
BEGIN:STANDARD
TZOFFSETFROM:+0200
TZOFFSETTO:+0100
TZNAME:CET
DTSTART:20211031T010000
END:STANDARD
BEGIN:DAYLIGHT
TZOFFSETFROM:+0100
TZOFFSETTO:+0200
TZNAME:CEST
DTSTART:20220327T010000
END:DAYLIGHT
BEGIN:STANDARD
TZOFFSETFROM:+0200
TZOFFSETTO:+0100
TZNAME:CET
DTSTART:20221030T010000
END:STANDARD
END:VTIMEZONE
BEGIN:VEVENT
DTSTART;TZID=Europe/Zurich:20210802T083000
DTEND;TZID=Europe/Zurich:20210806T123000
DTSTAMP:20260424T194101
CREATED:20210611T122640Z
LAST-MODIFIED:20210611T122643Z
UID:6111-1627893000-1628253000@tchoukballgeneve.ch
SUMMARY:Cours d'été de tchoukball ville de Genève
DESCRIPTION:Découverte et initiation au tchoukball tous les matins de 8h30 à 12h30 du 2 au 6 Août 2021 pour enfants de 8 à 13 ans au centre sportif du Bois des Frères Vernier. \nAucune exigence particulière n’est requise pour la pratique de cette activité.  \nTenue: t-shirt\, short/training\, baskets d’intérieur\, gourde\, \nPour vous inscrire cliquer sur le lien de la ville de Genève  \nPrix: 65 CHF
URL:https://tchoukballgeneve.ch/event/cours-dete-de-tchoukball-ville-de-geneve-4/
LOCATION:Collège de la Fontenelle / Cernier\, Rue de Chasseral 3\, Cernier\, 2053\, Suisse
ATTACH;FMTTYPE=image/jpeg:https://tchoukballgeneve.ch/wp-content/uploads/2021/06/50445462407_7acf88f449_o-scaled.jpg
END:VEVENT
BEGIN:VEVENT
DTSTART;TZID=Europe/Zurich:20210803T110000
DTEND;TZID=Europe/Zurich:20210803T120000
DTSTAMP:20260424T194101
CREATED:20210714T123712Z
LAST-MODIFIED:20250605T153453Z
UID:6416-1627988400-1627992000@tchoukballgeneve.ch
SUMMARY:Urban Tchouk à la pointe de la jonction entrainements "spécial fille"
DESCRIPTION:Venez profitez du tchoukball gratuitement tout l’été à la pointe de la Jonction grâce à l’Urban tchouk entrainements “spécial fille” le mardi 3 août 2021 de 11h à 12h \nD’autres sports sont également proposés tous les jours sur ce lieu\, voici le programme complet \nVoici les informations sur le lieu \nLien vers le site internet \nVenez nombreux avec des amis pour profiter encore du tchoukball pendant tout l’été ! \nA noter dans vos agendas quelques temps forts \n– Mardi 17 aout : spécial baby tchouk pour les 4-7 ans de 11h à 12h \n– Les 3 aout\, 14 aout et 25 aout sont des entrainements “spécial fille”
URL:https://tchoukballgeneve.ch/event/urban-tchouk-a-la-pointe-de-la-jonction-5/
LOCATION:pointe de la jonction\, Sentier des Saules 3\, Genève\, 1205\, France
ATTACH;FMTTYPE=image/webp:https://tchoukballgeneve.ch/wp-content/uploads/2021/07/special-fille-scaled-1.webp
END:VEVENT
BEGIN:VEVENT
DTSTART;TZID=Europe/Zurich:20210804T140000
DTEND;TZID=Europe/Zurich:20210804T150000
DTSTAMP:20260424T194101
CREATED:20210714T130433Z
LAST-MODIFIED:20210715T074729Z
UID:6464-1628085600-1628089200@tchoukballgeneve.ch
SUMMARY:Urban Tchouk à la pointe de la jonction
DESCRIPTION:Venez profitez du tchoukball gratuitement tout l’été à la pointe de la Jonction grâce à l’Urban tchouk le mercredi 4 Août de 14h à 15h \nD’autres sports sont également proposés tous les jours sur ce lieu\, voici le programme complet \nVoici les informations sur le lieu \nLien vers le site internet \nVenez nombreux avec des amis pour profiter encore du tchoukball pendant tout l’été ! \nA noter dans vos agendas quelques temps forts \n– Mardi 17 aout : spécial baby tchouk pour les 4-7 ans de 11h à 12h \n– Les 3 aout\, 14 aout et 25 aout sont des entrainements “spécial fille”
URL:https://tchoukballgeneve.ch/event/urban-tchouk-a-la-pointe-de-la-jonction-13/
LOCATION:pointe de la jonction\, Sentier des Saules 3\, Genève\, 1205\, France
ATTACH;FMTTYPE=image/jpeg:https://tchoukballgeneve.ch/wp-content/uploads/2021/07/2021.07.08-Ludivine-Marmy-18.jpeg
END:VEVENT
BEGIN:VEVENT
DTSTART;TZID=Europe/Zurich:20210807T110000
DTEND;TZID=Europe/Zurich:20210807T120000
DTSTAMP:20260424T194101
CREATED:20210714T133542Z
LAST-MODIFIED:20250605T153728Z
UID:6503-1628334000-1628337600@tchoukballgeneve.ch
SUMMARY:Urban Tchouk à la pointe de la jonction
DESCRIPTION:Venez profitez du tchoukball gratuitement tout l’été à la pointe de la Jonction grâce à l’Urban tchouk le samedi 7 Août 2021 de 11h à 12h \nD’autres sports sont également proposés tous les jours sur ce lieu\, voici le programme complet \nVoici les informations sur le lieu \nLien vers le site internet \nVenez nombreux avec des amis pour profiter encore du tchoukball pendant tout l’été ! \nA noter dans vos agendas quelques temps forts \n– Mardi 17 aout : spécial baby tchouk pour les 4-7 ans de 11h à 12h \n– Les 3 aout\, 14 aout et 25 aout sont des entrainements “spécial fille”
URL:https://tchoukballgeneve.ch/event/urban-tchouk-a-la-pointe-de-la-jonction-21/
LOCATION:pointe de la jonction\, Sentier des Saules 3\, Genève\, 1205\, France
ATTACH;FMTTYPE=image/webp:https://tchoukballgeneve.ch/wp-content/uploads/2021/07/2021.07.08-Ludivine-Marmy-19.webp
END:VEVENT
BEGIN:VEVENT
DTSTART;TZID=Europe/Zurich:20210810T110000
DTEND;TZID=Europe/Zurich:20210810T120000
DTSTAMP:20260424T194101
CREATED:20210714T123744Z
LAST-MODIFIED:20210715T074850Z
UID:6422-1628593200-1628596800@tchoukballgeneve.ch
SUMMARY:Urban Tchouk à la pointe de la jonction
DESCRIPTION:Venez profitez du tchoukball gratuitement tout l’été à la pointe de la Jonction grâce à l’Urban tchouk le mardi 10 août 2021 de 11h à 12h \nD’autres sports sont également proposés tous les jours sur ce lieu\, voici le programme complet \nVoici les informations sur le lieu \nLien vers le site internet \nVenez nombreux avec des amis pour profiter encore du tchoukball pendant tout l’été ! \nA noter dans vos agendas quelques temps forts \n– Mardi 17 aout : spécial baby tchouk pour les 4-7 ans de 11h à 12h \n– Les 3 aout\, 14 aout et 25 aout sont des entrainements “spécial fille”
URL:https://tchoukballgeneve.ch/event/urban-tchouk-a-la-pointe-de-la-jonction-6/
LOCATION:pointe de la jonction\, Sentier des Saules 3\, Genève\, 1205\, France
END:VEVENT
BEGIN:VEVENT
DTSTART;TZID=Europe/Zurich:20210811T140000
DTEND;TZID=Europe/Zurich:20210811T150000
DTSTAMP:20260424T194101
CREATED:20210714T130904Z
LAST-MODIFIED:20210715T074925Z
UID:6472-1628690400-1628694000@tchoukballgeneve.ch
SUMMARY:Urban Tchouk à la pointe de la jonction
DESCRIPTION:Venez profitez du tchoukball gratuitement tout l’été à la pointe de la Jonction grâce à l’Urban tchouk le mercredi 11 Août de 14h à 15h \nD’autres sports sont également proposés tous les jours sur ce lieu\, voici le programme complet \nVoici les informations sur le lieu \nLien vers le site internet \nVenez nombreux avec des amis pour profiter encore du tchoukball pendant tout l’été ! \nA noter dans vos agendas quelques temps forts \n– Mardi 17 aout : spécial baby tchouk pour les 4-7 ans de 11h à 12h \n– Les 3 aout\, 14 aout et 25 aout sont des entrainements “spécial fille”
URL:https://tchoukballgeneve.ch/event/urban-tchouk-a-la-pointe-de-la-jonction-14/
LOCATION:pointe de la jonction\, Sentier des Saules 3\, Genève\, 1205\, France
ATTACH;FMTTYPE=image/jpeg:https://tchoukballgeneve.ch/wp-content/uploads/2021/07/2021.07.08-Ludivine-Marmy-18.jpeg
END:VEVENT
BEGIN:VEVENT
DTSTART;TZID=Europe/Zurich:20210814T110000
DTEND;TZID=Europe/Zurich:20210814T120000
DTSTAMP:20260424T194101
CREATED:20210714T133739Z
LAST-MODIFIED:20250605T153504Z
UID:6507-1628938800-1628942400@tchoukballgeneve.ch
SUMMARY:Urban Tchouk à la pointe de la jonction entrainements "spécial fille"
DESCRIPTION:Venez profitez du tchoukball gratuitement tout l’été à la pointe de la Jonction grâce à l’Urban tchouk entrainements “spécial fille”  le samedi 14 Août 2021 de 11h à 12h \nD’autres sports sont également proposés tous les jours sur ce lieu\, voici le programme complet \nVoici les informations sur le lieu \nLien vers le site internet \nVenez nombreux avec des amis pour profiter encore du tchoukball pendant tout l’été ! \nA noter dans vos agendas quelques temps forts \n– Mardi 17 aout : spécial baby tchouk pour les 4-7 ans de 11h à 12h \n– Les 3 aout\, 14 aout et 25 aout sont des entrainements “spécial fille”
URL:https://tchoukballgeneve.ch/event/urban-tchouk-a-la-pointe-de-la-jonction-22/
LOCATION:pointe de la jonction\, Sentier des Saules 3\, Genève\, 1205\, France
ATTACH;FMTTYPE=image/webp:https://tchoukballgeneve.ch/wp-content/uploads/2021/07/special-fille-scaled-1.webp
END:VEVENT
BEGIN:VEVENT
DTSTART;VALUE=DATE:20210816
DTEND;VALUE=DATE:20210821
DTSTAMP:20260424T194101
CREATED:20210420T130514Z
LAST-MODIFIED:20210611T123254Z
UID:5589-1629072000-1629503999@tchoukballgeneve.ch
SUMMARY:CAMP D’ÉTÉ AOÛT 2021 - Complet
DESCRIPTION:Camp de 5 jours de 8h00 à 17h00 pour les enfants âgés de 7 à 15 ans\, prix de la semaine : 350 chf payable sur le CCP : 15-132233-6. \nLieu du camp : Centre sportif de la Queue d’Arve \, Rue François-Dussaud 12\, 1227 Genève \nFlyer d’information \nCe camp est complet !Nous avons rapidement reçu un très grand nombre d’inscriptions pour ce camp. Il est maintenant déjà complet.Si vous le souhaitez\, vous pouvez nous contactez à l’adresse “sandrine.pfister@tchoukballgeneve.ch” pour que nous enregistrions votre adresse e-mail sur une liste d’attente. Nous vous contacterons de suite si une place venait à se libérer.Vu le succès de nos camps nous allons tâcher d’offrir encore plus de places l’année prochaine. Un grand merci pour votre confiance et votre fidélité. \nPour plus d’informations merci de contacter Sandrine Pfister au 022 796 67 66 ou par e-mail : sandrine.pfister@tchoukballgeneve.ch \n\n\n 
URL:https://tchoukballgeneve.ch/event/camp-dete-aout-2021/
CATEGORIES:Camp,Clubs
ATTACH;FMTTYPE=image/jpeg:https://tchoukballgeneve.ch/wp-content/uploads/2021/04/Flyer-Tchouk-Loisir-ete-2021-1-2.jpg
END:VEVENT
BEGIN:VEVENT
DTSTART;TZID=Europe/Zurich:20210817T110000
DTEND;TZID=Europe/Zurich:20210817T120000
DTSTAMP:20260424T194101
CREATED:20210714T123953Z
LAST-MODIFIED:20250605T153544Z
UID:6426-1629198000-1629201600@tchoukballgeneve.ch
SUMMARY:Urban Tchouk à la pointe de la jonction spécial Baby Tchouk pour les 4 - 7 ans
DESCRIPTION:Venez profitez du tchoukball gratuitement tout l’été à la pointe de la Jonction grâce à l’Urban tchouk spécial Baby Tchouk le mardi 17 août 2021 de 11h à 12h \nD’autres sports sont également proposés tous les jours sur ce lieu\, voici le programme complet \nVoici les informations sur le lieu \nLien vers le site internet \nVenez nombreux avec des amis pour profiter encore du tchoukball pendant tout l’été ! \nA noter dans vos agendas quelques temps forts \n– Mardi 17 aout : spécial baby tchouk pour les 4-7 ans de 11h à 12h \n– Les 3 aout\, 14 aout et 25 aout sont des entrainements “spécial fille”
URL:https://tchoukballgeneve.ch/event/urban-tchouk-a-la-pointe-de-la-jonction-7/
LOCATION:pointe de la jonction\, Sentier des Saules 3\, Genève\, 1205\, France
ATTACH;FMTTYPE=image/webp:https://tchoukballgeneve.ch/wp-content/uploads/2021/07/baby-2-scaled-1.webp
END:VEVENT
BEGIN:VEVENT
DTSTART;TZID=Europe/Zurich:20210818T140000
DTEND;TZID=Europe/Zurich:20210818T150000
DTSTAMP:20260424T194101
CREATED:20210714T131107Z
LAST-MODIFIED:20250605T153836Z
UID:6476-1629295200-1629298800@tchoukballgeneve.ch
SUMMARY:Urban Tchouk à la pointe de la jonction
DESCRIPTION:Venez profitez du tchoukball gratuitement tout l’été à la pointe de la Jonction grâce à l’Urban tchouk le mercredi 18 Août de 14h à 15h \nD’autres sports sont également proposés tous les jours sur ce lieu\, voici le programme complet \nVoici les informations sur le lieu \nLien vers le site internet \nVenez nombreux avec des amis pour profiter encore du tchoukball pendant tout l’été ! \nA noter dans vos agendas quelques temps forts \n– Mardi 17 aout : spécial baby tchouk pour les 4-7 ans de 11h à 12h \n–  Les 3 aout\, 14 aout et 25 aout sont des entrainements “spécial fille”
URL:https://tchoukballgeneve.ch/event/urban-tchouk-a-la-pointe-de-la-jonction-15/
LOCATION:pointe de la jonction\, Sentier des Saules 3\, Genève\, 1205\, France
ATTACH;FMTTYPE=image/jpeg:https://tchoukballgeneve.ch/wp-content/uploads/2021/07/2021.07.08-Ludivine-Marmy-18-1.jpeg
END:VEVENT
BEGIN:VEVENT
DTSTART;TZID=Europe/Zurich:20210821T110000
DTEND;TZID=Europe/Zurich:20210821T120000
DTSTAMP:20260424T194101
CREATED:20210714T133936Z
LAST-MODIFIED:20250605T153739Z
UID:6511-1629543600-1629547200@tchoukballgeneve.ch
SUMMARY:Urban Tchouk à la pointe de la jonction
DESCRIPTION:Venez profitez du tchoukball gratuitement tout l’été à la pointe de la Jonction grâce à l’Urban tchouk le samedi 21 Août 2021 de 11h à 12h \nD’autres sports sont également proposés tous les jours sur ce lieu\, voici le programme complet \nVoici les informations sur le lieu \nLien vers le site internet \nVenez nombreux avec des amis pour profiter encore du tchoukball pendant tout l’été ! \nA noter dans vos agendas quelques temps forts \n– Mardi 17 aout : spécial baby tchouk pour les 4-7 ans de 11h à 12h \n–  Les 3 aout\, 14 aout et 25 aout sont des entrainements “spécial fille”
URL:https://tchoukballgeneve.ch/event/urban-tchouk-a-la-pointe-de-la-jonction-23/
LOCATION:pointe de la jonction\, Sentier des Saules 3\, Genève\, 1205\, France
ATTACH;FMTTYPE=image/webp:https://tchoukballgeneve.ch/wp-content/uploads/2021/07/2021.07.08-Ludivine-Marmy-19.webp
END:VEVENT
BEGIN:VEVENT
DTSTART;TZID=Europe/Zurich:20210824T110000
DTEND;TZID=Europe/Zurich:20210824T120000
DTSTAMP:20260424T194101
CREATED:20210714T124030Z
LAST-MODIFIED:20210715T075241Z
UID:6430-1629802800-1629806400@tchoukballgeneve.ch
SUMMARY:Urban Tchouk à la pointe de la jonction
DESCRIPTION:Venez profitez du tchoukball gratuitement tout l’été à la pointe de la Jonction grâce à l’Urban tchouk le mardi 24 août 2021 de 11h à 12h \nD’autres sports sont également proposés tous les jours sur ce lieu\, voici le programme complet \nVoici les informations sur le lieu \nLien vers le site internet \nVenez nombreux avec des amis pour profiter encore du tchoukball pendant tout l’été ! \nA noter dans vos agendas quelques temps forts \n– Mardi 17 aout : spécial baby tchouk pour les 4-7 ans de 11h à 12h \n–  Les 3 aout\, 14 aout et 25 aout sont des entrainements “spécial fille”
URL:https://tchoukballgeneve.ch/event/urban-tchouk-a-la-pointe-de-la-jonction-8/
LOCATION:pointe de la jonction\, Sentier des Saules 3\, Genève\, 1205\, France
END:VEVENT
BEGIN:VEVENT
DTSTART;TZID=Europe/Zurich:20210825T140000
DTEND;TZID=Europe/Zurich:20210825T150000
DTSTAMP:20260424T194101
CREATED:20210714T131313Z
LAST-MODIFIED:20210715T075305Z
UID:6480-1629900000-1629903600@tchoukballgeneve.ch
SUMMARY:Urban Tchouk à la pointe de la jonction entrainements "spécial fille"
DESCRIPTION:Venez profitez du tchoukball gratuitement tout l’été à la pointe de la Jonction grâce à l’Urban tchouk entrainements “spécial fille”  le mercredi 25 Août de 14h à 15h \nD’autres sports sont également proposés tous les jours sur ce lieu\, voici le programme complet \nVoici les informations sur le lieu \nLien vers le site internet \nVenez nombreux avec des amis pour profiter encore du tchoukball pendant tout l’été ! \nA noter dans vos agendas quelques temps forts \n– Mardi 17 aout : spécial baby tchouk pour les 4-7 ans de 11h à 12h \n–  Les 3 aout\, 14 aout et 25 aout sont des entrainements “spécial fille”
URL:https://tchoukballgeneve.ch/event/urban-tchouk-a-la-pointe-de-la-jonction-16/
LOCATION:pointe de la jonction\, Sentier des Saules 3\, Genève\, 1205\, France
ATTACH;FMTTYPE=image/jpeg:https://tchoukballgeneve.ch/wp-content/uploads/2021/07/special-fille-scaled.jpg
END:VEVENT
END:VCALENDAR