BEGIN:VCALENDAR
VERSION:2.0
PRODID:-//Association cantonale genevoise de tchoukball - ECPv6.15.20//NONSGML v1.0//EN
CALSCALE:GREGORIAN
METHOD:PUBLISH
X-ORIGINAL-URL:https://tchoukballgeneve.ch
X-WR-CALDESC:Évènements pour Association cantonale genevoise de tchoukball
REFRESH-INTERVAL;VALUE=DURATION:PT1H
X-Robots-Tag:noindex
X-PUBLISHED-TTL:PT1H
BEGIN:VTIMEZONE
TZID:Europe/Zurich
BEGIN:DAYLIGHT
TZOFFSETFROM:+0100
TZOFFSETTO:+0200
TZNAME:CEST
DTSTART:20230326T010000
END:DAYLIGHT
BEGIN:STANDARD
TZOFFSETFROM:+0200
TZOFFSETTO:+0100
TZNAME:CET
DTSTART:20231029T010000
END:STANDARD
BEGIN:DAYLIGHT
TZOFFSETFROM:+0100
TZOFFSETTO:+0200
TZNAME:CEST
DTSTART:20240331T010000
END:DAYLIGHT
BEGIN:STANDARD
TZOFFSETFROM:+0200
TZOFFSETTO:+0100
TZNAME:CET
DTSTART:20241027T010000
END:STANDARD
BEGIN:DAYLIGHT
TZOFFSETFROM:+0100
TZOFFSETTO:+0200
TZNAME:CEST
DTSTART:20250330T010000
END:DAYLIGHT
BEGIN:STANDARD
TZOFFSETFROM:+0200
TZOFFSETTO:+0100
TZNAME:CET
DTSTART:20251026T010000
END:STANDARD
END:VTIMEZONE
BEGIN:VEVENT
DTSTART;TZID=Europe/Zurich:20240203T080000
DTEND;TZID=Europe/Zurich:20240203T170000
DTSTAMP:20260421T192813
CREATED:20230828T141319Z
LAST-MODIFIED:20250610T120212Z
UID:13775-1706947200-1706979600@tchoukballgeneve.ch
SUMMARY:CHAMPIONNAT SUISSE M16\, M21 : 3ème JOURNÉE
DESCRIPTION:Se renseigner auprès de son coach.
URL:https://tchoukballgeneve.ch/event/championnat-suisse-m16-m21-3eme-journee/
LOCATION:Pavillon des sports\, Rue de la Charrière 78\, La Chaux-de-Fonds\, 2300
CATEGORIES:Activités,Clubs,Tournois
ATTACH;FMTTYPE=image/webp:https://tchoukballgeneve.ch/wp-content/uploads/2023/08/3eme-jousiss-tchoukball.webp
END:VEVENT
BEGIN:VEVENT
DTSTART;VALUE=DATE:20240211
DTEND;VALUE=DATE:20240212
DTSTAMP:20260421T192813
CREATED:20230310T090830Z
LAST-MODIFIED:20250610T120617Z
UID:12512-1707609600-1707695999@tchoukballgeneve.ch
SUMMARY:Tournoi junior de Köniz
DESCRIPTION:
URL:https://tchoukballgeneve.ch/event/tournoi-juniors-de-koniz/
LOCATION:Oberstufenzentrum\, Köniz\, Schwarzenburgstrasse 321\, Köniz\, 3098\, Suisse
CATEGORIES:Activités,Clubs,Tournois
ATTACH;FMTTYPE=image/webp:https://tchoukballgeneve.ch/wp-content/uploads/2024/01/Konitz.webp
END:VEVENT
END:VCALENDAR