BEGIN:VCALENDAR
VERSION:2.0
PRODID:-//Association cantonale genevoise de tchoukball - ECPv6.15.20//NONSGML v1.0//EN
CALSCALE:GREGORIAN
METHOD:PUBLISH
X-WR-CALNAME:Association cantonale genevoise de tchoukball
X-ORIGINAL-URL:https://tchoukballgeneve.ch
X-WR-CALDESC:Évènements pour Association cantonale genevoise de tchoukball
REFRESH-INTERVAL;VALUE=DURATION:PT1H
X-Robots-Tag:noindex
X-PUBLISHED-TTL:PT1H
BEGIN:VTIMEZONE
TZID:Europe/Zurich
BEGIN:DAYLIGHT
TZOFFSETFROM:+0100
TZOFFSETTO:+0200
TZNAME:CEST
DTSTART:20230326T010000
END:DAYLIGHT
BEGIN:STANDARD
TZOFFSETFROM:+0200
TZOFFSETTO:+0100
TZNAME:CET
DTSTART:20231029T010000
END:STANDARD
BEGIN:DAYLIGHT
TZOFFSETFROM:+0100
TZOFFSETTO:+0200
TZNAME:CEST
DTSTART:20240331T010000
END:DAYLIGHT
BEGIN:STANDARD
TZOFFSETFROM:+0200
TZOFFSETTO:+0100
TZNAME:CET
DTSTART:20241027T010000
END:STANDARD
BEGIN:DAYLIGHT
TZOFFSETFROM:+0100
TZOFFSETTO:+0200
TZNAME:CEST
DTSTART:20250330T010000
END:DAYLIGHT
BEGIN:STANDARD
TZOFFSETFROM:+0200
TZOFFSETTO:+0100
TZNAME:CET
DTSTART:20251026T010000
END:STANDARD
END:VTIMEZONE
BEGIN:VEVENT
DTSTART;TZID=Europe/Zurich:20240113T080000
DTEND;TZID=Europe/Zurich:20240113T170000
DTSTAMP:20260421T223344
CREATED:20230828T141005Z
LAST-MODIFIED:20250610T120007Z
UID:13772-1705132800-1705165200@tchoukballgeneve.ch
SUMMARY:CHAMPIONNAT SUISSE M16\, M21 : 2ème JOURNÉE
DESCRIPTION:Se renseigner auprès de son coach.
URL:https://tchoukballgeneve.ch/event/championnat-suisse-m16-m21-2eme-journee/
LOCATION:Cycle de Cayla\, Chemin William Lescaze 8\, Genève\, 1203
CATEGORIES:Activités,Clubs,Tournois
ATTACH;FMTTYPE=image/webp:https://tchoukballgeneve.ch/wp-content/uploads/2023/08/2-eme-jour-siss-tchoukball.webp
END:VEVENT
BEGIN:VEVENT
DTSTART;TZID=Europe/Zurich:20240127T090000
DTEND;TZID=Europe/Zurich:20240127T120000
DTSTAMP:20260421T223344
CREATED:20230830T112519Z
LAST-MODIFIED:20250610T120126Z
UID:13850-1706346000-1706356800@tchoukballgeneve.ch
SUMMARY:CHAMPIONNAT GENEVOIS JUNIOR M8\,M10
DESCRIPTION:Horaires\nJuniors M10 :– Accueil à 8h45– Début des matchs à 9h17– Fin des matchs à 12h03– Annonce des résultats à 12h10 puis fin du tournoi \nJuniors M8 :– Accueil à 9h10– Début des matchs à 9h42– Fin des matchs à 12h03– Annonce des résultats à 12h10 puis fin du tournoi \nPlans des matchs\nPlan des matchs de la catégorie M10Plan des matchs de la catégorie M8 \nINSCRIPTIONS CONFIRMÉES\nCatégorie M8 \n\n\n    \n        \n\n    \n        \n        \n        \n\n\n                            wdt_ID                Entraînement                Entraîneur                Participant/e                Participant/e                Participant/e                Participant/e                Participant/e                Participant/e                Participant/e    \n\n        \n\n        \n        \n\n\n\n    \n        \n            \n            \n            \n        \n                    \n                \n                \n                \n            \n                    \n                \n                \n                \n            \n                    \n                \n                \n                \n            \n                    \n                \n                \n                \n            \n                    \n                \n                \n                \n            \n                    \n                \n                \n                \n            \n                    \n                \n                \n                \n            \n                    \n                \n                \n                \n            \n                    \n                \n                \n                \n            \n            \n\n                    \n                            67\n                            Trembley\n                            Amin\n                            Lucca B.\n                            Edward H.\n                            \n                            \n                            \n                            \n                            \n                    \n                            \n                            68\n                            Etang\n                            Erika\n                            Petar V.\n                            Yannis B.\n                            Alya G.\n                            Liam M.\n                            \n                            \n                            \n                    \n                            \n                            66\n                            Cayla\n                            Basma\n                            Adrien G.\n                            Nolan N.\n                            Mattia C.\n                            Raphaël M.\n                            Théo B.\n                            Eliott M.\n                            \n                    \n                            \n                            59\n                            Puplinge\n                            Deyan\n                            Matteo C.\n                            \n                            \n                            \n                            \n                            \n                            \n                    \n                            \n                            69\n                            Mail\n                            Jerson\n                            Jorden K.\n                            Jules V.\n                            Ada H.\n                            Alberto R.\n                            Mateo M.\n                            Adriano\n                            \n                    \n                            \n                            70\n                            Emilie de Morsier\n                            Cédric\n                            Gabriel D.\n                            Nathan L.\n                            Anaïs M.\n                            Jonas L.\n                            Nathan G.\n                            Dylan M.\n                            \n                    \n                            \n                            71\n                            Aïre\n                            Cédric\n                            Noé M.\n                            \n                            \n                            \n                            \n                            \n                            \n                    \n                            \n                            72\n                            Vollandes\n                            Erika\n                            Nicolo D.\n                            \n                            \n                            \n                            \n                            \n                            \n                    \n                    \n\n        \n        \n        \n    \n\n\n\n\n\n \nCatégorie M10 \n\n\n    \n        \n\n    \n        \n        \n        \n\n\n                            wdt_ID                Entraînement                Entraîneur                Participant/e                Participant/e                Participant/e                Participant/e                Participant/e                Participant/e                Participant/e    \n\n        \n\n        \n        \n\n\n\n    \n        \n            \n            \n            \n        \n                    \n                \n                \n                \n            \n                    \n                \n                \n                \n            \n                    \n                \n                \n                \n            \n                    \n                \n                \n                \n            \n                    \n                \n                \n                \n            \n                    \n                \n                \n                \n            \n                    \n                \n                \n                \n            \n                    \n                \n                \n                \n            \n                    \n                \n                \n                \n            \n                    \n                \n                \n                \n            \n                    \n                \n                \n                \n            \n                    \n                \n                \n                \n            \n                    \n                \n                \n                \n            \n                    \n                \n                \n                \n            \n            \n\n                    \n                            59\n                            Trembley\n                            Amin\n                            Jonas F.\n                            Sacha R\n                            Tiago C.\n                            Gustavo C.\n                            Pablo M.\n                            Layla M.\n                            \n                    \n                            \n                            60\n                            Roches\n                            Vincent\n                            Jack A.\n                            Léon T.\n                            Hugo M.\n                            Blanche O.\n                            \n                            \n                            \n                    \n                            \n                            61\n                            Puplinge\n                            Deyan\n                            Léon A.\n                            Arthur K.\n                            Amandine K.\n                            Manon L.\n                            Mathis P.\n                            Matteo C.\n                            Lino T.\n                    \n                            \n                            62\n                            Liotard\n                            Vincent\n                            Louis B.\n                            Théophile L.\n                            Peter M.\n                            Jed K.\n                            \n                            \n                            \n                    \n                            \n                            63\n                            Micheli-du-Crest\n                            Unai\n                            Antoine L.\n                            Raphaël D.\n                            Omar C.\n                            \n                            \n                            \n                            \n                    \n                            \n                            67\n                            Etang\n                            Daniel\n                            Dimitrije V.\n                            Hugo\n                            \n                            \n                            \n                            \n                            \n                    \n                            \n                            65\n                            Mail\n                            Jerson\n                            Diogo G.\n                            Pedro F.\n                            Rafael A.\n                            Ayhan H.\n                            \n                            \n                            \n                    \n                            \n                            66\n                            Emilie de Morsier\n                            Cédric\n                            Léon L.\n                            Manon E.\n                            Lexy H.\n                            Shayma B.\n                            Mathis R.\n                            \n                            \n                    \n                            \n                            68\n                            Cayla\n                            Basma\n                            Bastien S.\n                            Benjamin M.\n                            \n                            \n                            \n                            \n                            \n                    \n                            \n                            69\n                            Tivoli\n                            Meghna\n                            Jordan G.\n                            \n                            \n                            \n                            \n                            \n                            \n                    \n                            \n                            70\n                            Onex\n                            Jerson\n                            Enora P.\n                            Kevin F.\n                            Joueur 3\n                            Suad L.\n                            Alexia\n                            \n                            \n                    \n                            \n                            71\n                            St Jean\n                            David\n                            Joji P.\n                            \n                            \n                            \n                            \n                            \n                            \n                    \n                            \n                            72\n                            Chancy\n                            Deyan\n                            Elsa F.\n                            \n                            \n                            \n                            \n                            \n                            \n                    \n                    \n\n        \n        \n        \n    \n\n\n\n\n\n \nBuvette / restauration 😊😊😊 !!!\n– Pour la première fois nous aurons lors de ce w-e une buvette à votre disposition durant tout le w-e !!!– Vous pourrez ainsi bénéficier sur place de : boissons\, café\, thé\, hot-dog\, croissant\, pain au chocolat\, barre chocolatée\, chips\, etc …– Paiement par carte de crédit\, twint et cash.– Profitez-en amplement !! Si l’expérience en concluante nous tâcherons de continuer à vous proposer une buvette lors des prochains tournois à Cayla 😊 !– Pensez aussi à prendre votre bouteille d’eau (avec votre nom dessus) pour boire régulièrement entre les matchs. \nStand / Maillots pour les juniors avec le nom et le numéro de votre enfant :\n-> Si votre enfant a déjà son maillot et short avec son nom et numéro\, il est important qu’il le prenne pour jouer avec lors de ces matchs de ce w-e-> Si votre enfant n’a pas encore son propre maillot et short de son club\, il peut jouer ce w-e avec n’importe quel short et t-shirt de sport qu’il aura pris pour cette journée -> nous lui prêterons si nécessaire une chasuble de la couleur de son équipe.-> Le stand de vente se tiendra le samedi de 9h à 15h. Vous pourrez ainsi venir essayer des maillots\, trainings\, sacs\, genouillères. Venez passer votre commande et votre enfant pourra jouer sous les couleurs de son club lors du prochain tournoi !
URL:https://tchoukballgeneve.ch/event/championnat-genevois-junior-m8m10-3eme-journee/
LOCATION:Cycle de Cayla\, Chemin William Lescaze 8\, Genève\, 1203
CATEGORIES:Activités,Clubs,Tournois
ATTACH;FMTTYPE=image/webp:https://tchoukballgeneve.ch/wp-content/uploads/2023/08/3eme-2.webp
END:VEVENT
BEGIN:VEVENT
DTSTART;TZID=Europe/Zurich:20240127T120000
DTEND;TZID=Europe/Zurich:20240127T180000
DTSTAMP:20260421T223344
CREATED:20230830T113038Z
LAST-MODIFIED:20250610T120139Z
UID:13856-1706356800-1706378400@tchoukballgeneve.ch
SUMMARY:CHAMPIONNAT GENEVOIS JUNIOR M12
DESCRIPTION:Horaires du samedi 27 janvier l’après-midi –> juniors M12 :\nAttention\, tous les juniors M12 ne joueront pas avec les mêmes horaires ce samedi !!-> Vous trouverez sur cette page les informations pour savoir dans quelle équipe va jouer votre fils/filles \nLes équipes M12 suivantes joueront ce samedi dans :– le groupe M12A: Micheli\, Chancy Dark\, Trembley\, Europe\, Meyrin\, Onex\, Roches– le groupe M12B: Etang\, Saint-Jean\, Puplinge\, Aïre\, Mail\, Liotard \nJuniors M12 A :– Accueil à 12h30– Début des matchs à 13h00– Fin des matchs à 14h55– Annonce des résultats à 15h05 puis fin du tournoi \nJuniors M12 B :– Accueil à 15h00– Début des matchs à 15h30– Fin des matchs à 17h50– Annonce des résultats à 18h05 puis fin du tournoi \nPlans des matchs\n– Plan pour le Groupe A– Plan pour le Groupe B \nINSCRIPTIONS CONFIRMÉES\nCatégorie M12 \n\n\n    \n        \n\n    \n        \n        \n        \n\n\n                            wdt_ID                Entraînement                Entraîneur                Participant/e                Participant/e                Participant/e                Participant/e                Participant/e                Participant/e                Participant/e                Participant/e    \n\n        \n\n        \n        \n\n\n\n    \n        \n            \n            \n            \n        \n                    \n                \n                \n                \n            \n                    \n                \n                \n                \n            \n                    \n                \n                \n                \n            \n                    \n                \n                \n                \n            \n                    \n                \n                \n                \n            \n                    \n                \n                \n                \n            \n                    \n                \n                \n                \n            \n                    \n                \n                \n                \n            \n                    \n                \n                \n                \n            \n                    \n                \n                \n                \n            \n                    \n                \n                \n                \n            \n                    \n                \n                \n                \n            \n                    \n                \n                \n                \n            \n                    \n                \n                \n                \n            \n                    \n                \n                \n                \n            \n                    \n                \n                \n                \n            \n                    \n                \n                \n                \n            \n            \n\n                    \n                            109\n                            Pâquis\n                            Unai\n                            Minh Nam N.\n                            \n                            \n                            \n                            \n                            \n                            \n                            \n                    \n                            \n                            106\n                            Onex\n                            Jerson\n                            Anaé S.\n                            Simon V.\n                            Zeri S.\n                            Ethan D.\n                            Eliot\n                            \n                            \n                            \n                    \n                            \n                            107\n                            Roches\n                            Unai\n                            Elliot T.\n                            Matthieu M.\n                            Marie L.\n                            \n                            \n                            \n                            \n                            \n                    \n                            \n                            108\n                            St Jean\n                            David\n                            Paul C.\n                            Jules T.\n                            Tomàs P.\n                            Demir C.\n                            \n                            \n                            \n                            \n                    \n                            \n                            101\n                            Europe\n                            Cédric\n                            Ela B.\n                            Rafael D.\n                            Emil Z.\n                            Amélie C.\n                            Elliot A.\n                            \n                            \n                            \n                    \n                            \n                            100\n                            Mail\n                            Jerson\n                            Aden M.\n                            Zakaria E.\n                            Kunga K.\n                            Julien N.\n                            Anselmo\n                            José\n                            Lourenço\n                            \n                    \n                            \n                            102\n                            Aïre\n                            Cédric\n                            Thibaud C.\n                            Antoine B.\n                            Kevin M.\n                            Maël M.\n                            William B.\n                            Damien M.\n                            \n                            \n                    \n                            \n                            103\n                            Etang\n                            Daniel\n                            Nolan S.\n                            Rinis\n                            Elian\n                            Lonis\n                            Matéo\n                            \n                            \n                            \n                    \n                            \n                            104\n                            Liotard\n                            Syméon\n                            Lubin D.\n                            Omar B.\n                            Naël G.\n                            Pedro L.\n                            \n                            \n                            \n                            \n                    \n                            \n                            105\n                            Puplinge\n                            Deyan\n                            Elise A.\n                            Alouan V.\n                            Naël V.\n                            \n                            \n                            \n                            \n                            \n                    \n                            \n                            85\n                            Micheli-du-Crest\n                            Unai\n                            Camille L.\n                            Lucas C.\n                            Evan H.\n                            Nephtalie N.\n                            Adrien H.\n                            Nadège M.\n                            \n                            \n                    \n                            \n                            98\n                            Chancy\n                            Deyan\n                            Eve R.\n                            Ella R.\n                            Eliiott M.\n                            Jessy P.\n                            Enzo A.\n                            Bastien C.\n                            Aron A.\n                            Nathan H.\n                    \n                            \n                            99\n                            Trembley\n                            Amin\n                            Jhon Alexander A.\n                            Isaac P.\n                            Lorenzo G.\n                            Mikael G.\n                            	Hector F.\n                            \n                            \n                            \n                    \n                            \n                            110\n                            Sécheron\n                            Jerson\n                            Yanis A.\n                            Vincent P.\n                            Raphaël\n                            \n                            \n                            \n                            \n                            \n                    \n                            \n                            111\n                            Meyrin\n                            Laura\n                            Mark B.\n                            Jon H.\n                            Iris S.\n                            Marco P.\n                            \n                            \n                            \n                            \n                    \n                            \n                            112\n                            Allières\n                            Erika\n                            Willy D.\n                            \n                            \n                            \n                            \n                            \n                            \n                            \n                    \n                    \n\n        \n        \n        \n    \n\n\n\n\n\n \nBuvette / restauration 😊😊😊 !!!\n– Pour la première fois nous aurons lors de ce w-e une buvette à votre disposition durant tout le w-e !!! – Vous pourrez ainsi bénéficier sur place de : boissons\, café\, thé\, hot-dog\, croissant\, pain au chocolat\, barre chocolatée\, chips\, etc … – Paiement par carte de crédit\, twint et cash. – Profitez-en amplement !! Si l’expérience en concluante nous tâcherons de continuer à vous proposer une buvette lors des prochains tournois à Cayla 😊 !– Pensez aussi à prendre votre bouteille d’eau (avec votre nom dessus) pour boire régulièrement entre les matchs. \nStand / Maillots pour les juniors avec le nom et le numéro de votre enfant :\n-> Si votre enfant a déjà son maillot et short avec son nom et numéro\, il est important qu’il le prenne pour jouer avec lors de ces matchs de ce w-e-> Si votre enfant n’a pas encore son propre maillot et short de son club\, il peut jouer ce w-e avec n’importe quel short et t-shirt de sport qu’il aura pris pour cette journée -> nous lui prêterons si nécessaire une chasuble de la couleur de son équipe.-> Le stand de vente se tiendra le samedi de 9h à 15h. Vous pourrez ainsi venir essayer des maillots\, trainings\, sacs\, genouillères. Venez passer votre commande et votre enfant pourra jouer sous les couleurs de son club lors du prochain tournoi !
URL:https://tchoukballgeneve.ch/event/championnat-genevois-junior-m12-3eme-journee/
LOCATION:Cycle de Cayla\, Chemin William Lescaze 8\, Genève\, 1203
CATEGORIES:Activités,Clubs,Tournois
ATTACH;FMTTYPE=image/webp:https://tchoukballgeneve.ch/wp-content/uploads/2023/08/3eme.jpg-1.webp
END:VEVENT
BEGIN:VEVENT
DTSTART;VALUE=DATE:20240128
DTEND;VALUE=DATE:20240129
DTSTAMP:20260421T223344
CREATED:20230830T113250Z
LAST-MODIFIED:20250610T120150Z
UID:13864-1706400000-1706486399@tchoukballgeneve.ch
SUMMARY:CHAMPIONNAT GENEVOIS JUNIOR M14
DESCRIPTION:HORAIRES JUNIOR M14\n8h15 : accueil M149h à 12h : matchs12h05 : annonce des résultats \nL’inscription se fait auprès de l’entraîneur. \n 
URL:https://tchoukballgeneve.ch/event/championnat-genevois-junior-m14-m16-adulte-3eme-journee/
LOCATION:Cycle de Cayla\, Chemin William Lescaze 8\, Genève\, 1203
CATEGORIES:Activités,Clubs,Tournois
ATTACH;FMTTYPE=image/webp:https://tchoukballgeneve.ch/wp-content/uploads/2023/08/3eme.jpg-3.webp
END:VEVENT
BEGIN:VEVENT
DTSTART;VALUE=DATE:20240128
DTEND;VALUE=DATE:20240129
DTSTAMP:20260421T223344
CREATED:20230904T135058Z
LAST-MODIFIED:20250610T120201Z
UID:13970-1706400000-1706486399@tchoukballgeneve.ch
SUMMARY:CHAMPIONNAT GENEVOIS M16/ADULTE
DESCRIPTION:Les inscriptions des joueurs/joueuses pour les matchs du championnat genevois M16/adulte se font directement auprès des coachs de chaque équipe. \nToutes les infos sur le championnat genevois M16/adulte se trouvent sur cette page  \nVous y trouverez notamment :– Les résultats de tous les matchs déjà joués– Les lieux et les horaires de tous les matchs qui restent à jouer– La classement actuel  \nHORAIRES M16/ADULTE\nAprès-midi
URL:https://tchoukballgeneve.ch/event/championnat-genevois-junior-m16-adulte-2/
LOCATION:Cycle de Cayla\, Chemin William Lescaze 8\, Genève\, 1203
CATEGORIES:Activités,Clubs,Tournois
ATTACH;FMTTYPE=image/webp:https://tchoukballgeneve.ch/wp-content/uploads/2023/08/3eme-1.webp
END:VEVENT
END:VCALENDAR