BEGIN:VCALENDAR
VERSION:2.0
PRODID:-//Association cantonale genevoise de tchoukball - ECPv6.15.20//NONSGML v1.0//EN
CALSCALE:GREGORIAN
METHOD:PUBLISH
X-ORIGINAL-URL:https://tchoukballgeneve.ch
X-WR-CALDESC:Évènements pour Association cantonale genevoise de tchoukball
REFRESH-INTERVAL;VALUE=DURATION:PT1H
X-Robots-Tag:noindex
X-PUBLISHED-TTL:PT1H
BEGIN:VTIMEZONE
TZID:Europe/Zurich
BEGIN:DAYLIGHT
TZOFFSETFROM:+0100
TZOFFSETTO:+0200
TZNAME:CEST
DTSTART:20220327T010000
END:DAYLIGHT
BEGIN:STANDARD
TZOFFSETFROM:+0200
TZOFFSETTO:+0100
TZNAME:CET
DTSTART:20221030T010000
END:STANDARD
BEGIN:DAYLIGHT
TZOFFSETFROM:+0100
TZOFFSETTO:+0200
TZNAME:CEST
DTSTART:20230326T010000
END:DAYLIGHT
BEGIN:STANDARD
TZOFFSETFROM:+0200
TZOFFSETTO:+0100
TZNAME:CET
DTSTART:20231029T010000
END:STANDARD
BEGIN:DAYLIGHT
TZOFFSETFROM:+0100
TZOFFSETTO:+0200
TZNAME:CEST
DTSTART:20240331T010000
END:DAYLIGHT
BEGIN:STANDARD
TZOFFSETFROM:+0200
TZOFFSETTO:+0100
TZNAME:CET
DTSTART:20241027T010000
END:STANDARD
END:VTIMEZONE
BEGIN:VEVENT
DTSTART;VALUE=DATE:20230731
DTEND;VALUE=DATE:20230802
DTSTAMP:20260422T132221
CREATED:20230602T085251Z
LAST-MODIFIED:20250610T080607Z
UID:13263-1690761600-1690934399@tchoukballgeneve.ch
SUMMARY:Championnats du monde de tchoukball – Catégorie P40
DESCRIPTION:
URL:https://tchoukballgeneve.ch/event/championnats-du-monde-de-tchoukball-categorie-p40/
LOCATION:Prague (République Tchèque)\, République Tchèque
CATEGORIES:Activités,Tournois
ATTACH;FMTTYPE=image/webp:https://tchoukballgeneve.ch/wp-content/uploads/2023/04/P40.webp
END:VEVENT
BEGIN:VEVENT
DTSTART;VALUE=DATE:20230802
DTEND;VALUE=DATE:20230806
DTSTAMP:20260422T132221
CREATED:20230602T085446Z
LAST-MODIFIED:20250610T080633Z
UID:13267-1690934400-1691279999@tchoukballgeneve.ch
SUMMARY:Championnats du monde de tchoukball – catégorie Femme et Homme
DESCRIPTION:
URL:https://tchoukballgeneve.ch/event/championnats-du-monde-de-tchoukball-categorie-femme-et-homme/
LOCATION:Prague (République Tchèque)\, République Tchèque
CATEGORIES:Activités,Clubs,Tournois
ATTACH;FMTTYPE=image/webp:https://tchoukballgeneve.ch/wp-content/uploads/2023/04/Homme-et-femme-1.webp
END:VEVENT
END:VCALENDAR