BEGIN:VCALENDAR
VERSION:2.0
PRODID:-//Association cantonale genevoise de tchoukball - ECPv6.15.20//NONSGML v1.0//EN
CALSCALE:GREGORIAN
METHOD:PUBLISH
X-ORIGINAL-URL:https://tchoukballgeneve.ch
X-WR-CALDESC:Évènements pour Association cantonale genevoise de tchoukball
REFRESH-INTERVAL;VALUE=DURATION:PT1H
X-Robots-Tag:noindex
X-PUBLISHED-TTL:PT1H
BEGIN:VTIMEZONE
TZID:Europe/Zurich
BEGIN:DAYLIGHT
TZOFFSETFROM:+0100
TZOFFSETTO:+0200
TZNAME:CEST
DTSTART:20210328T010000
END:DAYLIGHT
BEGIN:STANDARD
TZOFFSETFROM:+0200
TZOFFSETTO:+0100
TZNAME:CET
DTSTART:20211031T010000
END:STANDARD
BEGIN:DAYLIGHT
TZOFFSETFROM:+0100
TZOFFSETTO:+0200
TZNAME:CEST
DTSTART:20220327T010000
END:DAYLIGHT
BEGIN:STANDARD
TZOFFSETFROM:+0200
TZOFFSETTO:+0100
TZNAME:CET
DTSTART:20221030T010000
END:STANDARD
BEGIN:DAYLIGHT
TZOFFSETFROM:+0100
TZOFFSETTO:+0200
TZNAME:CEST
DTSTART:20230326T010000
END:DAYLIGHT
BEGIN:STANDARD
TZOFFSETFROM:+0200
TZOFFSETTO:+0100
TZNAME:CET
DTSTART:20231029T010000
END:STANDARD
END:VTIMEZONE
BEGIN:VEVENT
DTSTART;TZID=Europe/Zurich:20221117T180000
DTEND;TZID=Europe/Zurich:20221117T200000
DTSTAMP:20260425T170232
CREATED:20221024T125301Z
LAST-MODIFIED:20250606T132816Z
UID:11198-1668708000-1668715200@tchoukballgeneve.ch
SUMMARY:Cours d'arbitre junior I
DESCRIPTION:Objectifs techniques du cours \n\nClarifier les règles principales et la technique d’arbitrage (position\, gestes\, sifflet)\nNommer des arbitres junior pour leur permettre d’arbitrer dans de bonnes conditions les juniors M10 et M12 lors des tournois.\n\nContenu \n\nRègles : règles du jeu\, démonstration pratique de gestes justes/faux.\nGestes : revue des bons/mauvais gestes.\nSifflet : apprendre à adapter la force du coup de sifflet à l’environnement sonore.\nPosition : théorie de base sur le positionnement de l’arbitre.\n\n  \nInformations détaillées et inscriptions
URL:https://tchoukballgeneve.ch/event/cours-darbitre-junior-i/
LOCATION:Cycle de Cayla\, Chemin William Lescaze 8\, Genève\, 1203
CATEGORIES:Clubs,Formation
ATTACH;FMTTYPE=image/webp:https://tchoukballgeneve.ch/wp-content/uploads/2022/10/1-arbitre.webp
END:VEVENT
END:VCALENDAR