BEGIN:VCALENDAR
VERSION:2.0
PRODID:-//Association cantonale genevoise de tchoukball - ECPv6.15.20//NONSGML v1.0//EN
CALSCALE:GREGORIAN
METHOD:PUBLISH
X-ORIGINAL-URL:https://tchoukballgeneve.ch
X-WR-CALDESC:Évènements pour Association cantonale genevoise de tchoukball
REFRESH-INTERVAL;VALUE=DURATION:PT1H
X-Robots-Tag:noindex
X-PUBLISHED-TTL:PT1H
BEGIN:VTIMEZONE
TZID:Europe/Zurich
BEGIN:DAYLIGHT
TZOFFSETFROM:+0100
TZOFFSETTO:+0200
TZNAME:CEST
DTSTART:20210328T010000
END:DAYLIGHT
BEGIN:STANDARD
TZOFFSETFROM:+0200
TZOFFSETTO:+0100
TZNAME:CET
DTSTART:20211031T010000
END:STANDARD
BEGIN:DAYLIGHT
TZOFFSETFROM:+0100
TZOFFSETTO:+0200
TZNAME:CEST
DTSTART:20220327T010000
END:DAYLIGHT
BEGIN:STANDARD
TZOFFSETFROM:+0200
TZOFFSETTO:+0100
TZNAME:CET
DTSTART:20221030T010000
END:STANDARD
BEGIN:DAYLIGHT
TZOFFSETFROM:+0100
TZOFFSETTO:+0200
TZNAME:CEST
DTSTART:20230326T010000
END:DAYLIGHT
BEGIN:STANDARD
TZOFFSETFROM:+0200
TZOFFSETTO:+0100
TZNAME:CET
DTSTART:20231029T010000
END:STANDARD
END:VTIMEZONE
BEGIN:VEVENT
DTSTART;VALUE=DATE:20220611
DTEND;VALUE=DATE:20220613
DTSTAMP:20260426T003345
CREATED:20211110T152958Z
LAST-MODIFIED:20250606T131156Z
UID:7338-1654905600-1655078399@tchoukballgeneve.ch
SUMMARY:Formation J+S - Psyché 1
DESCRIPTION:Tout comme la technique\, la condition physique\, les qualités de coordination\, etc … le mental se travaille et s’entraîne régulièrement ! Venez découvrir comment fonctionne notre mental dans une salle de sport et découvrez de manière très pratique comment aider vos participants/participantes à le renforcer ! \nDélai d’inscription : 11.04.2022 \nN° cours : SUHV 6-22 Psyche
URL:https://tchoukballgeneve.ch/event/psyche-1/
LOCATION:Lausanne\, Av. du Vieux-Moulin\, Lausanne\, 1018\, Suisse
CATEGORIES:Formation
ATTACH;FMTTYPE=image/webp:https://tchoukballgeneve.ch/wp-content/uploads/2021/11/Psyche-1.webp
END:VEVENT
BEGIN:VEVENT
DTSTART;VALUE=DATE:20220625
DTEND;VALUE=DATE:20220626
DTSTAMP:20260426T003345
CREATED:20211110T151617Z
LAST-MODIFIED:20250606T131336Z
UID:7328-1656115200-1656201599@tchoukballgeneve.ch
SUMMARY:Formation J+S - Tchoukball pour les jeunes (15-20 ans)
DESCRIPTION:Comment encadrer des entraînements de tchoukball parfaitement adaptés aux jeunes de 15 à 20 ans ! Découvrez :\n– les points auxquels il faut être particulièrement attentif\n– ce qui fonctionnent vraiment dans cette tranche d’âge\n– quels sont les différents facteurs de motivations et différents publics que l’on rencontre dans cette tranche d’âge\, comment leur apporter satisfaction ?\n– les pièges à éviter\n– les exercices qui vont les aider à progresser au mieux\n– etc … \nDélai d’inscription : 30.04.2022 \nN° cours : STBV 179284 \n 
URL:https://tchoukballgeneve.ch/event/tchoukball-pour-les-jeunes-15-20-ans/
LOCATION:Lausanne\, Av. du Vieux-Moulin\, Lausanne\, 1018\, Suisse
CATEGORIES:Formation
ATTACH;FMTTYPE=image/webp:https://tchoukballgeneve.ch/wp-content/uploads/2021/11/Tchouball-pour-les-jeunes-15-20-ans.webp
END:VEVENT
END:VCALENDAR