BEGIN:VCALENDAR
VERSION:2.0
PRODID:-//Association cantonale genevoise de tchoukball - ECPv6.15.20//NONSGML v1.0//EN
CALSCALE:GREGORIAN
METHOD:PUBLISH
X-WR-CALNAME:Association cantonale genevoise de tchoukball
X-ORIGINAL-URL:https://tchoukballgeneve.ch
X-WR-CALDESC:Évènements pour Association cantonale genevoise de tchoukball
REFRESH-INTERVAL;VALUE=DURATION:PT1H
X-Robots-Tag:noindex
X-PUBLISHED-TTL:PT1H
BEGIN:VTIMEZONE
TZID:Europe/Zurich
BEGIN:DAYLIGHT
TZOFFSETFROM:+0100
TZOFFSETTO:+0200
TZNAME:CEST
DTSTART:20210328T010000
END:DAYLIGHT
BEGIN:STANDARD
TZOFFSETFROM:+0200
TZOFFSETTO:+0100
TZNAME:CET
DTSTART:20211031T010000
END:STANDARD
BEGIN:DAYLIGHT
TZOFFSETFROM:+0100
TZOFFSETTO:+0200
TZNAME:CEST
DTSTART:20220327T010000
END:DAYLIGHT
BEGIN:STANDARD
TZOFFSETFROM:+0200
TZOFFSETTO:+0100
TZNAME:CET
DTSTART:20221030T010000
END:STANDARD
BEGIN:DAYLIGHT
TZOFFSETFROM:+0100
TZOFFSETTO:+0200
TZNAME:CEST
DTSTART:20230326T010000
END:DAYLIGHT
BEGIN:STANDARD
TZOFFSETFROM:+0200
TZOFFSETTO:+0100
TZNAME:CET
DTSTART:20231029T010000
END:STANDARD
END:VTIMEZONE
BEGIN:VEVENT
DTSTART;VALUE=DATE:20220430
DTEND;VALUE=DATE:20220502
DTSTAMP:20260426T020332
CREATED:20211110T150419Z
LAST-MODIFIED:20250606T130132Z
UID:7313-1651276800-1651449599@tchoukballgeneve.ch
SUMMARY:Formation J+S - Animation d'un entraînement de qualité
DESCRIPTION:Un cours très pratique pour vous permettre d’avoir plus de succès avec vos participants/participantes grâce à la mise en place d’entraînement de grande qualité ! \nDélai d’inscription : 28.02.2022 \nN° du cours : STBV 179281
URL:https://tchoukballgeneve.ch/event/animation-dun-entrainement-de-qualite/
LOCATION:Lausanne\, Av. du Vieux-Moulin\, Lausanne\, 1018\, Suisse
CATEGORIES:Formation
ATTACH;FMTTYPE=image/webp:https://tchoukballgeneve.ch/wp-content/uploads/2022/02/Animation-dun-entrainement-de-qualite.webp
END:VEVENT
BEGIN:VEVENT
DTSTART;VALUE=DATE:20220507
DTEND;VALUE=DATE:20220509
DTSTAMP:20260426T020332
CREATED:20211110T151055Z
LAST-MODIFIED:20250606T130625Z
UID:7324-1651881600-1652054399@tchoukballgeneve.ch
SUMMARY:Formation J+S - Cours pour devenir moniteur/monitrice « Sport des enfants » (5-10 ans)
DESCRIPTION:Un cours absolument indispensable pour les moniteurs/monitrices qui s’occupent de M8\, M10 et M12 !! \nCe cours permet tout spécialement de mieux se sensibiliser aux spécificités de l’enseignement sportif pour les 5-10 ans et de leur offrir ainsi un meilleur encadrement en mettant bien en avant l’objectif que nous cherchons à atteindre dans la salle de sport avec les enfants de cette âge: Rire – Appendre – Réaliser une performance. \nDélai d’inscription : 15.03.2022 \nN° cours : GE 111/22 \n 
URL:https://tchoukballgeneve.ch/event/cours-pour-devenir-moniteur-monitrice-jeunesse-et-sport-sport-des-enfants-5-10-ans/
LOCATION:Genève\, Suisse
CATEGORIES:Formation
ATTACH;FMTTYPE=image/webp:https://tchoukballgeneve.ch/wp-content/uploads/2021/11/Sprot-des-enfants-5-10.webp
END:VEVENT
BEGIN:VEVENT
DTSTART;VALUE=DATE:20220517
DTEND;VALUE=DATE:20220519
DTSTAMP:20260426T020332
CREATED:20211110T152643Z
LAST-MODIFIED:20250606T130657Z
UID:7335-1652745600-1652918399@tchoukballgeneve.ch
SUMMARY:Formation J+S - Coaching 1 dans les sports d’équipe
DESCRIPTION:Un cours indispensable pour tous les entraîneurs d’équipe de « jeunes » ou d’adultes qui participent à des compétitions régulières tout au long de l’année. \nDélai d’inscription : 17.03.2022 \nN° cours : BE JU 350-22
URL:https://tchoukballgeneve.ch/event/coaching-1-dans-les-sports-dequipe/
LOCATION:Macolin\, Suisse
CATEGORIES:Formation
ATTACH;FMTTYPE=image/webp:https://tchoukballgeneve.ch/wp-content/uploads/2021/11/Coaching-1.webp
END:VEVENT
BEGIN:VEVENT
DTSTART;VALUE=DATE:20220522
DTEND;VALUE=DATE:20220524
DTSTAMP:20260426T020332
CREATED:20211110T152152Z
LAST-MODIFIED:20250606T130725Z
UID:7331-1653177600-1653350399@tchoukballgeneve.ch
SUMMARY:Formation J+S - Physis 1
DESCRIPTION:Deux jours pour parvenir à mieux comprendre le travail que l’on peut faire avec les enfants et les jeunes pour améliorer leur condition physique et leurs capacités de coordination. \nDélai d’inscription : 19.03.2022 \nN° cours : BE JU 351-22
URL:https://tchoukballgeneve.ch/event/physis-1/
LOCATION:Macolin\, Suisse
CATEGORIES:Formation
ATTACH;FMTTYPE=image/webp:https://tchoukballgeneve.ch/wp-content/uploads/2021/11/Physis-1.webp
END:VEVENT
END:VCALENDAR