BEGIN:VCALENDAR
VERSION:2.0
PRODID:-//Association cantonale genevoise de tchoukball - ECPv6.15.20//NONSGML v1.0//EN
CALSCALE:GREGORIAN
METHOD:PUBLISH
X-ORIGINAL-URL:https://tchoukballgeneve.ch
X-WR-CALDESC:Évènements pour Association cantonale genevoise de tchoukball
REFRESH-INTERVAL;VALUE=DURATION:PT1H
X-Robots-Tag:noindex
X-PUBLISHED-TTL:PT1H
BEGIN:VTIMEZONE
TZID:Europe/Zurich
BEGIN:DAYLIGHT
TZOFFSETFROM:+0100
TZOFFSETTO:+0200
TZNAME:CEST
DTSTART:20190331T010000
END:DAYLIGHT
BEGIN:STANDARD
TZOFFSETFROM:+0200
TZOFFSETTO:+0100
TZNAME:CET
DTSTART:20191027T010000
END:STANDARD
BEGIN:DAYLIGHT
TZOFFSETFROM:+0100
TZOFFSETTO:+0200
TZNAME:CEST
DTSTART:20200329T010000
END:DAYLIGHT
BEGIN:STANDARD
TZOFFSETFROM:+0200
TZOFFSETTO:+0100
TZNAME:CET
DTSTART:20201025T010000
END:STANDARD
BEGIN:DAYLIGHT
TZOFFSETFROM:+0100
TZOFFSETTO:+0200
TZNAME:CEST
DTSTART:20210328T010000
END:DAYLIGHT
BEGIN:STANDARD
TZOFFSETFROM:+0200
TZOFFSETTO:+0100
TZNAME:CET
DTSTART:20211031T010000
END:STANDARD
END:VTIMEZONE
BEGIN:VEVENT
DTSTART;TZID=Europe/Zurich:20200913T090000
DTEND;TZID=Europe/Zurich:20200913T170000
DTSTAMP:20260422T160132
CREATED:20200506T151832Z
LAST-MODIFIED:20200529T145614Z
UID:4291-1599987600-1600016400@tchoukballgeneve.ch
SUMMARY:Tournoi féminin du "Grand Genève"
DESCRIPTION:Un tournoi pour les filles! Ne manquez pas cet occasion historique\, participe au 1er tournoi féminin du grand Genève.\nInscription auprès de votre président de club.\nResponsable du comité d’organisation: Nicolas Yip
URL:https://tchoukballgeneve.ch/event/championnat-feminin-du-grand-geneve/
LOCATION:Cycle de Cayla\, Chemin William Lescaze 8\, Genève\, 1203
CATEGORIES:Compétitions féminines
ATTACH;FMTTYPE=image/jpeg:https://tchoukballgeneve.ch/wp-content/uploads/2020/05/Panorama-Championnat-filles-2.jpg
END:VEVENT
END:VCALENDAR