BEGIN:VCALENDAR
VERSION:2.0
PRODID:-//Association cantonale genevoise de tchoukball - ECPv6.15.20//NONSGML v1.0//EN
CALSCALE:GREGORIAN
METHOD:PUBLISH
X-ORIGINAL-URL:https://tchoukballgeneve.ch
X-WR-CALDESC:Évènements pour Association cantonale genevoise de tchoukball
REFRESH-INTERVAL;VALUE=DURATION:PT1H
X-Robots-Tag:noindex
X-PUBLISHED-TTL:PT1H
BEGIN:VTIMEZONE
TZID:Europe/Zurich
BEGIN:DAYLIGHT
TZOFFSETFROM:+0100
TZOFFSETTO:+0200
TZNAME:CEST
DTSTART:20190331T010000
END:DAYLIGHT
BEGIN:STANDARD
TZOFFSETFROM:+0200
TZOFFSETTO:+0100
TZNAME:CET
DTSTART:20191027T010000
END:STANDARD
BEGIN:DAYLIGHT
TZOFFSETFROM:+0100
TZOFFSETTO:+0200
TZNAME:CEST
DTSTART:20200329T010000
END:DAYLIGHT
BEGIN:STANDARD
TZOFFSETFROM:+0200
TZOFFSETTO:+0100
TZNAME:CET
DTSTART:20201025T010000
END:STANDARD
BEGIN:DAYLIGHT
TZOFFSETFROM:+0100
TZOFFSETTO:+0200
TZNAME:CEST
DTSTART:20210328T010000
END:DAYLIGHT
BEGIN:STANDARD
TZOFFSETFROM:+0200
TZOFFSETTO:+0100
TZNAME:CET
DTSTART:20211031T010000
END:STANDARD
END:VTIMEZONE
BEGIN:VEVENT
DTSTART;VALUE=DATE:20200215
DTEND;VALUE=DATE:20200216
DTSTAMP:20260423T022313
CREATED:20190921T081916Z
LAST-MODIFIED:20190921T081916Z
UID:2817-1581724800-1581811199@tchoukballgeneve.ch
SUMMARY:Compétitions féminines - 2e journée
DESCRIPTION:Rien que pour vous les filles!\nSwiss Tchoukball met sur pied une nouvelle compétition\, une compétition féminine. \nProgramme de la journée:\nMatin: tournoi pour tous\nAprès-midi: ligue féminine \nInformation & inscriptions \nEn cas de questions\, n’hésitez pas à contacter Muriel Sommer-Vorpe ou Nanghita Antonioli.
URL:https://tchoukballgeneve.ch/event/competitions-feminines-2e-journee/
LOCATION:Salle omnisports du Vieux-Moulin\, Rte des Plaines-du-Loup 6\, Lausanne\, VD\, 1018\, Suisse
CATEGORIES:Compétitions féminines
ATTACH;FMTTYPE=image/png:https://tchoukballgeneve.ch/wp-content/uploads/2019/09/Panorama-filles-1.png
END:VEVENT
END:VCALENDAR