BEGIN:VCALENDAR
VERSION:2.0
PRODID:-//Association cantonale genevoise de tchoukball - ECPv6.15.20//NONSGML v1.0//EN
CALSCALE:GREGORIAN
METHOD:PUBLISH
X-ORIGINAL-URL:https://tchoukballgeneve.ch
X-WR-CALDESC:Évènements pour Association cantonale genevoise de tchoukball
REFRESH-INTERVAL;VALUE=DURATION:PT1H
X-Robots-Tag:noindex
X-PUBLISHED-TTL:PT1H
BEGIN:VTIMEZONE
TZID:Europe/Zurich
BEGIN:DAYLIGHT
TZOFFSETFROM:+0100
TZOFFSETTO:+0200
TZNAME:CEST
DTSTART:20240331T010000
END:DAYLIGHT
BEGIN:STANDARD
TZOFFSETFROM:+0200
TZOFFSETTO:+0100
TZNAME:CET
DTSTART:20241027T010000
END:STANDARD
BEGIN:DAYLIGHT
TZOFFSETFROM:+0100
TZOFFSETTO:+0200
TZNAME:CEST
DTSTART:20250330T010000
END:DAYLIGHT
BEGIN:STANDARD
TZOFFSETFROM:+0200
TZOFFSETTO:+0100
TZNAME:CET
DTSTART:20251026T010000
END:STANDARD
BEGIN:DAYLIGHT
TZOFFSETFROM:+0100
TZOFFSETTO:+0200
TZNAME:CEST
DTSTART:20260329T010000
END:DAYLIGHT
BEGIN:STANDARD
TZOFFSETFROM:+0200
TZOFFSETTO:+0100
TZNAME:CET
DTSTART:20261025T010000
END:STANDARD
END:VTIMEZONE
BEGIN:VEVENT
DTSTART;VALUE=DATE:20250209
DTEND;VALUE=DATE:20250210
DTSTAMP:20260421T120549
CREATED:20240319T092951Z
LAST-MODIFIED:20250611T092958Z
UID:15759-1739059200-1739145599@tchoukballgeneve.ch
SUMMARY:TOURNOI JUNIOR DE KÖNIZ
DESCRIPTION:
URL:https://tchoukballgeneve.ch/event/tournoi-junior-de-koniz/
LOCATION:köniz\, Kirchstrasse 76\, Köniz\, 3098\, Suisse
CATEGORIES:Activités,Clubs,Tournois
ATTACH;FMTTYPE=image/webp:https://tchoukballgeneve.ch/wp-content/uploads/2024/03/Konitz-2025.webp
END:VEVENT
BEGIN:VEVENT
DTSTART;TZID=Europe/Zurich:20250224T080000
DTEND;TZID=Europe/Zurich:20250228T170000
DTSTAMP:20260421T120549
CREATED:20250107T094834Z
LAST-MODIFIED:20250611T093048Z
UID:18173-1740384000-1740762000@tchoukballgeneve.ch
SUMMARY:CAMP DE FEVRIER 2025 DE TCHOUKBALL POUR LES 11 À 14 ANS
DESCRIPTION:Le camp de février va se tenir au centre sportif de la Queue d’Arve 12 rue Francois Dussaud 1227 Genève du 24 au 28  février 2025. \nCamp sans nuitées avec du tchoukball en salle le matin et des activités sportives l’après midi. \nRetrouvez le programme détaillé sur ce lien. \nCATEGORIES D’ÂGE :\n11 à 14 ans \nHORAIRES :\nAccueil entre 8h et 9h \, départ entre 16h et 17h \nPRIX :\n350.- la semaine tout compris avec le transport\,  repas de midi et collations\, rabais pour les familles – 10% pour le 2ème enfant – 20% pour le 3ème enfant. \nInscription :\nL’inscription se fait via ce formulaire d’inscription \nPour s’assurer que l’inscription se fasse de manière correcte\, au bas de formulaire d’inscription il faut cliquer sur le bouton “valider” pour valider votre inscription\, puis reconfirmer une 2ème fois pour que l’inscription nous parvienne. \nVous pouvez savoir que nous avons correctement reçu votre inscription si vous recevez bien un e-mail de confirmation quelques minutes après avoir confirmé votre inscription. \nSi ce n’est pas le cas\, écrivez à sandrine.pfister@tchoukballgeneve.ch et nous restons toujours à votre disposition par e-mail ou téléphone au 022 796 67 66 en cas de questions. \nConditions d’annulations : \n(Annulable sans frais jusqu’au 17 février 2025\, si l’annulation intervient après le 17 février 2025\, un montant sera retenu en fonction des activités\, ou repas que nous n’aurons pas pu annuler)
URL:https://tchoukballgeneve.ch/event/camp-de-fevrier-2025-de-tchoukball-pour-les-11-a-14-ans/
LOCATION:Centre sportif de la Queue d’Arve\, Rue François-Dussaud 12\, Les Acacias\, 1227\, Suisse
CATEGORIES:Activités,Camp
ATTACH;FMTTYPE=image/webp:https://tchoukballgeneve.ch/wp-content/uploads/2024/03/11-14-ans.webp
END:VEVENT
END:VCALENDAR