BEGIN:VCALENDAR
VERSION:2.0
PRODID:-//Association cantonale genevoise de tchoukball - ECPv6.15.20//NONSGML v1.0//EN
CALSCALE:GREGORIAN
METHOD:PUBLISH
X-ORIGINAL-URL:https://tchoukballgeneve.ch
X-WR-CALDESC:Évènements pour Association cantonale genevoise de tchoukball
REFRESH-INTERVAL;VALUE=DURATION:PT1H
X-Robots-Tag:noindex
X-PUBLISHED-TTL:PT1H
BEGIN:VTIMEZONE
TZID:Europe/Zurich
BEGIN:DAYLIGHT
TZOFFSETFROM:+0100
TZOFFSETTO:+0200
TZNAME:CEST
DTSTART:20230326T010000
END:DAYLIGHT
BEGIN:STANDARD
TZOFFSETFROM:+0200
TZOFFSETTO:+0100
TZNAME:CET
DTSTART:20231029T010000
END:STANDARD
BEGIN:DAYLIGHT
TZOFFSETFROM:+0100
TZOFFSETTO:+0200
TZNAME:CEST
DTSTART:20240331T010000
END:DAYLIGHT
BEGIN:STANDARD
TZOFFSETFROM:+0200
TZOFFSETTO:+0100
TZNAME:CET
DTSTART:20241027T010000
END:STANDARD
BEGIN:DAYLIGHT
TZOFFSETFROM:+0100
TZOFFSETTO:+0200
TZNAME:CEST
DTSTART:20250330T010000
END:DAYLIGHT
BEGIN:STANDARD
TZOFFSETFROM:+0200
TZOFFSETTO:+0100
TZNAME:CET
DTSTART:20251026T010000
END:STANDARD
END:VTIMEZONE
BEGIN:VEVENT
DTSTART;VALUE=DATE:20240906
DTEND;VALUE=DATE:20240907
DTSTAMP:20260421T192519
CREATED:20240823T113629Z
LAST-MODIFIED:20250610T123338Z
UID:17071-1725580800-1725667199@tchoukballgeneve.ch
SUMMARY:Super Coupe de tchoukball\, le match événement de la rentrée !
DESCRIPTION:Geneva Dragons – Champion Suisse 2024 / Vainqueur de la Coupe Suisse face aux Val-de-Ruz Flyers – finaliste du championnat suisse 2024 aux centre sportif du Bois des Frères\, buvette à disposition\, entrée libre le Vendredi 6 Septembre 2024. \n– 19h40 : Accueil– 20h05 : Présentation des équipes– 20h15 : Début du match \nSuivez également ce match en live sur notre chaîne Youtube «Tchoukball Promotion»
URL:https://tchoukballgeneve.ch/event/super-coupe-de-tchoukball-le-match-saisissement-de-la-rentree/
LOCATION:Centre sportif du Bois-des-Frères\, Chem. de l'Ecu 22\, Vernier\, 1219\, Suisse
CATEGORIES:Activités,Clubs,événement
ATTACH;FMTTYPE=image/webp:https://tchoukballgeneve.ch/wp-content/uploads/2024/08/Site-Dragons.webp
END:VEVENT
BEGIN:VEVENT
DTSTART;VALUE=DATE:20240908
DTEND;VALUE=DATE:20240909
DTSTAMP:20260421T192520
CREATED:20240122T113532Z
LAST-MODIFIED:20250610T123346Z
UID:15294-1725753600-1725839999@tchoukballgeneve.ch
SUMMARY:T-DAY DU CRTG – 8 septembre 2024
DESCRIPTION:T-Day \nLe Centre de la Relève du Tchoukball Genevois (CRTG) organise ce jour un T-Day. Il s’agit d’une série de tests sportif qui durent environ une demi-journée et qui permettent aux jeunes joueurs et joueuses de tchoukball motivés dès l’âge de 12 ans de mesurer leurs compétences en condition physique et en technique de tchoukball. \nCes tests sont gratuits et ouverts à toutes les joueuses et tous les joueurs fortement engagés et passionnés par notre sport et membre d’un club de tchoukball du canton de Genève. \nLes T-Day qui sont organisés en début de saison ou en fin de saison permettent de bien se rendre compte de son niveau et de son évolution. Le T-Day organisé le 12 janvier est également l’étape indispensable à passer pour essayer d’être sélectionné parmi les jeunes athlètes qui pourront conserver leur place ou intégrer le SAE (Sport-Art-Etude) tchoukball lors de la prochaine rentrée scolaire à la fin août.   \nPour plus d’information sur certains résultats obtenus lors des T-Day \, nous vous invitons à lire cette news. \nToutes les informations complémentaires et les liens d’inscription se trouvent sur la page du T-Day sur le site du CRTG. \nAttention de vous inscrire suffisamment tôt\, le nombre de place est limitée.
URL:https://tchoukballgeneve.ch/event/t-day-du-crtg-8-septembre-2024/
LOCATION:Centre sportif de la Queue d’Arve\, Rue François-Dussaud 12\, Les Acacias\, 1227\, Suisse
CATEGORIES:Activités,CRTG
ATTACH;FMTTYPE=image/webp:https://tchoukballgeneve.ch/wp-content/uploads/2024/08/CRTG-T-DAY-8-sep.webp
END:VEVENT
BEGIN:VEVENT
DTSTART;VALUE=DATE:20240914
DTEND;VALUE=DATE:20240916
DTSTAMP:20260421T192520
CREATED:20230531T151512Z
LAST-MODIFIED:20250610T123358Z
UID:13247-1726272000-1726444799@tchoukballgeneve.ch
SUMMARY:FORMATION D’AIDE MONITEUR/MONITRICE « COACH 14-18 DE JEUNESSE ET SPORT »
DESCRIPTION:En consiste à quoi cette formation ? \n– C’est une formation officielle de « Jeunesse et Sport » qui se déroule sur un weekend à Genève à l’attention des jeunes âgées de ~14 à 17 ans.\n– Pendant ses 2 jours tu recevras de tas de conseils et d’idées sur la manière de transmettre tes compétences et connaissances à la future génération de tchoukeurs et tchoukeuses.\n– A la fin de cette formation\, tu recevras une attestation officielle de participation et tu auras en main tout plein d’info pour mieux arriver assumer si tu le souhaite un rôle\n« d’aide moniteur/monitrice » de tchoukball.\n– Tu trouveras sur ce lien des informations complémentaire au sujet de cette formation :\n-> Ton club prend en charge les frais d’inscriptions\, tu n’as rien à payer pour y participer. \nComment profiter des places disponibles dans cette formation ? \nPour pouvoir participer à ce cours\, il faut s’inscrire bien à l’avance car ils sont souvent très rapidement plein !\nSi tu en as parlé avec tes parents et que tu peux nous confirmer que tu peux prendre part à cette formation. Il faut que tu fasses parvenir à ‘Cédric Vuagnat’ cedric.vuagnat@tchoukballgeneve.ch au plus vite les infos ci-dessous pour que nous puissions confirmer ton inscription tant qu’il reste encore des places disponibles :\n–              Ton nom et prénom :\n–              Ta date de naissance :\n–              Ton adresse :\n–              Ton numéro AVS :\n–              Ton tel :\n–              Ton e-mail :\n–              Le nom et prénom d’un représentant légal :\n–              La date de naissance de ton représentant légal :\n–              Son adresse :\n–              Son tel :\n–              Son e-mail : \nNous te remercions d’avance pour ton engagement dans le monde du tchoukball.
URL:https://tchoukballgeneve.ch/event/formation-daide-moniteur-monitrice-coach-14-18-de-jeunesse-et-sport-2/
LOCATION:Genève\, Suisse
CATEGORIES:Activités,Formation
ATTACH;FMTTYPE=image/webp:https://tchoukballgeneve.ch/wp-content/uploads/2024/08/moniteur-js-form-1.webp
END:VEVENT
BEGIN:VEVENT
DTSTART;VALUE=DATE:20240914
DTEND;VALUE=DATE:20240916
DTSTAMP:20260421T192520
CREATED:20231018T110559Z
LAST-MODIFIED:20251113T083357Z
UID:14669-1726272000-1726444799@tchoukballgeneve.ch
SUMMARY:Tournoi de tchoukball M10 & M12 de la fête du sport 2024
DESCRIPTION:Retrouvez plus d’info sur la Fête du sport 2024  \nC’est la fête du sport ! \nVous trouverez ici toutes les informations sur la Fête du sport organisé dans le parc des Bastions ! \nLe tchoukball y sera présent\, parmi de nombreux autres sports. Les juniors M10 et M12 auront l’occasion d’y participer. Le programme dans l’espace tchoukball est : \n Samedi 14 septembre 2024 : \n\nAprès-midi : tournoi M10\n\n Dimanche 15 septembre 2024 : \n\nAprès-midi : tournoi M12\n\n Inscription : \nL’inscription se fait en ligne. Merci de remplir le formulaire. L’inscription sera confirmé sur cette page dans les 48h. \nLien d’inscription du tournoi \nLa fête du sport\, c’est quoi ? C’est présenter à la population genevoise plein de sports au Parc des Bastions\, l’espace d’un week-end. Donc\, si tu participes au tournoi le matin\, va t’éclater tester d’autres sports l’après-midi et si tu fais le tournoi l’après-midi\, va t’échauffer le matin vers d’autres sports 😉 \n \nHoraires approximatifs samedi 14 septembre : \n12h00-12h30 : Démonstration de tchoukball 13h30 : Accueil groupe B 14h00-16h25 : Matchs du groupe B 16h30 : Résultats du groupe B \nHoraires approximatifs dimanche 15 septembre : \n13h30 : Accueil groupe B 14h00-17h00 : Matchs du groupe B 17h10 : Résultats du groupe B \n  \nINSCRIPTIONS CONFIRMÉES\n \nCatégorie M10B \n\n\n    \n        \n\n    \n        \n        \n        \n\n\n                            wdt_ID                Entraînement                Entraîneur                Participant/e                Participant/e                Participant/e                Participant/e                Participant/e    \n\n        \n\n        \n        \n\n\n\n    \n        \n            \n            \n            \n        \n                    \n                \n                \n                \n            \n                    \n                \n                \n                \n            \n                    \n                \n                \n                \n            \n                    \n                \n                \n                \n            \n                    \n                \n                \n                \n            \n                    \n                \n                \n                \n            \n                    \n                \n                \n                \n            \n            \n\n                    \n                            1\n                            Trembley\n                            Amin Ladimi\n                            Lucca B.\n                            Sacha R.\n                            Tiago C.\n                            Clément\n                            \n                    \n                            \n                            3\n                            Pâquis-Centre\n                            Unai Correa\n                            Léo F.\n                            Mael B.\n                            Simone D.\n                            \n                            \n                    \n                            \n                            4\n                            Chancy\n                            Unai Correa\n                            Massimiliano G.\n                            \n                            \n                            \n                            \n                    \n                            \n                            5\n                            Puplinge\n                            Deyan Alojevic\n                            Manon L.\n                            \n                            \n                            \n                            \n                    \n                            \n                            6\n                            Collex-Bossy\n                            Unai Correa\n                            Thibault R.\n                            \n                            \n                            \n                            \n                    \n                            \n                            7\n                            Micheli-du-Crest\n                            Vincent Fournier\n                            Alexis H.\n                            \n                            \n                            \n                            \n                    \n                    \n\n        \n        \n        \n    \n\n\n\n\n\n \n \nCatégorie M12B \n\n\n    \n        \n\n    \n        \n        \n        \n\n\n                            wdt_ID                Entraînement                Entraîneur                Participant/e                Participant/e                Participant/e                Participant/e                Participant/e                Participant/e    \n\n        \n\n        \n        \n\n\n\n    \n        \n            \n            \n            \n        \n                    \n                \n                \n                \n            \n                    \n                \n                \n                \n            \n                    \n                \n                \n                \n            \n                    \n                \n                \n                \n            \n                    \n                \n                \n                \n            \n                    \n                \n                \n                \n            \n                    \n                \n                \n                \n            \n                    \n                \n                \n                \n            \n            \n\n                    \n                            7\n                            Trembley\n                            Amin Ladimi\n                            Gustavo C.\n                            \n                            \n                            \n                            \n                            \n                    \n                            \n                            2\n                            Sécheron\n                            Erika Mesmer\n                            Francesco M.\n                            \n                            \n                            \n                            \n                            \n                    \n                            \n                            3\n                            Chancy\n                            Unai Correa\n                            Ana F.\n                            Hadassa A.\n                            \n                            \n                            \n                            \n                    \n                            \n                            4\n                            Aïre\n                            Cédric Vuagnat\n                            Antoine B.\n                            Thibaud C.\n                            Dawit T.\n                            \n                            \n                            \n                    \n                            \n                            5\n                            Franchises\n                            Jerson Cantillo\n                            Alexander I.\n                            \n                            \n                            \n                            \n                            \n                    \n                            \n                            6\n                            Onex-Tattes\n                            Alec Gerber\n                            Suad L.\n                            Bereket M.\n                            \n                            \n                            \n                            \n                    \n                            \n                            8\n                            Tivoli\n                            Daniel Buschbeck\n                            Jade N.\n                            Emilien S.
URL:https://tchoukballgeneve.ch/event/fete-du-sport-2024/
LOCATION:parc des Bastions\, Prom. des Bastions 1\, Genève\, 1205\, Suisse
CATEGORIES:Activités,Clubs,événement
ATTACH;FMTTYPE=image/webp:https://tchoukballgeneve.ch/wp-content/uploads/2024/08/Canva-calendrier.webp
END:VEVENT
BEGIN:VEVENT
DTSTART;VALUE=DATE:20240921
DTEND;VALUE=DATE:20240922
DTSTAMP:20260421T192520
CREATED:20240705T113835Z
LAST-MODIFIED:20250610T123527Z
UID:16564-1726876800-1726963199@tchoukballgeneve.ch
SUMMARY:1ère JOURNÉE DE Championnat Suisse junior M14\,M16\,M18\,M21
DESCRIPTION:Samedi 21 septembre a lieu la première journée du championnat suisse junior au Cycle de Cayla. \nLes inscriptions et les informations sont transmises par le/la coach. Si vous avez des questions merci de contactez le/la coach de votre adolescent/e.
URL:https://tchoukballgeneve.ch/event/championnat-suisse-junior-m1416m18m21/
LOCATION:Cycle de Cayla\, Chemin William Lescaze 8\, Genève\, 1203
CATEGORIES:Activités,Clubs,Tournois
ATTACH;FMTTYPE=image/webp:https://tchoukballgeneve.ch/wp-content/uploads/2024/07/1ere-3.webp
END:VEVENT
END:VCALENDAR