BEGIN:VCALENDAR
VERSION:2.0
PRODID:-//Association cantonale genevoise de tchoukball - ECPv6.15.20//NONSGML v1.0//EN
CALSCALE:GREGORIAN
METHOD:PUBLISH
X-ORIGINAL-URL:https://tchoukballgeneve.ch
X-WR-CALDESC:Évènements pour Association cantonale genevoise de tchoukball
REFRESH-INTERVAL;VALUE=DURATION:PT1H
X-Robots-Tag:noindex
X-PUBLISHED-TTL:PT1H
BEGIN:VTIMEZONE
TZID:Europe/Zurich
BEGIN:DAYLIGHT
TZOFFSETFROM:+0100
TZOFFSETTO:+0200
TZNAME:CEST
DTSTART:20230326T010000
END:DAYLIGHT
BEGIN:STANDARD
TZOFFSETFROM:+0200
TZOFFSETTO:+0100
TZNAME:CET
DTSTART:20231029T010000
END:STANDARD
BEGIN:DAYLIGHT
TZOFFSETFROM:+0100
TZOFFSETTO:+0200
TZNAME:CEST
DTSTART:20240331T010000
END:DAYLIGHT
BEGIN:STANDARD
TZOFFSETFROM:+0200
TZOFFSETTO:+0100
TZNAME:CET
DTSTART:20241027T010000
END:STANDARD
BEGIN:DAYLIGHT
TZOFFSETFROM:+0100
TZOFFSETTO:+0200
TZNAME:CEST
DTSTART:20250330T010000
END:DAYLIGHT
BEGIN:STANDARD
TZOFFSETFROM:+0200
TZOFFSETTO:+0100
TZNAME:CET
DTSTART:20251026T010000
END:STANDARD
END:VTIMEZONE
BEGIN:VEVENT
DTSTART;TZID=Europe/Zurich:20240729T080000
DTEND;TZID=Europe/Zurich:20240802T120000
DTSTAMP:20260421T205544
CREATED:20240206T103842Z
LAST-MODIFIED:20250610T122812Z
UID:15392-1722240000-1722600000@tchoukballgeneve.ch
SUMMARY:ECOLES DE SPORT ÉTÉ 2024
DESCRIPTION:Découverte et initiation au tchoukball tous les matins de 8h00 à 12h00 du 29 au 2 août 2024 au Centre sportif du Bois des Frères\, chemin de l’Ecu 22\, 1219 Vernier \nAGE\n8 – 13 ans \nHORAIRES\n– Acceuil de 8h à 8h30 \n– Départ de 11h30 à 12h \nAucune exigence particulière n’est requise pour la pratique de cette activité. \nTenue: t-shirt\, short/training\, baskets d’intérieur\, gourde\, \nPRIX\n65 CHF \nINSCRIPTIONS\nLes inscriptions s’effectue sur le site de la ville de Genève
URL:https://tchoukballgeneve.ch/event/ecoles-de-sport-ete-2024-2/
LOCATION:Centre sportif du Bois-des-Frères\, Chem. de l'Ecu 22\, Vernier\, 1219\, Suisse
CATEGORIES:Activités,Camp
ATTACH;FMTTYPE=image/webp:https://tchoukballgeneve.ch/wp-content/uploads/2024/02/t.webp
END:VEVENT
BEGIN:VEVENT
DTSTART;TZID=Europe/Zurich:20240805T080000
DTEND;TZID=Europe/Zurich:20240809T170000
DTSTAMP:20260421T205544
CREATED:20240206T134544Z
LAST-MODIFIED:20250610T122945Z
UID:15425-1722844800-1723222800@tchoukballgeneve.ch
SUMMARY:COMPLET – 8 À 14 ANS: CAMP D'août 2024 DE TCHOUKBALL
DESCRIPTION:Le camp d’août 2024 va se tenir au Centre sportif de la Queue-d’Arve\, Rue François-DUSSAUD 12 1227 Les Acacias du 5 au 9 août 2024 \nAGE\n8 – 14 ans \nHORAIRES\n8h – 17h \nPRIX\n350.- la semaine tout compris avec le transport\,  repas de midi et collations\, rabais pour les familles \n– 10% pour le 2ème enfant\, \n– 20% pour le 3ème enfant. \nINSCRIPTIONS\nL’inscription se fait via ce formulaire d’inscription \nPour s’assurer que l’inscription se fasse de manière correcte\, au bas de formulaire d’inscription il faut cliquer sur le bouton “valider” pour valider votre inscription\, puis reconfirmer une 2ème fois pour que l’inscription nous parvienne. \nVous pouvez savoir que nous avons correctement reçu votre inscription si vous recevez bien un\ne-mail de confirmation quelques minutes après avoir confirmé votre inscription. \nSi ce n’est pas le cas\, écrivez à sandrine.pfister@tchoukballgeneve.ch et nous restons toujours à votre disposition par e-mail ou téléphone au 022 796 67 66 en cas de questions. \nConditions d’annulations : \n(Annulable sans frais jusqu’au 22 juillet 2024\, si l’annulation intervient après le 22 juillet 2024\, un montant sera retenu en fonction des activités\, hébergement ou repas que nous n’aurons pas pu annuler) \nDirecteur du camp : \nCédric Vuagnat
URL:https://tchoukballgeneve.ch/event/8-a-14-ans-camp-daout-2024-de-tchoukball/
LOCATION:Centre sportif de la Queue d’Arve\, Rue François-Dussaud 12\, Les Acacias\, 1227\, Suisse
CATEGORIES:Activités,Camp
ATTACH;FMTTYPE=image/jpeg:https://tchoukballgeneve.ch/wp-content/uploads/2024/02/12-16-aout-1-1.jpg
END:VEVENT
BEGIN:VEVENT
DTSTART;TZID=Europe/Zurich:20240812T080000
DTEND;TZID=Europe/Zurich:20240816T170000
DTSTAMP:20260421T205544
CREATED:20240206T140326Z
LAST-MODIFIED:20250610T122958Z
UID:15443-1723449600-1723827600@tchoukballgeneve.ch
SUMMARY:Complet - 8 À 14 ANS: CAMP D’AOÛT 2024 DE TCHOUKBALL
DESCRIPTION:Le 2ème camp d’août 2024 va se tenir au Centre sportif de la Queue-d’Arve\, Rue François-DUSSAUD 12 1227 Les Acacias du 12 au 16 août 2024 \nAGE\n8 – 14 ans \nHORAIRES\n8h – 17h \nPRIX\n350.- la semaine tout compris avec le transport\,  repas de midi et collations\, rabais pour les familles \n– 10% pour le 2ème enfant\, \n– 20% pour le 3ème enfant. \nINSCRIPTIONS\nL’inscription se fait via ce formulaire d’inscription \nPour s’assurer que l’inscription se fasse de manière correcte\, au bas de formulaire d’inscription il faut cliquer sur le bouton “valider” pour valider votre inscription\, puis reconfirmer une 2ème fois pour que l’inscription nous parvienne. \nVous pouvez savoir que nous avons correctement reçu votre inscription si vous recevez bien un e-mail de confirmation quelques minutes après avoir confirmé votre inscription. \nSi ce n’est pas le cas\, écrivez à sandrine.pfister@tchoukballgeneve.ch et nous restons toujours à votre disposition par e-mail ou téléphone au 022 796 67 66 en cas de questions. \nConditions d’annulations : \n(Annulable sans frais jusqu’au 29 juillet 2024\, si l’annulation intervient après le 29 juillet 2024\, un montant sera retenu en fonction des activités\, hébergement ou repas que nous n’aurons pas pu annuler) \nDirecteur du camp : \nUnai Correa
URL:https://tchoukballgeneve.ch/event/7-a-14-ans-camp-daout-2024-de-tchoukball/
LOCATION:Centre sportif de la Queue d’Arve\, Rue François-Dussaud 12\, Les Acacias\, 1227\, Suisse
CATEGORIES:Activités,Camp
ATTACH;FMTTYPE=image/jpeg:https://tchoukballgeneve.ch/wp-content/uploads/2024/02/12-16-aout-1-1.jpg
END:VEVENT
END:VCALENDAR