BEGIN:VCALENDAR
VERSION:2.0
PRODID:-//Association cantonale genevoise de tchoukball - ECPv6.15.20//NONSGML v1.0//EN
CALSCALE:GREGORIAN
METHOD:PUBLISH
X-WR-CALNAME:Association cantonale genevoise de tchoukball
X-ORIGINAL-URL:https://tchoukballgeneve.ch
X-WR-CALDESC:Évènements pour Association cantonale genevoise de tchoukball
REFRESH-INTERVAL;VALUE=DURATION:PT1H
X-Robots-Tag:noindex
X-PUBLISHED-TTL:PT1H
BEGIN:VTIMEZONE
TZID:Europe/Zurich
BEGIN:DAYLIGHT
TZOFFSETFROM:+0100
TZOFFSETTO:+0200
TZNAME:CEST
DTSTART:20210328T010000
END:DAYLIGHT
BEGIN:STANDARD
TZOFFSETFROM:+0200
TZOFFSETTO:+0100
TZNAME:CET
DTSTART:20211031T010000
END:STANDARD
BEGIN:DAYLIGHT
TZOFFSETFROM:+0100
TZOFFSETTO:+0200
TZNAME:CEST
DTSTART:20220327T010000
END:DAYLIGHT
BEGIN:STANDARD
TZOFFSETFROM:+0200
TZOFFSETTO:+0100
TZNAME:CET
DTSTART:20221030T010000
END:STANDARD
BEGIN:DAYLIGHT
TZOFFSETFROM:+0100
TZOFFSETTO:+0200
TZNAME:CEST
DTSTART:20230326T010000
END:DAYLIGHT
BEGIN:STANDARD
TZOFFSETFROM:+0200
TZOFFSETTO:+0100
TZNAME:CET
DTSTART:20231029T010000
END:STANDARD
END:VTIMEZONE
BEGIN:VEVENT
DTSTART;TZID=Europe/Zurich:20220924T090000
DTEND;TZID=Europe/Zurich:20220924T170000
DTSTAMP:20260424T184159
CREATED:20220912T115144Z
LAST-MODIFIED:20250606T132136Z
UID:10757-1664010000-1664038800@tchoukballgeneve.ch
SUMMARY:T-Day du CRTG – 24 septembre 2022
DESCRIPTION:T-Day \nLors de la journée du samedi 24 septembre 2022\, le Centre de la Relève du Tchoukball Genevois organise le premier\nT-Day de la saison. \nLe « T-Day » (Testing day) est une journée de tests qui permet aux jeunes joueurs et joueuses de tchoukball motivés dès l’âge de 12 ans de mesurer ses compétences en condition physique et en technique de tchoukball. \nC’est une journée ouverte à toutes les joueuses et tous les joueurs membre d’un club de tchoukball du canton de Genève et passionné par le sport ! \nPour plus d’information sur le déroulement des T-Day de l’année passée\, nous vous invitons à lire cette news \nLes tests de la journée du 24 septembre se dérouleront de 9h à ~17h (selon le nombre d’inscription). \nLes inscrits recevront un horaire précis. \nLien d’inscription \nPlus d’infos sur notre site
URL:https://tchoukballgeneve.ch/event/t-day-du-crtg-24-septembre-2022/
LOCATION:Cycle de Cayla\, Chemin William Lescaze 8\, Genève\, 1203
CATEGORIES:Activités,CRTG
ATTACH;FMTTYPE=image/webp:https://tchoukballgeneve.ch/wp-content/uploads/2022/09/news-pour-le-crtg-1.webp
END:VEVENT
END:VCALENDAR